Back to Multiple platform build/check report for BioC 3.14
A[B]CDEFGHIJKLMNOPQRSTUVWXYZ

This page was generated on 2021-10-26 14:06:53 -0400 (Tue, 26 Oct 2021).

INSTALL results for BindingSiteFinder on riesling1

To the developers/maintainers of the BindingSiteFinder package:
- Please allow up to 24 hours (and sometimes 48 hours) for your latest push to git@git.bioconductor.org:packages/BindingSiteFinder.git to
reflect on this report. See How and When does the builder pull? When will my changes propagate? here for more information.
- Make sure to use the following settings in order to reproduce any error or warning you see on this page.

raw results

Package 150/2083HostnameOS / ArchINSTALLBUILDCHECKBUILD BIN
BindingSiteFinder 0.99.10  (landing page)
Mirko Br├╝ggemann
Snapshot Date: 2021-10-25 14:50:11 -0400 (Mon, 25 Oct 2021)
git_url: https://git.bioconductor.org/packages/BindingSiteFinder
git_branch: master
git_last_commit: 160bbbf
git_last_commit_date: 2021-10-05 08:56:33 -0400 (Tue, 05 Oct 2021)
nebbiolo2Linux (Ubuntu 20.04.2 LTS) / x86_64  OK    OK    OK  UNNEEDED, same version is already published
riesling1Windows Server 2019 Standard / x64  OK    OK    OK    OK  UNNEEDED, same version is already published
merida1macOS 10.14.6 Mojave / x86_64  OK    OK    OK    OK  UNNEEDED, same version is already published
machv2macOS 10.14.6 Mojave / x86_64  OK    OK    OK    OK  

Summary

Package: BindingSiteFinder
Version: 0.99.10
Command: C:\cygwin\bin\curl.exe -O http://155.52.207.166/BBS/3.14/bioc/src/contrib/BindingSiteFinder_0.99.10.tar.gz && rm -rf BindingSiteFinder.buildbin-libdir && mkdir BindingSiteFinder.buildbin-libdir && D:\biocbuild\bbs-3.14-bioc\R\bin\R.exe CMD INSTALL --merge-multiarch --build --library=BindingSiteFinder.buildbin-libdir BindingSiteFinder_0.99.10.tar.gz && D:\biocbuild\bbs-3.14-bioc\R\bin\R.exe CMD INSTALL BindingSiteFinder_0.99.10.zip && rm BindingSiteFinder_0.99.10.tar.gz BindingSiteFinder_0.99.10.zip
StartedAt: 2021-10-25 18:40:44 -0400 (Mon, 25 Oct 2021)
EndedAt: 2021-10-25 18:43:43 -0400 (Mon, 25 Oct 2021)
EllapsedTime: 179.2 seconds
RetCode: 0
Status:   OK  

Command output

##############################################################################
##############################################################################
###
### Running command:
###
###   C:\cygwin\bin\curl.exe -O http://155.52.207.166/BBS/3.14/bioc/src/contrib/BindingSiteFinder_0.99.10.tar.gz && rm -rf BindingSiteFinder.buildbin-libdir && mkdir BindingSiteFinder.buildbin-libdir && D:\biocbuild\bbs-3.14-bioc\R\bin\R.exe CMD INSTALL --merge-multiarch --build --library=BindingSiteFinder.buildbin-libdir BindingSiteFinder_0.99.10.tar.gz && D:\biocbuild\bbs-3.14-bioc\R\bin\R.exe CMD INSTALL BindingSiteFinder_0.99.10.zip && rm BindingSiteFinder_0.99.10.tar.gz BindingSiteFinder_0.99.10.zip
###
##############################################################################
##############################################################################


  % Total    % Received % Xferd  Average Speed   Time    Time     Time  Current
                                 Dload  Upload   Total   Spent    Left  Speed

  0     0    0     0    0     0      0      0 --:--:-- --:--:-- --:--:--     0
100 2032k  100 2032k    0     0  2924k      0 --:--:-- --:--:-- --:--:-- 2924k

install for i386

* installing *source* package 'BindingSiteFinder' ...
** using staged installation
** R
** inst
** byte-compile and prepare package for lazy loading
** help
*** installing help indices
  converting help for package 'BindingSiteFinder'
    finding HTML links ... done
    BSFDataSet                              html  
    annotateWithScore                       html  
    coverageOverRanges                      html  
    getMeta                                 html  
    getRanges                               html  
    getSignal                               html  
    getSummary                              html  
    makeBindingSites                        html  
    mergeSummaryPlot                        html  
    rangeCoveragePlot                       html  
    reproducibilityFilter                   html  
    reproducibiliyCutoffPlot                html  
    setRanges                               html  
    setSignal                               html  
    setSummary                              html  
    show                                    html  
    supportRatio                            html  
    supportRatioPlot                        html  
** building package indices
** installing vignettes
** testing if installed package can be loaded from temporary location
** testing if installed package can be loaded from final location
** testing if installed package keeps a record of temporary installation path

install for x64

* installing *source* package 'BindingSiteFinder' ...
** testing if installed package can be loaded
* MD5 sums
packaged installation of 'BindingSiteFinder' as BindingSiteFinder_0.99.10.zip
* DONE (BindingSiteFinder)
* installing to library 'D:/biocbuild/bbs-3.14-bioc/R/library'
package 'BindingSiteFinder' successfully unpacked and MD5 sums checked