Back to Multiple platform build/check report for BioC 3.14
A[B]CDEFGHIJKLMNOPQRSTUVWXYZ

This page was generated on 2021-10-20 12:05:01 -0400 (Wed, 20 Oct 2021).

CHECK results for BindingSiteFinder on riesling1

To the developers/maintainers of the BindingSiteFinder package:
- Please allow up to 24 hours (and sometimes 48 hours) for your latest push to git@git.bioconductor.org:packages/BindingSiteFinder.git to
reflect on this report. See How and When does the builder pull? When will my changes propagate? here for more information.
- Make sure to use the following settings in order to reproduce any error or warning you see on this page.

raw results

Package 150/2072HostnameOS / ArchINSTALLBUILDCHECKBUILD BIN
BindingSiteFinder 0.99.10  (landing page)
Mirko Br├╝ggemann
Snapshot Date: 2021-10-19 14:50:04 -0400 (Tue, 19 Oct 2021)
git_url: https://git.bioconductor.org/packages/BindingSiteFinder
git_branch: master
git_last_commit: 160bbbf
git_last_commit_date: 2021-10-05 08:56:33 -0400 (Tue, 05 Oct 2021)
nebbiolo2Linux (Ubuntu 20.04.2 LTS) / x86_64  OK    OK    OK  UNNEEDED, same version is already published
riesling1Windows Server 2019 Standard / x64  OK    OK    OK    OK  UNNEEDED, same version is already published
merida1macOS 10.14.6 Mojave / x86_64  OK    OK    OK    OK  UNNEEDED, same version is already published

Summary

Package: BindingSiteFinder
Version: 0.99.10
Command: D:\biocbuild\bbs-3.14-bioc\R\bin\R.exe CMD check --force-multiarch --install=check:BindingSiteFinder.install-out.txt --library=D:\biocbuild\bbs-3.14-bioc\R\library --no-vignettes --timings BindingSiteFinder_0.99.10.tar.gz
StartedAt: 2021-10-20 00:19:57 -0400 (Wed, 20 Oct 2021)
EndedAt: 2021-10-20 00:25:41 -0400 (Wed, 20 Oct 2021)
EllapsedTime: 344.1 seconds
RetCode: 0
Status:   OK  
CheckDir: BindingSiteFinder.Rcheck
Warnings: 0

Command output

##############################################################################
##############################################################################
###
### Running command:
###
###   D:\biocbuild\bbs-3.14-bioc\R\bin\R.exe CMD check --force-multiarch --install=check:BindingSiteFinder.install-out.txt --library=D:\biocbuild\bbs-3.14-bioc\R\library --no-vignettes --timings BindingSiteFinder_0.99.10.tar.gz
###
##############################################################################
##############################################################################


* using log directory 'D:/biocbuild/bbs-3.14-bioc/meat/BindingSiteFinder.Rcheck'
* using R version 4.1.1 (2021-08-10)
* using platform: x86_64-w64-mingw32 (64-bit)
* using session charset: ISO8859-1
* using option '--no-vignettes'
* checking for file 'BindingSiteFinder/DESCRIPTION' ... OK
* checking extension type ... Package
* this is package 'BindingSiteFinder' version '0.99.10'
* package encoding: UTF-8
* checking package namespace information ... OK
* checking package dependencies ... OK
* checking if this is a source package ... OK
* checking if there is a namespace ... OK
* checking for hidden files and directories ... OK
* checking for portable file names ... OK
* checking whether package 'BindingSiteFinder' can be installed ... OK
* checking installed package size ... OK
* checking package directory ... OK
* checking 'build' directory ... OK
* checking DESCRIPTION meta-information ... OK
* checking top-level files ... OK
* checking for left-over files ... OK
* checking index information ... OK
* checking package subdirectories ... OK
* checking R files for non-ASCII characters ... OK
* checking R files for syntax errors ... OK
* loading checks for arch 'i386'
** checking whether the package can be loaded ... OK
** checking whether the package can be loaded with stated dependencies ... OK
** checking whether the package can be unloaded cleanly ... OK
** checking whether the namespace can be loaded with stated dependencies ... OK
** checking whether the namespace can be unloaded cleanly ... OK
* loading checks for arch 'x64'
** checking whether the package can be loaded ... OK
** checking whether the package can be loaded with stated dependencies ... OK
** checking whether the package can be unloaded cleanly ... OK
** checking whether the namespace can be loaded with stated dependencies ... OK
** checking whether the namespace can be unloaded cleanly ... OK
* checking dependencies in R code ... OK
* checking S3 generic/method consistency ... OK
* checking replacement functions ... OK
* checking foreign function calls ... OK
* checking R code for possible problems ... OK
* checking Rd files ... OK
* checking Rd metadata ... OK
* checking Rd cross-references ... OK
* checking for missing documentation entries ... OK
* checking for code/documentation mismatches ... OK
* checking Rd \usage sections ... OK
* checking Rd contents ... OK
* checking for unstated dependencies in examples ... OK
* checking files in 'vignettes' ... OK
* checking examples ...
** running examples for arch 'i386' ... OK
Examples with CPU (user + system) or elapsed time > 5s
                  user system elapsed
rangeCoveragePlot 6.93   0.23    7.17
mergeSummaryPlot  5.96   0.23    6.19
** running examples for arch 'x64' ... OK
Examples with CPU (user + system) or elapsed time > 5s
                  user system elapsed
rangeCoveragePlot 5.60   0.12    5.72
mergeSummaryPlot  5.07   0.14    5.22
* checking for unstated dependencies in 'tests' ... OK
* checking tests ...
** running tests for arch 'i386' ...
  Running 'testthat.R'
 OK
** running tests for arch 'x64' ...
  Running 'testthat.R'
 OK
* checking for unstated dependencies in vignettes ... OK
* checking package vignettes in 'inst/doc' ... OK
* checking running R code from vignettes ... SKIPPED
* checking re-building of vignette outputs ... SKIPPED
* checking PDF version of manual ... OK
* DONE

Status: OK


Installation output

BindingSiteFinder.Rcheck/00install.out

##############################################################################
##############################################################################
###
### Running command:
###
###   C:\cygwin\bin\curl.exe -O http://155.52.207.166/BBS/3.14/bioc/src/contrib/BindingSiteFinder_0.99.10.tar.gz && rm -rf BindingSiteFinder.buildbin-libdir && mkdir BindingSiteFinder.buildbin-libdir && D:\biocbuild\bbs-3.14-bioc\R\bin\R.exe CMD INSTALL --merge-multiarch --build --library=BindingSiteFinder.buildbin-libdir BindingSiteFinder_0.99.10.tar.gz && D:\biocbuild\bbs-3.14-bioc\R\bin\R.exe CMD INSTALL BindingSiteFinder_0.99.10.zip && rm BindingSiteFinder_0.99.10.tar.gz BindingSiteFinder_0.99.10.zip
###
##############################################################################
##############################################################################


  % Total    % Received % Xferd  Average Speed   Time    Time     Time  Current
                                 Dload  Upload   Total   Spent    Left  Speed

  0     0    0     0    0     0      0      0 --:--:-- --:--:-- --:--:--     0
  0     0    0     0    0     0      0      0 --:--:-- --:--:-- --:--:--     0
100 2032k  100 2032k    0     0  2747k      0 --:--:-- --:--:-- --:--:-- 2743k

install for i386

* installing *source* package 'BindingSiteFinder' ...
** using staged installation
** R
** inst
** byte-compile and prepare package for lazy loading
** help
*** installing help indices
  converting help for package 'BindingSiteFinder'
    finding HTML links ... done
    BSFDataSet                              html  
    annotateWithScore                       html  
    coverageOverRanges                      html  
    getMeta                                 html  
    getRanges                               html  
    getSignal                               html  
    getSummary                              html  
    makeBindingSites                        html  
    mergeSummaryPlot                        html  
    rangeCoveragePlot                       html  
    reproducibilityFilter                   html  
    reproducibiliyCutoffPlot                html  
    setRanges                               html  
    setSignal                               html  
    setSummary                              html  
    show                                    html  
    supportRatio                            html  
    supportRatioPlot                        html  
** building package indices
** installing vignettes
** testing if installed package can be loaded from temporary location
** testing if installed package can be loaded from final location
** testing if installed package keeps a record of temporary installation path

install for x64

* installing *source* package 'BindingSiteFinder' ...
** testing if installed package can be loaded
* MD5 sums
packaged installation of 'BindingSiteFinder' as BindingSiteFinder_0.99.10.zip
* DONE (BindingSiteFinder)
* installing to library 'D:/biocbuild/bbs-3.14-bioc/R/library'
package 'BindingSiteFinder' successfully unpacked and MD5 sums checked

Tests output

BindingSiteFinder.Rcheck/tests_i386/testthat.Rout


R version 4.1.1 (2021-08-10) -- "Kick Things"
Copyright (C) 2021 The R Foundation for Statistical Computing
Platform: i386-w64-mingw32/i386 (32-bit)

R is free software and comes with ABSOLUTELY NO WARRANTY.
You are welcome to redistribute it under certain conditions.
Type 'license()' or 'licence()' for distribution details.

R is a collaborative project with many contributors.
Type 'contributors()' for more information and
'citation()' on how to cite R or R packages in publications.

Type 'demo()' for some demos, 'help()' for on-line help, or
'help.start()' for an HTML browser interface to help.
Type 'q()' to quit R.

> library("testthat")
> library("BindingSiteFinder")
Loading required package: GenomicRanges
Loading required package: stats4
Loading required package: BiocGenerics

Attaching package: 'BiocGenerics'

The following objects are masked from 'package:stats':

    IQR, mad, sd, var, xtabs

The following objects are masked from 'package:base':

    Filter, Find, Map, Position, Reduce, anyDuplicated, append,
    as.data.frame, basename, cbind, colnames, dirname, do.call,
    duplicated, eval, evalq, get, grep, grepl, intersect, is.unsorted,
    lapply, mapply, match, mget, order, paste, pmax, pmax.int, pmin,
    pmin.int, rank, rbind, rownames, sapply, setdiff, sort, table,
    tapply, union, unique, unsplit, which.max, which.min

Loading required package: S4Vectors

Attaching package: 'S4Vectors'

The following objects are masked from 'package:base':

    I, expand.grid, unname

Loading required package: IRanges

Attaching package: 'IRanges'

The following object is masked from 'package:grDevices':

    windows

Loading required package: GenomeInfoDb
> test_check("BindingSiteFinder")
[ FAIL 0 | WARN 8 | SKIP 0 | PASS 38 ]
> 
> proc.time()
   user  system elapsed 
  26.39    1.00   27.37 

BindingSiteFinder.Rcheck/tests_x64/testthat.Rout


R version 4.1.1 (2021-08-10) -- "Kick Things"
Copyright (C) 2021 The R Foundation for Statistical Computing
Platform: x86_64-w64-mingw32/x64 (64-bit)

R is free software and comes with ABSOLUTELY NO WARRANTY.
You are welcome to redistribute it under certain conditions.
Type 'license()' or 'licence()' for distribution details.

R is a collaborative project with many contributors.
Type 'contributors()' for more information and
'citation()' on how to cite R or R packages in publications.

Type 'demo()' for some demos, 'help()' for on-line help, or
'help.start()' for an HTML browser interface to help.
Type 'q()' to quit R.

> library("testthat")
> library("BindingSiteFinder")
Loading required package: GenomicRanges
Loading required package: stats4
Loading required package: BiocGenerics

Attaching package: 'BiocGenerics'

The following objects are masked from 'package:stats':

    IQR, mad, sd, var, xtabs

The following objects are masked from 'package:base':

    Filter, Find, Map, Position, Reduce, anyDuplicated, append,
    as.data.frame, basename, cbind, colnames, dirname, do.call,
    duplicated, eval, evalq, get, grep, grepl, intersect, is.unsorted,
    lapply, mapply, match, mget, order, paste, pmax, pmax.int, pmin,
    pmin.int, rank, rbind, rownames, sapply, setdiff, sort, table,
    tapply, union, unique, unsplit, which.max, which.min

Loading required package: S4Vectors

Attaching package: 'S4Vectors'

The following objects are masked from 'package:base':

    I, expand.grid, unname

Loading required package: IRanges

Attaching package: 'IRanges'

The following object is masked from 'package:grDevices':

    windows

Loading required package: GenomeInfoDb
> test_check("BindingSiteFinder")
[ FAIL 0 | WARN 8 | SKIP 0 | PASS 38 ]
> 
> proc.time()
   user  system elapsed 
  27.04    0.84   27.87 

Example timings

BindingSiteFinder.Rcheck/examples_i386/BindingSiteFinder-Ex.timings

nameusersystemelapsed
BSFDataSet0.620.000.63
annotateWithScore000
coverageOverRanges1.330.031.36
getMeta0.100.000.09
getRanges0.100.000.11
getSignal0.130.000.13
getSummary2.310.092.40
makeBindingSites4.390.104.49
mergeSummaryPlot5.960.236.19
rangeCoveragePlot6.930.237.17
reproducibilityFilter3.390.213.67
reproducibiliyCutoffPlot3.250.043.30
setRanges0.080.000.07
setSignal0.060.000.07
setSummary0.060.000.06
show0.030.040.07
supportRatio4.290.124.40
supportRatioPlot3.640.063.71

BindingSiteFinder.Rcheck/examples_x64/BindingSiteFinder-Ex.timings

nameusersystemelapsed
BSFDataSet0.120.000.13
annotateWithScore000
coverageOverRanges1.300.031.33
getMeta0.060.000.06
getRanges0.080.000.08
getSignal0.060.010.08
getSummary1.860.242.09
makeBindingSites3.660.083.73
mergeSummaryPlot5.070.145.22
rangeCoveragePlot5.600.125.72
reproducibilityFilter2.700.112.81
reproducibiliyCutoffPlot3.140.063.21
setRanges0.060.000.06
setSignal0.050.020.06
setSummary0.050.010.06
show0.030.020.05
supportRatio3.830.143.97
supportRatioPlot3.450.133.58