Back to Multiple platform build/check report for BioC 3.14
A[B]CDEFGHIJKLMNOPQRSTUVWXYZ

This page was generated on 2021-10-18 12:03:59 -0400 (Mon, 18 Oct 2021).

BUILD BIN results for BindingSiteFinder on riesling1

To the developers/maintainers of the BindingSiteFinder package:
- Please allow up to 24 hours (and sometimes 48 hours) for your latest push to git@git.bioconductor.org:packages/BindingSiteFinder.git to
reflect on this report. See How and When does the builder pull? When will my changes propagate? here for more information.
- Make sure to use the following settings in order to reproduce any error or warning you see on this page.

raw results

Package 149/2060HostnameOS / ArchINSTALLBUILDCHECKBUILD BIN
BindingSiteFinder 0.99.10  (landing page)
Mirko Br├╝ggemann
Snapshot Date: 2021-10-17 14:50:03 -0400 (Sun, 17 Oct 2021)
git_url: https://git.bioconductor.org/packages/BindingSiteFinder
git_branch: master
git_last_commit: 160bbbf
git_last_commit_date: 2021-10-05 08:56:33 -0400 (Tue, 05 Oct 2021)
nebbiolo2Linux (Ubuntu 20.04.2 LTS) / x86_64  OK    OK    OK  UNNEEDED, same version is already published
riesling1Windows Server 2019 Standard / x64  OK    OK    OK    OK  UNNEEDED, same version is already published
merida1macOS 10.14.6 Mojave / x86_64  OK    OK    OK    OK  UNNEEDED, same version is already published

Summary

Package: BindingSiteFinder
Version: 0.99.10
Command: rm -rf BindingSiteFinder.buildbin-libdir && mkdir BindingSiteFinder.buildbin-libdir && D:\biocbuild\bbs-3.14-bioc\R\bin\R.exe CMD INSTALL --merge-multiarch --build --library=BindingSiteFinder.buildbin-libdir BindingSiteFinder_0.99.10.tar.gz
StartedAt: 2021-10-18 04:22:36 -0400 (Mon, 18 Oct 2021)
EndedAt: 2021-10-18 04:26:30 -0400 (Mon, 18 Oct 2021)
EllapsedTime: 234.2 seconds
RetCode: 0
Status:   OK  
PackageFile: BindingSiteFinder_0.99.10.zip
PackageFileSize: 2.734 MiB

Command output

##############################################################################
##############################################################################
###
### Running command:
###
###   rm -rf BindingSiteFinder.buildbin-libdir && mkdir BindingSiteFinder.buildbin-libdir && D:\biocbuild\bbs-3.14-bioc\R\bin\R.exe CMD INSTALL --merge-multiarch --build --library=BindingSiteFinder.buildbin-libdir BindingSiteFinder_0.99.10.tar.gz
###
##############################################################################
##############################################################################



install for i386

* installing *source* package 'BindingSiteFinder' ...
** using staged installation
** R
** inst
** byte-compile and prepare package for lazy loading
** help
*** installing help indices
  converting help for package 'BindingSiteFinder'
    finding HTML links ... done
    BSFDataSet                              html  
    annotateWithScore                       html  
    coverageOverRanges                      html  
    getMeta                                 html  
    getRanges                               html  
    getSignal                               html  
    getSummary                              html  
    makeBindingSites                        html  
    mergeSummaryPlot                        html  
    rangeCoveragePlot                       html  
    reproducibilityFilter                   html  
    reproducibiliyCutoffPlot                html  
    setRanges                               html  
    setSignal                               html  
    setSummary                              html  
    show                                    html  
    supportRatio                            html  
    supportRatioPlot                        html  
** building package indices
** installing vignettes
** testing if installed package can be loaded from temporary location
** testing if installed package can be loaded from final location
** testing if installed package keeps a record of temporary installation path

install for x64

* installing *source* package 'BindingSiteFinder' ...
** testing if installed package can be loaded
* MD5 sums
packaged installation of 'BindingSiteFinder' as BindingSiteFinder_0.99.10.zip
* DONE (BindingSiteFinder)