Back to Multiple platform build/check report for BioC 3.14
A[B]CDEFGHIJKLMNOPQRSTUVWXYZ

This page was generated on 2021-10-18 12:03:59 -0400 (Mon, 18 Oct 2021).

CHECK results for BicARE on riesling1

To the developers/maintainers of the BicARE package:
- Please allow up to 24 hours (and sometimes 48 hours) for your latest push to git@git.bioconductor.org:packages/BicARE.git to
reflect on this report. See How and When does the builder pull? When will my changes propagate? here for more information.
- Make sure to use the following settings in order to reproduce any error or warning you see on this page.

raw results

Package 144/2060HostnameOS / ArchINSTALLBUILDCHECKBUILD BIN
BicARE 1.51.0  (landing page)
Pierre Gestraud
Snapshot Date: 2021-10-17 14:50:03 -0400 (Sun, 17 Oct 2021)
git_url: https://git.bioconductor.org/packages/BicARE
git_branch: master
git_last_commit: 9d2f51c
git_last_commit_date: 2021-05-19 11:42:14 -0400 (Wed, 19 May 2021)
nebbiolo2Linux (Ubuntu 20.04.2 LTS) / x86_64  OK    OK    OK  UNNEEDED, same version is already published
riesling1Windows Server 2019 Standard / x64  OK    OK    OK    OK  UNNEEDED, same version is already published
merida1macOS 10.14.6 Mojave / x86_64  OK    OK    OK    OK  UNNEEDED, same version is already published

Summary

Package: BicARE
Version: 1.51.0
Command: D:\biocbuild\bbs-3.14-bioc\R\bin\R.exe CMD check --force-multiarch --install=check:BicARE.install-out.txt --library=D:\biocbuild\bbs-3.14-bioc\R\library --no-vignettes --timings BicARE_1.51.0.tar.gz
StartedAt: 2021-10-17 23:58:51 -0400 (Sun, 17 Oct 2021)
EndedAt: 2021-10-18 00:10:48 -0400 (Mon, 18 Oct 2021)
EllapsedTime: 717.8 seconds
RetCode: 0
Status:   OK  
CheckDir: BicARE.Rcheck
Warnings: 0

Command output

##############################################################################
##############################################################################
###
### Running command:
###
###   D:\biocbuild\bbs-3.14-bioc\R\bin\R.exe CMD check --force-multiarch --install=check:BicARE.install-out.txt --library=D:\biocbuild\bbs-3.14-bioc\R\library --no-vignettes --timings BicARE_1.51.0.tar.gz
###
##############################################################################
##############################################################################


* using log directory 'D:/biocbuild/bbs-3.14-bioc/meat/BicARE.Rcheck'
* using R version 4.1.1 (2021-08-10)
* using platform: x86_64-w64-mingw32 (64-bit)
* using session charset: ISO8859-1
* using option '--no-vignettes'
* checking for file 'BicARE/DESCRIPTION' ... OK
* this is package 'BicARE' version '1.51.0'
* checking package namespace information ... OK
* checking package dependencies ... OK
* checking if this is a source package ... OK
* checking if there is a namespace ... OK
* checking for hidden files and directories ... OK
* checking for portable file names ... OK
* checking whether package 'BicARE' can be installed ... OK
* checking installed package size ... OK
* checking package directory ... OK
* checking 'build' directory ... OK
* checking DESCRIPTION meta-information ... NOTE
Malformed Description field: should contain one or more complete sentences.
* checking top-level files ... OK
* checking for left-over files ... OK
* checking index information ... OK
* checking package subdirectories ... OK
* checking R files for non-ASCII characters ... OK
* checking R files for syntax errors ... OK
* loading checks for arch 'i386'
** checking whether the package can be loaded ... OK
** checking whether the package can be loaded with stated dependencies ... OK
** checking whether the package can be unloaded cleanly ... OK
** checking whether the namespace can be loaded with stated dependencies ... OK
** checking whether the namespace can be unloaded cleanly ... OK
* loading checks for arch 'x64'
** checking whether the package can be loaded ... OK
** checking whether the package can be loaded with stated dependencies ... OK
** checking whether the package can be unloaded cleanly ... OK
** checking whether the namespace can be loaded with stated dependencies ... OK
** checking whether the namespace can be unloaded cleanly ... OK
* checking dependencies in R code ... NOTE
Packages in Depends field not imported from:
  'Biobase' 'GSEABase' 'multtest'
  These packages need to be imported from (in the NAMESPACE file)
  for when this namespace is loaded but not attached.
* checking S3 generic/method consistency ... OK
* checking replacement functions ... OK
* checking foreign function calls ... OK
* checking R code for possible problems ... NOTE
FLOC: no visible global function definition for 'new'
FLOC: no visible global function definition for 'exprs'
FLOC: no visible global function definition for 'runif'
FLOC: no visible binding for global variable 'var'
bicluster: no visible global function definition for 'exprs'
bicluster: no visible global function definition for 'featureNames'
bicluster: no visible global function definition for 'sampleNames'
makeReport: no visible global function definition for 'annotation'
makeReport: no visible global function definition for 'png'
makeReport: no visible global function definition for 'dev.off'
makeReport: no visible global function definition for 'getSYMBOL'
makeReport: no visible global function definition for 'setName'
makeReport: no visible global function definition for 'browseURL'
plot.bicluster: no visible global function definition for 'par'
plot.bicluster: no visible global function definition for 'matplot'
plot.bicluster: no visible global function definition for 'axis'
residue: no visible global function definition for 'new'
residue: no visible global function definition for 'exprs'
testAnnot: no visible global function definition for 'pData'
testAnnot: no visible global function definition for 'phenoData'
testAnnot: no visible global function definition for 'chisq.test'
testAnnot: no visible global function definition for 'mt.rawp2adjp'
testSet: no visible global function definition for 'exprs'
testSet: no visible global function definition for 'GeneSet'
testSet: no visible global function definition for 'geneIdType'
testSet: no visible global function definition for 'geneIds'
testSet: no visible global function definition for 'mapIdentifiers'
testSet: no visible global function definition for 'phyper'
testSet: no visible global function definition for 'mt.rawp2adjp'
Undefined global functions or variables:
  GeneSet annotation axis browseURL chisq.test dev.off exprs
  featureNames geneIdType geneIds getSYMBOL mapIdentifiers matplot
  mt.rawp2adjp new pData par phenoData phyper png runif sampleNames
  setName var
Consider adding
  importFrom("grDevices", "dev.off", "png")
  importFrom("graphics", "axis", "matplot", "par")
  importFrom("methods", "new")
  importFrom("stats", "chisq.test", "phyper", "runif", "var")
  importFrom("utils", "browseURL")
to your NAMESPACE file (and ensure that your DESCRIPTION Imports field
contains 'methods').
* checking Rd files ... OK
* checking Rd metadata ... OK
* checking Rd cross-references ... OK
* checking for missing documentation entries ... OK
* checking for code/documentation mismatches ... OK
* checking Rd \usage sections ... OK
* checking Rd contents ... OK
* checking for unstated dependencies in examples ... OK
* checking contents of 'data' directory ... OK
* checking data for non-ASCII characters ... OK
* checking data for ASCII and uncompressed saves ... OK
* checking line endings in C/C++/Fortran sources/headers ... OK
* checking compiled code ... NOTE
Note: information on .o files for i386 is not available
Note: information on .o files for x64 is not available
File 'D:/biocbuild/bbs-3.14-bioc/R/library/BicARE/libs/i386/BicARE.dll':
  Found 'abort', possibly from 'abort' (C), 'runtime' (Fortran)
  Found 'printf', possibly from 'printf' (C)
File 'D:/biocbuild/bbs-3.14-bioc/R/library/BicARE/libs/x64/BicARE.dll':
  Found 'abort', possibly from 'abort' (C), 'runtime' (Fortran)
  Found 'printf', possibly from 'printf' (C)

Compiled code should not call entry points which might terminate R nor
write to stdout/stderr instead of to the console, nor use Fortran I/O
nor system RNGs. The detected symbols are linked into the code but
might come from libraries and not actually be called.

See 'Writing portable packages' in the 'Writing R Extensions' manual.
* checking files in 'vignettes' ... OK
* checking examples ...
** running examples for arch 'i386' ... OK
Examples with CPU (user + system) or elapsed time > 5s
          user system elapsed
testSet 229.72   0.21  229.92
FLOC     19.12   0.00   19.13
** running examples for arch 'x64' ... OK
Examples with CPU (user + system) or elapsed time > 5s
          user system elapsed
testSet 226.30   0.34  226.64
FLOC     16.63   0.00   16.63
* checking for unstated dependencies in vignettes ... OK
* checking package vignettes in 'inst/doc' ... OK
* checking running R code from vignettes ... SKIPPED
* checking re-building of vignette outputs ... SKIPPED
* checking PDF version of manual ... OK
* DONE

Status: 4 NOTEs
See
  'D:/biocbuild/bbs-3.14-bioc/meat/BicARE.Rcheck/00check.log'
for details.



Installation output

BicARE.Rcheck/00install.out

##############################################################################
##############################################################################
###
### Running command:
###
###   C:\cygwin\bin\curl.exe -O http://155.52.207.166/BBS/3.14/bioc/src/contrib/BicARE_1.51.0.tar.gz && rm -rf BicARE.buildbin-libdir && mkdir BicARE.buildbin-libdir && D:\biocbuild\bbs-3.14-bioc\R\bin\R.exe CMD INSTALL --merge-multiarch --build --library=BicARE.buildbin-libdir BicARE_1.51.0.tar.gz && D:\biocbuild\bbs-3.14-bioc\R\bin\R.exe CMD INSTALL BicARE_1.51.0.zip && rm BicARE_1.51.0.tar.gz BicARE_1.51.0.zip
###
##############################################################################
##############################################################################


  % Total    % Received % Xferd  Average Speed   Time    Time     Time  Current
                                 Dload  Upload   Total   Spent    Left  Speed

  0     0    0     0    0     0      0      0 --:--:-- --:--:-- --:--:--     0
100  201k  100  201k    0     0   878k      0 --:--:-- --:--:-- --:--:--  878k

install for i386

* installing *source* package 'BicARE' ...
** using staged installation
** libs
"C:/rtools40/mingw32/bin/"gcc  -I"D:/biocbuild/bbs-3.14-bioc/R/include" -DNDEBUG     -I"C:/extsoft/include"     -O2 -Wall  -std=gnu99 -mfpmath=sse -msse2 -mstackrealign  -c BicARE.c -o BicARE.o
BicARE.c: In function 'floc':
BicARE.c:439:12: warning: unused variable 'invk' [-Wunused-variable]
     double invk = 1/(double)*k;
            ^~~~
C:/rtools40/mingw32/bin/gcc -shared -s -static-libgcc -o BicARE.dll tmp.def BicARE.o -LC:/extsoft/lib/i386 -LC:/extsoft/lib -LD:/biocbuild/bbs-3.14-bioc/R/bin/i386 -lR
installing to D:/biocbuild/bbs-3.14-bioc/meat/BicARE.buildbin-libdir/00LOCK-BicARE/00new/BicARE/libs/i386
** R
** data
** inst
** byte-compile and prepare package for lazy loading
** help
*** installing help indices
  converting help for package 'BicARE'
    finding HTML links ... done
    BicARE-package                          html  
    FLOC                                    html  
    bicluster                               html  
    makeReport                              html  
    residue                                 html  
    sample.bicData                          html  
    sample.biclustering                     html  
    testAnnot                               html  
    testSet                                 html  
** building package indices
** installing vignettes
** testing if installed package can be loaded from temporary location
** testing if installed package can be loaded from final location
** testing if installed package keeps a record of temporary installation path

install for x64

* installing *source* package 'BicARE' ...
** libs
"C:/rtools40/mingw64/bin/"gcc  -I"D:/biocbuild/bbs-3.14-bioc/R/include" -DNDEBUG     -I"C:/extsoft/include"     -O2 -Wall  -std=gnu99 -mfpmath=sse -msse2 -mstackrealign  -c BicARE.c -o BicARE.o
BicARE.c: In function 'floc':
BicARE.c:439:12: warning: unused variable 'invk' [-Wunused-variable]
     double invk = 1/(double)*k;
            ^~~~
C:/rtools40/mingw64/bin/gcc -shared -s -static-libgcc -o BicARE.dll tmp.def BicARE.o -LC:/extsoft/lib/x64 -LC:/extsoft/lib -LD:/biocbuild/bbs-3.14-bioc/R/bin/x64 -lR
installing to D:/biocbuild/bbs-3.14-bioc/meat/BicARE.buildbin-libdir/BicARE/libs/x64
** testing if installed package can be loaded
* MD5 sums
packaged installation of 'BicARE' as BicARE_1.51.0.zip
* DONE (BicARE)
* installing to library 'D:/biocbuild/bbs-3.14-bioc/R/library'
package 'BicARE' successfully unpacked and MD5 sums checked

Tests output


Example timings

BicARE.Rcheck/examples_i386/BicARE-Ex.timings

nameusersystemelapsed
FLOC19.12 0.0019.13
bicluster0.190.030.22
makeReport1.670.262.11
residue0.020.000.01
testAnnot0.010.000.02
testSet229.72 0.21229.92

BicARE.Rcheck/examples_x64/BicARE-Ex.timings

nameusersystemelapsed
FLOC16.63 0.0016.63
bicluster0.200.010.22
makeReport1.910.332.39
residue000
testAnnot0.000.020.02
testSet226.30 0.34226.64