Back to Multiple platform build/check report for BioC 3.14
A[B]CDEFGHIJKLMNOPQRSTUVWXYZ

This page was generated on 2021-10-26 14:06:53 -0400 (Tue, 26 Oct 2021).

BUILD BIN results for BicARE on riesling1

To the developers/maintainers of the BicARE package:
- Please allow up to 24 hours (and sometimes 48 hours) for your latest push to git@git.bioconductor.org:packages/BicARE.git to
reflect on this report. See How and When does the builder pull? When will my changes propagate? here for more information.
- Make sure to use the following settings in order to reproduce any error or warning you see on this page.

raw results

Package 145/2083HostnameOS / ArchINSTALLBUILDCHECKBUILD BIN
BicARE 1.51.0  (landing page)
Pierre Gestraud
Snapshot Date: 2021-10-25 14:50:11 -0400 (Mon, 25 Oct 2021)
git_url: https://git.bioconductor.org/packages/BicARE
git_branch: master
git_last_commit: 9d2f51c
git_last_commit_date: 2021-05-19 11:42:14 -0400 (Wed, 19 May 2021)
nebbiolo2Linux (Ubuntu 20.04.2 LTS) / x86_64  OK    OK    OK  UNNEEDED, same version is already published
riesling1Windows Server 2019 Standard / x64  OK    OK    OK    OK  UNNEEDED, same version is already published
merida1macOS 10.14.6 Mojave / x86_64  OK    OK    OK    OK  UNNEEDED, same version is already published
machv2macOS 10.14.6 Mojave / x86_64  OK    OK    OK    OK  

Summary

Package: BicARE
Version: 1.51.0
Command: rm -rf BicARE.buildbin-libdir && mkdir BicARE.buildbin-libdir && D:\biocbuild\bbs-3.14-bioc\R\bin\R.exe CMD INSTALL --merge-multiarch --build --library=BicARE.buildbin-libdir BicARE_1.51.0.tar.gz
StartedAt: 2021-10-26 05:18:05 -0400 (Tue, 26 Oct 2021)
EndedAt: 2021-10-26 05:22:37 -0400 (Tue, 26 Oct 2021)
EllapsedTime: 272.4 seconds
RetCode: 0
Status:   OK  
PackageFile: BicARE_1.51.0.zip
PackageFileSize: 424.5 KiB

Command output

##############################################################################
##############################################################################
###
### Running command:
###
###   rm -rf BicARE.buildbin-libdir && mkdir BicARE.buildbin-libdir && D:\biocbuild\bbs-3.14-bioc\R\bin\R.exe CMD INSTALL --merge-multiarch --build --library=BicARE.buildbin-libdir BicARE_1.51.0.tar.gz
###
##############################################################################
##############################################################################



install for i386

* installing *source* package 'BicARE' ...
** using staged installation
** libs
"C:/rtools40/mingw32/bin/"gcc  -I"D:/biocbuild/bbs-3.14-bioc/R/include" -DNDEBUG     -I"C:/extsoft/include"     -O2 -Wall  -std=gnu99 -mfpmath=sse -msse2 -mstackrealign  -c BicARE.c -o BicARE.o
BicARE.c: In function 'floc':
BicARE.c:439:12: warning: unused variable 'invk' [-Wunused-variable]
     double invk = 1/(double)*k;
            ^~~~
C:/rtools40/mingw32/bin/gcc -shared -s -static-libgcc -o BicARE.dll tmp.def BicARE.o -LC:/extsoft/lib/i386 -LC:/extsoft/lib -LD:/biocbuild/bbs-3.14-bioc/R/bin/i386 -lR
installing to D:/biocbuild/bbs-3.14-bioc/meat/BicARE.buildbin-libdir/00LOCK-BicARE/00new/BicARE/libs/i386
** R
** data
** inst
** byte-compile and prepare package for lazy loading
** help
*** installing help indices
  converting help for package 'BicARE'
    finding HTML links ... done
    BicARE-package                          html  
    FLOC                                    html  
    bicluster                               html  
    makeReport                              html  
    residue                                 html  
    sample.bicData                          html  
    sample.biclustering                     html  
    testAnnot                               html  
    testSet                                 html  
** building package indices
** installing vignettes
** testing if installed package can be loaded from temporary location
** testing if installed package can be loaded from final location
** testing if installed package keeps a record of temporary installation path

install for x64

* installing *source* package 'BicARE' ...
** libs
"C:/rtools40/mingw64/bin/"gcc  -I"D:/biocbuild/bbs-3.14-bioc/R/include" -DNDEBUG     -I"C:/extsoft/include"     -O2 -Wall  -std=gnu99 -mfpmath=sse -msse2 -mstackrealign  -c BicARE.c -o BicARE.o
BicARE.c: In function 'floc':
BicARE.c:439:12: warning: unused variable 'invk' [-Wunused-variable]
     double invk = 1/(double)*k;
            ^~~~
C:/rtools40/mingw64/bin/gcc -shared -s -static-libgcc -o BicARE.dll tmp.def BicARE.o -LC:/extsoft/lib/x64 -LC:/extsoft/lib -LD:/biocbuild/bbs-3.14-bioc/R/bin/x64 -lR
installing to D:/biocbuild/bbs-3.14-bioc/meat/BicARE.buildbin-libdir/BicARE/libs/x64
** testing if installed package can be loaded
* MD5 sums
packaged installation of 'BicARE' as BicARE_1.51.0.zip
* DONE (BicARE)