Back to Multiple platform build/check report for BioC 3.14
A[B]CDEFGHIJKLMNOPQRSTUVWXYZ

This page was generated on 2021-10-22 12:03:55 -0400 (Fri, 22 Oct 2021).

INSTALL results for BicARE on nebbiolo2

To the developers/maintainers of the BicARE package:
- Please allow up to 24 hours (and sometimes 48 hours) for your latest push to git@git.bioconductor.org:packages/BicARE.git to
reflect on this report. See How and When does the builder pull? When will my changes propagate? here for more information.
- Make sure to use the following settings in order to reproduce any error or warning you see on this page.

raw results

Package 145/2075HostnameOS / ArchINSTALLBUILDCHECKBUILD BIN
BicARE 1.51.0  (landing page)
Pierre Gestraud
Snapshot Date: 2021-10-21 14:50:08 -0400 (Thu, 21 Oct 2021)
git_url: https://git.bioconductor.org/packages/BicARE
git_branch: master
git_last_commit: 9d2f51c
git_last_commit_date: 2021-05-19 11:42:14 -0400 (Wed, 19 May 2021)
nebbiolo2Linux (Ubuntu 20.04.2 LTS) / x86_64  OK    OK    OK  UNNEEDED, same version is already published
riesling1Windows Server 2019 Standard / x64  OK    OK    OK    OK  UNNEEDED, same version is already published
merida1macOS 10.14.6 Mojave / x86_64  OK    OK    OK    OK  UNNEEDED, same version is already published

Summary

Package: BicARE
Version: 1.51.0
Command: /home/biocbuild/bbs-3.14-bioc/R/bin/R CMD INSTALL BicARE
StartedAt: 2021-10-21 16:16:52 -0400 (Thu, 21 Oct 2021)
EndedAt: 2021-10-21 16:17:09 -0400 (Thu, 21 Oct 2021)
EllapsedTime: 17.5 seconds
RetCode: 0
Status:   OK  

Command output

##############################################################################
##############################################################################
###
### Running command:
###
###   /home/biocbuild/bbs-3.14-bioc/R/bin/R CMD INSTALL BicARE
###
##############################################################################
##############################################################################


* installing to library ‘/home/biocbuild/bbs-3.14-bioc/R/library’
* installing *source* package ‘BicARE’ ...
** using staged installation
** libs
gcc -I"/home/biocbuild/bbs-3.14-bioc/R/include" -DNDEBUG   -I/usr/local/include   -fpic  -g -O2  -Wall -c BicARE.c -o BicARE.o
BicARE.c: In function ‘floc’:
BicARE.c:439:12: warning: unused variable ‘invk’ [-Wunused-variable]
  439 |     double invk = 1/(double)*k;
      |            ^~~~
gcc -shared -L/home/biocbuild/bbs-3.14-bioc/R/lib -L/usr/local/lib -o BicARE.so BicARE.o -L/home/biocbuild/bbs-3.14-bioc/R/lib -lR
installing to /home/biocbuild/bbs-3.14-bioc/R/library/00LOCK-BicARE/00new/BicARE/libs
** R
** data
** inst
** byte-compile and prepare package for lazy loading
** help
*** installing help indices
** building package indices
** installing vignettes
** testing if installed package can be loaded from temporary location
** checking absolute paths in shared objects and dynamic libraries
** testing if installed package can be loaded from final location
** testing if installed package keeps a record of temporary installation path
* DONE (BicARE)