Back to Multiple platform build/check report for BioC 3.14
A[B]CDEFGHIJKLMNOPQRSTUVWXYZ

This page was generated on 2021-10-18 12:03:59 -0400 (Mon, 18 Oct 2021).

INSTALL results for BiSeq on riesling1

To the developers/maintainers of the BiSeq package:
- Please allow up to 24 hours (and sometimes 48 hours) for your latest push to git@git.bioconductor.org:packages/BiSeq.git to
reflect on this report. See How and When does the builder pull? When will my changes propagate? here for more information.
- Make sure to use the following settings in order to reproduce any error or warning you see on this page.

raw results

Package 195/2060HostnameOS / ArchINSTALLBUILDCHECKBUILD BIN
BiSeq 1.33.0  (landing page)
Katja Hebestreit
Snapshot Date: 2021-10-17 14:50:03 -0400 (Sun, 17 Oct 2021)
git_url: https://git.bioconductor.org/packages/BiSeq
git_branch: master
git_last_commit: 77e44cc
git_last_commit_date: 2021-05-19 11:58:45 -0400 (Wed, 19 May 2021)
nebbiolo2Linux (Ubuntu 20.04.2 LTS) / x86_64  OK    OK    OK  UNNEEDED, same version is already published
riesling1Windows Server 2019 Standard / x64  OK    OK    OK    OK  UNNEEDED, same version is already published
merida1macOS 10.14.6 Mojave / x86_64  OK    OK    OK    OK  UNNEEDED, same version is already published

Summary

Package: BiSeq
Version: 1.33.0
Command: D:\biocbuild\bbs-3.14-bioc\R\bin\R.exe --arch x64 CMD INSTALL --no-multiarch BiSeq
StartedAt: 2021-10-17 18:39:31 -0400 (Sun, 17 Oct 2021)
EndedAt: 2021-10-17 18:42:29 -0400 (Sun, 17 Oct 2021)
EllapsedTime: 178.1 seconds
RetCode: 0
Status:   OK  

Command output

##############################################################################
##############################################################################
###
### Running command:
###
###   D:\biocbuild\bbs-3.14-bioc\R\bin\R.exe --arch x64 CMD INSTALL --no-multiarch BiSeq
###
##############################################################################
##############################################################################


* installing to library 'D:/biocbuild/bbs-3.14-bioc/R/library'
* installing *source* package 'BiSeq' ...
** using staged installation
** R
** data
** inst
** byte-compile and prepare package for lazy loading
** help
*** installing help indices
  converting help for package 'BiSeq'
    finding HTML links ... done
    BSraw-class                             html  
    finding level-2 HTML links ... done

    BSrel-class                             html  
    DMRs                                    html  
    annotateGRanges                         html  
    betaRegression                          html  
    betaResults                             html  
    betaResultsNull                         html  
    binomLikelihoodSmooth                   html  
    clusterSites                            html  
    clusterSitesToGR                        html  
    compareTwoSamples                       html  
    covBoxplots                             html  
    covStatistics                           html  
    estLocCor                               html  
    filterByCov                             html  
    filterBySharedRegions                   html  
    findDMRs                                html  
    globalTest                              html  
    limitCov                                html  
    logisticRegression                      html  
    makeVariogram                           html  
    plotBindingSites                        html  
    plotMeth                                html  
    plotMethMap                             html  
    plotSmoothMeth                          html  
    predictMeth                             html  
    predictedMeth                           html  
    promoters                               html  
    rawToRel                                html  
    readBismark                             html  
    rrbs                                    html  
    smoothVariogram                         html  
    summarizeRegions                        html  
    testClusters                            html  
    trimClusters                            html  
    vario                                   html  
    writeBED                                html  
** building package indices
** installing vignettes
** testing if installed package can be loaded from temporary location
** testing if installed package can be loaded from final location
** testing if installed package keeps a record of temporary installation path
* DONE (BiSeq)
Making 'packages.html' ... done