Back to Multiple platform build/check report for BioC 3.14
A[B]CDEFGHIJKLMNOPQRSTUVWXYZ

This page was generated on 2021-10-18 12:03:59 -0400 (Mon, 18 Oct 2021).

BUILD BIN results for BiRewire on riesling1

To the developers/maintainers of the BiRewire package:
- Please allow up to 24 hours (and sometimes 48 hours) for your latest push to git@git.bioconductor.org:packages/BiRewire.git to
reflect on this report. See How and When does the builder pull? When will my changes propagate? here for more information.
- Make sure to use the following settings in order to reproduce any error or warning you see on this page.

raw results

Package 193/2060HostnameOS / ArchINSTALLBUILDCHECKBUILD BIN
BiRewire 3.25.0  (landing page)
Andrea Gobbi
Snapshot Date: 2021-10-17 14:50:03 -0400 (Sun, 17 Oct 2021)
git_url: https://git.bioconductor.org/packages/BiRewire
git_branch: master
git_last_commit: 5f73ade
git_last_commit_date: 2021-05-19 12:00:40 -0400 (Wed, 19 May 2021)
nebbiolo2Linux (Ubuntu 20.04.2 LTS) / x86_64  OK    OK    WARNINGS  UNNEEDED, same version is already published
riesling1Windows Server 2019 Standard / x64  OK    OK    WARNINGS    OK  UNNEEDED, same version is already published
merida1macOS 10.14.6 Mojave / x86_64  OK    OK    OK    OK  UNNEEDED, same version is already published

Summary

Package: BiRewire
Version: 3.25.0
Command: rm -rf BiRewire.buildbin-libdir && mkdir BiRewire.buildbin-libdir && D:\biocbuild\bbs-3.14-bioc\R\bin\R.exe CMD INSTALL --merge-multiarch --build --library=BiRewire.buildbin-libdir BiRewire_3.25.0.tar.gz
StartedAt: 2021-10-18 04:27:25 -0400 (Mon, 18 Oct 2021)
EndedAt: 2021-10-18 04:31:24 -0400 (Mon, 18 Oct 2021)
EllapsedTime: 238.8 seconds
RetCode: 0
Status:   OK  
PackageFile: BiRewire_3.25.0.zip
PackageFileSize: 709.8 KiB

Command output

##############################################################################
##############################################################################
###
### Running command:
###
###   rm -rf BiRewire.buildbin-libdir && mkdir BiRewire.buildbin-libdir && D:\biocbuild\bbs-3.14-bioc\R\bin\R.exe CMD INSTALL --merge-multiarch --build --library=BiRewire.buildbin-libdir BiRewire_3.25.0.tar.gz
###
##############################################################################
##############################################################################



install for i386

* installing *source* package 'BiRewire' ...
** using staged installation
** libs
"C:/rtools40/mingw32/bin/"gcc  -I"D:/biocbuild/bbs-3.14-bioc/R/include" -DNDEBUG     -I"C:/extsoft/include"     -O2 -Wall  -std=gnu99 -mfpmath=sse -msse2 -mstackrealign  -c BiRewire.c -o BiRewire.o
BiRewire.c: In function 'rewire_sparse':
BiRewire.c:1066:16: warning: suggest parentheses around comparison in operand of '&' [-Wparentheses]
   if( a!=c && b!=d & a!=d && c!=b && (( ad==1 && cb==1 )|| (ac==1 && bd==1) )) {
               ~^~~
BiRewire.c: In function 'rewire_sparse_ex':
BiRewire.c:1149:16: warning: suggest parentheses around comparison in operand of '&' [-Wparentheses]
   if( a!=c && b!=d & a!=d && c!=b && (( ad==1 && cb==1 )|| (ac==1 && bd==1) )) {
               ~^~~
"C:/rtools40/mingw32/bin/"gcc  -I"D:/biocbuild/bbs-3.14-bioc/R/include" -DNDEBUG     -I"C:/extsoft/include"     -O2 -Wall  -std=gnu99 -mfpmath=sse -msse2 -mstackrealign  -c interface.c -o interface.o
C:/rtools40/mingw32/bin/gcc -shared -s -static-libgcc -o BiRewire.dll tmp.def BiRewire.o interface.o -LC:/extsoft/lib/i386 -LC:/extsoft/lib -LD:/biocbuild/bbs-3.14-bioc/R/bin/i386 -lR
installing to D:/biocbuild/bbs-3.14-bioc/meat/BiRewire.buildbin-libdir/00LOCK-BiRewire/00new/BiRewire/libs/i386
** R
** data
** inst
** byte-compile and prepare package for lazy loading
** help
*** installing help indices
  converting help for package 'BiRewire'
    finding HTML links ... done
    BRCA_binary_matrix                      html  
    BiRewire-package                        html  
    birewire.analysis.bipartite             html  
    finding level-2 HTML links ... done

    birewire.analysis.dsg                   html  
    birewire.analysis.undirected            html  
    birewire.bipartite.from.incidence       html  
    birewire.build.dsg                      html  
    birewire.induced.bipartite              html  
    birewire.load.dsg                       html  
    birewire.rewire.bipartite               html  
    birewire.rewire.bipartite.and.projections
                                            html  
    birewire.rewire.dsg                     html  
    birewire.rewire.undirected              html  
    birewire.sampler.bipartite              html  
    birewire.sampler.dsg                    html  
    birewire.sampler.undirected             html  
    birewire.similarity                     html  
    birewire.similarity.dsg                 html  
    birewire.slum.to.sparseMatrix           html  
    birewire.visual.monitoring.bipartite    html  
    birewire.visual.monitoring.dsg          html  
    birewire.visual.monitoring.undirected   html  
    test_dsg                                html  
** building package indices
** installing vignettes
** testing if installed package can be loaded from temporary location
** testing if installed package can be loaded from final location
** testing if installed package keeps a record of temporary installation path

install for x64

* installing *source* package 'BiRewire' ...
** libs
"C:/rtools40/mingw64/bin/"gcc  -I"D:/biocbuild/bbs-3.14-bioc/R/include" -DNDEBUG     -I"C:/extsoft/include"     -O2 -Wall  -std=gnu99 -mfpmath=sse -msse2 -mstackrealign  -c BiRewire.c -o BiRewire.o
BiRewire.c: In function 'rewire_sparse':
BiRewire.c:1066:16: warning: suggest parentheses around comparison in operand of '&' [-Wparentheses]
   if( a!=c && b!=d & a!=d && c!=b && (( ad==1 && cb==1 )|| (ac==1 && bd==1) )) {
               ~^~~
BiRewire.c: In function 'rewire_sparse_ex':
BiRewire.c:1149:16: warning: suggest parentheses around comparison in operand of '&' [-Wparentheses]
   if( a!=c && b!=d & a!=d && c!=b && (( ad==1 && cb==1 )|| (ac==1 && bd==1) )) {
               ~^~~
"C:/rtools40/mingw64/bin/"gcc  -I"D:/biocbuild/bbs-3.14-bioc/R/include" -DNDEBUG     -I"C:/extsoft/include"     -O2 -Wall  -std=gnu99 -mfpmath=sse -msse2 -mstackrealign  -c interface.c -o interface.o
C:/rtools40/mingw64/bin/gcc -shared -s -static-libgcc -o BiRewire.dll tmp.def BiRewire.o interface.o -LC:/extsoft/lib/x64 -LC:/extsoft/lib -LD:/biocbuild/bbs-3.14-bioc/R/bin/x64 -lR
installing to D:/biocbuild/bbs-3.14-bioc/meat/BiRewire.buildbin-libdir/BiRewire/libs/x64
** testing if installed package can be loaded
* MD5 sums
packaged installation of 'BiRewire' as BiRewire_3.25.0.zip
* DONE (BiRewire)