Index of /checkResults/3.14/bioc-LATEST/BiRewire/raw-results/tokay2

[ICO]NameLast modifiedSizeDescription

[DIR]Parent Directory  -  
[TXT]buildbin-out.txt15-Jan-2022 03:06 4.9K 
[   ]buildbin-summary.dcf15-Jan-2022 03:06 543  
[TXT]buildsrc-out.txt15-Jan-2022 03:06 942  
[   ]buildsrc-summary.dcf15-Jan-2022 03:06 462  
[TXT]checksrc-out.txt15-Jan-2022 03:06 8.9K 
[   ]checksrc-summary.dcf15-Jan-2022 03:06 472  
[TXT]install-out.txt15-Jan-2022 03:06 5.6K 
[   ]install-summary.dcf15-Jan-2022 03:06 649