Index of /checkResults/3.14/bioc-LATEST/BiRewire/raw-results/nebbiolo2

[ICO]NameLast modifiedSizeDescription

[DIR]Parent Directory  -  
[TXT]buildsrc-out.txt22-Jan-2022 03:04 903  
[   ]buildsrc-summary.dcf22-Jan-2022 03:04 420  
[TXT]checksrc-out.txt22-Jan-2022 03:04 7.2K 
[   ]checksrc-summary.dcf22-Jan-2022 03:04 434  
[TXT]install-out.txt22-Jan-2022 03:04 2.0K 
[   ]install-summary.dcf22-Jan-2022 03:04 260