Index of /checkResults/3.14/bioc-LATEST/BiRewire/raw-results/machv2

[ICO]NameLast modifiedSizeDescription

[DIR]Parent Directory  -  
[TXT]buildbin-out.txt27-Jan-2022 03:07 2.7K 
[   ]buildbin-summary.dcf27-Jan-2022 03:07 536  
[TXT]buildsrc-out.txt27-Jan-2022 03:07 913  
[   ]buildsrc-summary.dcf27-Jan-2022 03:07 430  
[TXT]checksrc-out.txt27-Jan-2022 03:07 7.0K 
[   ]checksrc-summary.dcf27-Jan-2022 03:07 448  
[TXT]install-out.txt27-Jan-2022 03:07 1.8K 
[   ]install-summary.dcf27-Jan-2022 03:07 271