Back to Multiple platform build/check report for BioC 3.14
A[B]CDEFGHIJKLMNOPQRSTUVWXYZ

This page was generated on 2021-10-25 14:05:33 -0400 (Mon, 25 Oct 2021).

BUILD results for BiRewire on nebbiolo2

To the developers/maintainers of the BiRewire package:
- Please allow up to 24 hours (and sometimes 48 hours) for your latest push to git@git.bioconductor.org:packages/BiRewire.git to
reflect on this report. See How and When does the builder pull? When will my changes propagate? here for more information.
- Make sure to use the following settings in order to reproduce any error or warning you see on this page.

raw results

Package 197/2083HostnameOS / ArchINSTALLBUILDCHECKBUILD BIN
BiRewire 3.25.0  (landing page)
Andrea Gobbi
Snapshot Date: 2021-10-24 14:50:04 -0400 (Sun, 24 Oct 2021)
git_url: https://git.bioconductor.org/packages/BiRewire
git_branch: master
git_last_commit: 5f73ade
git_last_commit_date: 2021-05-19 12:00:40 -0400 (Wed, 19 May 2021)
nebbiolo2Linux (Ubuntu 20.04.2 LTS) / x86_64  OK    OK    WARNINGS  UNNEEDED, same version is already published
riesling1Windows Server 2019 Standard / x64  OK    OK    WARNINGS    OK  UNNEEDED, same version is already published
merida1macOS 10.14.6 Mojave / x86_64  OK    OK    OK    OK  UNNEEDED, same version is already published
machv2macOS 10.14.6 Mojave / x86_64  OK    OK    OK    OK  

Summary

Package: BiRewire
Version: 3.25.0
Command: /home/biocbuild/bbs-3.14-bioc/R/bin/R CMD build --keep-empty-dirs --no-resave-data BiRewire
StartedAt: 2021-10-24 16:50:43 -0400 (Sun, 24 Oct 2021)
EndedAt: 2021-10-24 16:51:29 -0400 (Sun, 24 Oct 2021)
EllapsedTime: 46.2 seconds
RetCode: 0
Status:   OK  
PackageFile: BiRewire_3.25.0.tar.gz
PackageFileSize: 621.7 KiB

Command output

##############################################################################
##############################################################################
###
### Running command:
###
###   /home/biocbuild/bbs-3.14-bioc/R/bin/R CMD build --keep-empty-dirs --no-resave-data BiRewire
###
##############################################################################
##############################################################################


* checking for file ‘BiRewire/DESCRIPTION’ ... OK
* preparing ‘BiRewire’:
* checking DESCRIPTION meta-information ... OK
* cleaning src
* installing the package to build vignettes
* creating vignettes ... OK
* cleaning src
* checking for LF line-endings in source and make files and shell scripts
* checking for empty or unneeded directories
* looking to see if a ‘data/datalist’ file should be added
* building ‘BiRewire_3.25.0.tar.gz’