Back to Multiple platform build/check report for BioC 3.14
A[B]CDEFGHIJKLMNOPQRSTUVWXYZ

This page was generated on 2021-10-25 14:05:32 -0400 (Mon, 25 Oct 2021).

INSTALL results for BiGGR on nebbiolo2

To the developers/maintainers of the BiGGR package:
- Please allow up to 24 hours (and sometimes 48 hours) for your latest push to git@git.bioconductor.org:packages/BiGGR.git to
reflect on this report. See How and When does the builder pull? When will my changes propagate? here for more information.
- Make sure to use the following settings in order to reproduce any error or warning you see on this page.

raw results

Package 147/2083HostnameOS / ArchINSTALLBUILDCHECKBUILD BIN
BiGGR 1.29.0  (landing page)
Anand K. Gavai
Snapshot Date: 2021-10-24 14:50:04 -0400 (Sun, 24 Oct 2021)
git_url: https://git.bioconductor.org/packages/BiGGR
git_branch: master
git_last_commit: 9b0501a
git_last_commit_date: 2021-05-19 12:00:29 -0400 (Wed, 19 May 2021)
nebbiolo2Linux (Ubuntu 20.04.2 LTS) / x86_64  OK    OK    OK  UNNEEDED, same version is already published
riesling1Windows Server 2019 Standard / x64  OK    OK    OK    OK  UNNEEDED, same version is already published
merida1macOS 10.14.6 Mojave / x86_64... NOT SUPPORTED ...
machv2macOS 10.14.6 Mojave / x86_64... NOT SUPPORTED ...

Summary

Package: BiGGR
Version: 1.29.0
Command: /home/biocbuild/bbs-3.14-bioc/R/bin/R CMD INSTALL BiGGR
StartedAt: 2021-10-24 16:11:29 -0400 (Sun, 24 Oct 2021)
EndedAt: 2021-10-24 16:11:33 -0400 (Sun, 24 Oct 2021)
EllapsedTime: 4.5 seconds
RetCode: 0
Status:   OK  

Command output

##############################################################################
##############################################################################
###
### Running command:
###
###   /home/biocbuild/bbs-3.14-bioc/R/bin/R CMD INSTALL BiGGR
###
##############################################################################
##############################################################################


* installing to library ‘/home/biocbuild/bbs-3.14-bioc/R/library’
* installing *source* package ‘BiGGR’ ...
** using staged installation
** R
** data
** inst
** byte-compile and prepare package for lazy loading
** help
*** installing help indices
** building package indices
** installing vignettes
** testing if installed package can be loaded from temporary location
** testing if installed package can be loaded from final location
** testing if installed package keeps a record of temporary installation path
* DONE (BiGGR)