Back to Multiple platform build/check report for BioC 3.14
A[B]CDEFGHIJKLMNOPQRSTUVWXYZ

This page was generated on 2021-10-18 12:03:59 -0400 (Mon, 18 Oct 2021).

INSTALL results for BiFET on riesling1

To the developers/maintainers of the BiFET package:
- Please allow up to 24 hours (and sometimes 48 hours) for your latest push to git@git.bioconductor.org:packages/BiFET.git to
reflect on this report. See How and When does the builder pull? When will my changes propagate? here for more information.
- Make sure to use the following settings in order to reproduce any error or warning you see on this page.

raw results

Package 145/2060HostnameOS / ArchINSTALLBUILDCHECKBUILD BIN
BiFET 1.13.1  (landing page)
Ahrim Youn
Snapshot Date: 2021-10-17 14:50:03 -0400 (Sun, 17 Oct 2021)
git_url: https://git.bioconductor.org/packages/BiFET
git_branch: master
git_last_commit: cff0d68
git_last_commit_date: 2021-07-27 16:16:13 -0400 (Tue, 27 Jul 2021)
nebbiolo2Linux (Ubuntu 20.04.2 LTS) / x86_64  OK    OK    OK  UNNEEDED, same version is already published
riesling1Windows Server 2019 Standard / x64  OK    OK    OK    OK  UNNEEDED, same version is already published
merida1macOS 10.14.6 Mojave / x86_64  OK    OK    OK    OK  UNNEEDED, same version is already published

Summary

Package: BiFET
Version: 1.13.1
Command: C:\cygwin\bin\curl.exe -O http://155.52.207.166/BBS/3.14/bioc/src/contrib/BiFET_1.13.1.tar.gz && rm -rf BiFET.buildbin-libdir && mkdir BiFET.buildbin-libdir && D:\biocbuild\bbs-3.14-bioc\R\bin\R.exe CMD INSTALL --merge-multiarch --build --library=BiFET.buildbin-libdir BiFET_1.13.1.tar.gz && D:\biocbuild\bbs-3.14-bioc\R\bin\R.exe CMD INSTALL BiFET_1.13.1.zip && rm BiFET_1.13.1.tar.gz BiFET_1.13.1.zip
StartedAt: 2021-10-17 17:13:41 -0400 (Sun, 17 Oct 2021)
EndedAt: 2021-10-17 17:16:46 -0400 (Sun, 17 Oct 2021)
EllapsedTime: 185.0 seconds
RetCode: 0
Status:   OK  

Command output

##############################################################################
##############################################################################
###
### Running command:
###
###   C:\cygwin\bin\curl.exe -O http://155.52.207.166/BBS/3.14/bioc/src/contrib/BiFET_1.13.1.tar.gz && rm -rf BiFET.buildbin-libdir && mkdir BiFET.buildbin-libdir && D:\biocbuild\bbs-3.14-bioc\R\bin\R.exe CMD INSTALL --merge-multiarch --build --library=BiFET.buildbin-libdir BiFET_1.13.1.tar.gz && D:\biocbuild\bbs-3.14-bioc\R\bin\R.exe CMD INSTALL BiFET_1.13.1.zip && rm BiFET_1.13.1.tar.gz BiFET_1.13.1.zip
###
##############################################################################
##############################################################################


  % Total    % Received % Xferd  Average Speed   Time    Time     Time  Current
                                 Dload  Upload   Total   Spent    Left  Speed

  0     0    0     0    0     0      0      0 --:--:-- --:--:-- --:--:--     0
100  514k  100  514k    0     0  1932k      0 --:--:-- --:--:-- --:--:-- 1932k

install for i386

* installing *source* package 'BiFET' ...
** using staged installation
** R
** inst
** byte-compile and prepare package for lazy loading
** help
*** installing help indices
  converting help for package 'BiFET'
    finding HTML links ... done
    calculate_enrich_p                      html  
** building package indices
** installing vignettes
** testing if installed package can be loaded from temporary location
** testing if installed package can be loaded from final location
** testing if installed package keeps a record of temporary installation path

install for x64

* installing *source* package 'BiFET' ...
** testing if installed package can be loaded
* MD5 sums
packaged installation of 'BiFET' as BiFET_1.13.1.zip
* DONE (BiFET)
* installing to library 'D:/biocbuild/bbs-3.14-bioc/R/library'
package 'BiFET' successfully unpacked and MD5 sums checked