Back to Multiple platform build/check report for BioC 3.14
A[B]CDEFGHIJKLMNOPQRSTUVWXYZ

This page was generated on 2021-10-22 12:04:18 -0400 (Fri, 22 Oct 2021).

BUILD results for BiFET on riesling1

To the developers/maintainers of the BiFET package:
- Please allow up to 24 hours (and sometimes 48 hours) for your latest push to git@git.bioconductor.org:packages/BiFET.git to
reflect on this report. See How and When does the builder pull? When will my changes propagate? here for more information.
- Make sure to use the following settings in order to reproduce any error or warning you see on this page.

raw results

Package 146/2075HostnameOS / ArchINSTALLBUILDCHECKBUILD BIN
BiFET 1.13.1  (landing page)
Ahrim Youn
Snapshot Date: 2021-10-21 14:50:08 -0400 (Thu, 21 Oct 2021)
git_url: https://git.bioconductor.org/packages/BiFET
git_branch: master
git_last_commit: cff0d68
git_last_commit_date: 2021-07-27 16:16:13 -0400 (Tue, 27 Jul 2021)
nebbiolo2Linux (Ubuntu 20.04.2 LTS) / x86_64  OK    OK    OK  UNNEEDED, same version is already published
riesling1Windows Server 2019 Standard / x64  OK    OK    OK    OK  UNNEEDED, same version is already published
merida1macOS 10.14.6 Mojave / x86_64  OK    OK    OK    OK  UNNEEDED, same version is already published

Summary

Package: BiFET
Version: 1.13.1
Command: chmod a+r BiFET -R && D:\biocbuild\bbs-3.14-bioc\R\bin\R.exe CMD build --keep-empty-dirs --no-resave-data BiFET
StartedAt: 2021-10-21 19:45:00 -0400 (Thu, 21 Oct 2021)
EndedAt: 2021-10-21 19:49:09 -0400 (Thu, 21 Oct 2021)
EllapsedTime: 248.7 seconds
RetCode: 0
Status:   OK  
PackageFile: BiFET_1.13.1.tar.gz
PackageFileSize: 731.4 KiB

Command output

##############################################################################
##############################################################################
###
### Running command:
###
###   chmod a+r BiFET -R && D:\biocbuild\bbs-3.14-bioc\R\bin\R.exe CMD build --keep-empty-dirs --no-resave-data BiFET
###
##############################################################################
##############################################################################


* checking for file 'BiFET/DESCRIPTION' ... OK
* preparing 'BiFET':
* checking DESCRIPTION meta-information ... OK
* installing the package to build vignettes
* creating vignettes ... OK
* checking for LF line-endings in source and make files and shell scripts
* checking for empty or unneeded directories
Omitted 'LazyData' from DESCRIPTION
* building 'BiFET_1.13.1.tar.gz'