Back to Multiple platform build/check report for BioC 3.14
A[B]CDEFGHIJKLMNOPQRSTUVWXYZ

This page was generated on 2021-12-03 13:05:40 -0500 (Fri, 03 Dec 2021).

BUILD results for BiFET on machv2

To the developers/maintainers of the BiFET package:
- Please allow up to 24 hours (and sometimes 48 hours) for your latest push to git@git.bioconductor.org:packages/BiFET.git to
reflect on this report. See How and When does the builder pull? When will my changes propagate? here for more information.
- Make sure to use the following settings in order to reproduce any error or warning you see on this page.

raw results

Package 146/2083HostnameOS / ArchINSTALLBUILDCHECKBUILD BIN
BiFET 1.14.0  (landing page)
Ahrim Youn
Snapshot Date: 2021-12-02 01:55:06 -0500 (Thu, 02 Dec 2021)
git_url: https://git.bioconductor.org/packages/BiFET
git_branch: RELEASE_3_14
git_last_commit: 13e7cc7
git_last_commit_date: 2021-10-26 12:40:59 -0500 (Tue, 26 Oct 2021)
nebbiolo2Linux (Ubuntu 20.04.3 LTS) / x86_64  OK    OK    OK  UNNEEDED, same version is already published
tokay2Windows Server 2012 R2 Standard / x64  OK    OK    OK    OK  UNNEEDED, same version is already published
machv2macOS 10.14.6 Mojave / x86_64  OK    OK    OK    OK  UNNEEDED, same version is already published

Summary

Package: BiFET
Version: 1.14.0
Command: /Library/Frameworks/R.framework/Resources/bin/R CMD build --keep-empty-dirs --no-resave-data BiFET
StartedAt: 2021-12-02 05:50:57 -0500 (Thu, 02 Dec 2021)
EndedAt: 2021-12-02 05:52:33 -0500 (Thu, 02 Dec 2021)
EllapsedTime: 95.9 seconds
RetCode: 0
Status:   OK  
PackageFile: BiFET_1.14.0.tar.gz
PackageFileSize: 731.3 KiB

Command output

##############################################################################
##############################################################################
###
### Running command:
###
###   /Library/Frameworks/R.framework/Resources/bin/R CMD build --keep-empty-dirs --no-resave-data BiFET
###
##############################################################################
##############################################################################


* checking for file ‘BiFET/DESCRIPTION’ ... OK
* preparing ‘BiFET’:
* checking DESCRIPTION meta-information ... OK
* installing the package to build vignettes
* creating vignettes ... OK
* checking for LF line-endings in source and make files and shell scripts
* checking for empty or unneeded directories
Omitted ‘LazyData’ from DESCRIPTION
* building ‘BiFET_1.14.0.tar.gz’