Back to Multiple platform build/check report for BioC 3.14
A[B]CDEFGHIJKLMNOPQRSTUVWXYZ

This page was generated on 2021-10-20 12:04:36 -0400 (Wed, 20 Oct 2021).

BUILD results for BgeeDB on nebbiolo2

To the developers/maintainers of the BgeeDB package:
- Please allow up to 24 hours (and sometimes 48 hours) for your latest push to git@git.bioconductor.org:packages/BgeeDB.git to
reflect on this report. See How and When does the builder pull? When will my changes propagate? here for more information.
- Make sure to use the following settings in order to reproduce any error or warning you see on this page.

raw results

Package 141/2072HostnameOS / ArchINSTALLBUILDCHECKBUILD BIN
BgeeDB 2.19.1  (landing page)
Julien Wollbrett , Julien Roux , Andrea Komljenovic , Frederic Bastian
Snapshot Date: 2021-10-19 14:50:04 -0400 (Tue, 19 Oct 2021)
git_url: https://git.bioconductor.org/packages/BgeeDB
git_branch: master
git_last_commit: 95a1fe8
git_last_commit_date: 2021-10-13 08:18:51 -0400 (Wed, 13 Oct 2021)
nebbiolo2Linux (Ubuntu 20.04.2 LTS) / x86_64  OK    OK    OK  UNNEEDED, same version is already published
riesling1Windows Server 2019 Standard / x64  OK    OK    OK    OK  UNNEEDED, same version is already published
merida1macOS 10.14.6 Mojave / x86_64  OK    OK    OK    OK  UNNEEDED, same version is already published

Summary

Package: BgeeDB
Version: 2.19.1
Command: /home/biocbuild/bbs-3.14-bioc/R/bin/R CMD build --keep-empty-dirs --no-resave-data BgeeDB
StartedAt: 2021-10-19 16:48:04 -0400 (Tue, 19 Oct 2021)
EndedAt: 2021-10-19 17:06:18 -0400 (Tue, 19 Oct 2021)
EllapsedTime: 1094.2 seconds
RetCode: 0
Status:   OK  
PackageFile: BgeeDB_2.19.1.tar.gz
PackageFileSize: 95.25 KiB

Command output

##############################################################################
##############################################################################
###
### Running command:
###
###   /home/biocbuild/bbs-3.14-bioc/R/bin/R CMD build --keep-empty-dirs --no-resave-data BgeeDB
###
##############################################################################
##############################################################################


* checking for file ‘BgeeDB/DESCRIPTION’ ... OK
* preparing ‘BgeeDB’:
* checking DESCRIPTION meta-information ... OK
* installing the package to build vignettes
* creating vignettes ... OK
* checking for LF line-endings in source and make files and shell scripts
* checking for empty or unneeded directories
* looking to see if a ‘data/datalist’ file should be added
* building ‘BgeeDB_2.19.1.tar.gz’