Back to Multiple platform build/check report for BioC 3.14
A[B]CDEFGHIJKLMNOPQRSTUVWXYZ

This page was generated on 2021-10-20 12:04:36 -0400 (Wed, 20 Oct 2021).

BUILD results for BgeeCall on nebbiolo2

To the developers/maintainers of the BgeeCall package:
- Please allow up to 24 hours (and sometimes 48 hours) for your latest push to git@git.bioconductor.org:packages/BgeeCall.git to
reflect on this report. See How and When does the builder pull? When will my changes propagate? here for more information.
- Make sure to use the following settings in order to reproduce any error or warning you see on this page.

raw results

Package 140/2072HostnameOS / ArchINSTALLBUILDCHECKBUILD BIN
BgeeCall 1.9.0  (landing page)
Julien Wollbrett
Snapshot Date: 2021-10-19 14:50:04 -0400 (Tue, 19 Oct 2021)
git_url: https://git.bioconductor.org/packages/BgeeCall
git_branch: master
git_last_commit: 70b2503
git_last_commit_date: 2021-05-19 12:48:49 -0400 (Wed, 19 May 2021)
nebbiolo2Linux (Ubuntu 20.04.2 LTS) / x86_64  OK    OK    OK  UNNEEDED, same version is already published
riesling1Windows Server 2019 Standard / x64  OK    OK    OK    OK  UNNEEDED, same version is already published
merida1macOS 10.14.6 Mojave / x86_64  OK    OK    OK    OK  UNNEEDED, same version is already published

Summary

Package: BgeeCall
Version: 1.9.0
Command: /home/biocbuild/bbs-3.14-bioc/R/bin/R CMD build --keep-empty-dirs --no-resave-data BgeeCall
StartedAt: 2021-10-19 16:47:58 -0400 (Tue, 19 Oct 2021)
EndedAt: 2021-10-19 16:49:29 -0400 (Tue, 19 Oct 2021)
EllapsedTime: 91.1 seconds
RetCode: 0
Status:   OK  
PackageFile: BgeeCall_1.9.0.tar.gz
PackageFileSize: 5.655 MiB

Command output

##############################################################################
##############################################################################
###
### Running command:
###
###   /home/biocbuild/bbs-3.14-bioc/R/bin/R CMD build --keep-empty-dirs --no-resave-data BgeeCall
###
##############################################################################
##############################################################################


* checking for file ‘BgeeCall/DESCRIPTION’ ... OK
* preparing ‘BgeeCall’:
* checking DESCRIPTION meta-information ... OK
* installing the package to build vignettes
* creating vignettes ... OK
* checking for LF line-endings in source and make files and shell scripts
* checking for empty or unneeded directories
* building ‘BgeeCall_1.9.0.tar.gz’