Back to Multiple platform build/check report for BioC 3.14
A[B]CDEFGHIJKLMNOPQRSTUVWXYZ

This page was generated on 2021-10-26 14:06:53 -0400 (Tue, 26 Oct 2021).

INSTALL results for BeadDataPackR on riesling1

To the developers/maintainers of the BeadDataPackR package:
- Please allow up to 24 hours (and sometimes 48 hours) for your latest push to git@git.bioconductor.org:packages/BeadDataPackR.git to
reflect on this report. See How and When does the builder pull? When will my changes propagate? here for more information.
- Make sure to use the following settings in order to reproduce any error or warning you see on this page.

raw results

Package 135/2083HostnameOS / ArchINSTALLBUILDCHECKBUILD BIN
BeadDataPackR 1.45.0  (landing page)
Mike Smith
Snapshot Date: 2021-10-25 14:50:11 -0400 (Mon, 25 Oct 2021)
git_url: https://git.bioconductor.org/packages/BeadDataPackR
git_branch: master
git_last_commit: 210da2c
git_last_commit_date: 2021-05-19 11:45:02 -0400 (Wed, 19 May 2021)
nebbiolo2Linux (Ubuntu 20.04.2 LTS) / x86_64  OK    OK    OK  UNNEEDED, same version is already published
riesling1Windows Server 2019 Standard / x64  OK    OK    OK    OK  UNNEEDED, same version is already published
merida1macOS 10.14.6 Mojave / x86_64  OK    OK    OK    OK  UNNEEDED, same version is already published
machv2macOS 10.14.6 Mojave / x86_64  OK    OK    OK    OK  

Summary

Package: BeadDataPackR
Version: 1.45.0
Command: C:\cygwin\bin\curl.exe -O http://155.52.207.166/BBS/3.14/bioc/src/contrib/BeadDataPackR_1.45.0.tar.gz && rm -rf BeadDataPackR.buildbin-libdir && mkdir BeadDataPackR.buildbin-libdir && D:\biocbuild\bbs-3.14-bioc\R\bin\R.exe CMD INSTALL --merge-multiarch --build --library=BeadDataPackR.buildbin-libdir BeadDataPackR_1.45.0.tar.gz && D:\biocbuild\bbs-3.14-bioc\R\bin\R.exe CMD INSTALL BeadDataPackR_1.45.0.zip && rm BeadDataPackR_1.45.0.tar.gz BeadDataPackR_1.45.0.zip
StartedAt: 2021-10-25 16:34:08 -0400 (Mon, 25 Oct 2021)
EndedAt: 2021-10-25 16:37:17 -0400 (Mon, 25 Oct 2021)
EllapsedTime: 189.5 seconds
RetCode: 0
Status:   OK  

Command output

##############################################################################
##############################################################################
###
### Running command:
###
###   C:\cygwin\bin\curl.exe -O http://155.52.207.166/BBS/3.14/bioc/src/contrib/BeadDataPackR_1.45.0.tar.gz && rm -rf BeadDataPackR.buildbin-libdir && mkdir BeadDataPackR.buildbin-libdir && D:\biocbuild\bbs-3.14-bioc\R\bin\R.exe CMD INSTALL --merge-multiarch --build --library=BeadDataPackR.buildbin-libdir BeadDataPackR_1.45.0.tar.gz && D:\biocbuild\bbs-3.14-bioc\R\bin\R.exe CMD INSTALL BeadDataPackR_1.45.0.zip && rm BeadDataPackR_1.45.0.tar.gz BeadDataPackR_1.45.0.zip
###
##############################################################################
##############################################################################


  % Total    % Received % Xferd  Average Speed   Time    Time     Time  Current
                                 Dload  Upload   Total   Spent    Left  Speed

  0     0    0     0    0     0      0      0 --:--:-- --:--:-- --:--:--     0
100 80156  100 80156    0     0   163k      0 --:--:-- --:--:-- --:--:--  163k
100 80156  100 80156    0     0   163k      0 --:--:-- --:--:-- --:--:--  163k

install for i386

* installing *source* package 'BeadDataPackR' ...
** using staged installation
** libs
"C:/rtools40/mingw32/bin/"gcc  -I"D:/biocbuild/bbs-3.14-bioc/R/include" -DNDEBUG     -I"C:/extsoft/include"     -O2 -Wall  -std=gnu99 -mfpmath=sse -msse2 -mstackrealign  -c BeadDataPackR.c -o BeadDataPackR.o
"C:/rtools40/mingw32/bin/"gcc  -I"D:/biocbuild/bbs-3.14-bioc/R/include" -DNDEBUG     -I"C:/extsoft/include"     -O2 -Wall  -std=gnu99 -mfpmath=sse -msse2 -mstackrealign  -c R_init_BeadDataPackR.c -o R_init_BeadDataPackR.o
C:/rtools40/mingw32/bin/gcc -shared -s -static-libgcc -o BeadDataPackR.dll tmp.def BeadDataPackR.o R_init_BeadDataPackR.o -LC:/extsoft/lib/i386 -LC:/extsoft/lib -LD:/biocbuild/bbs-3.14-bioc/R/bin/i386 -lR
installing to D:/biocbuild/bbs-3.14-bioc/meat/BeadDataPackR.buildbin-libdir/00LOCK-BeadDataPackR/00new/BeadDataPackR/libs/i386
** R
** inst
** byte-compile and prepare package for lazy loading
** help
*** installing help indices
  converting help for package 'BeadDataPackR'
    finding HTML links ... done
    compressBeadData                        html  
    decompressBeadData                      html  
    example                                 html  
    extractLocsFile                         html  
    readCompressedData                      html  
** building package indices
** installing vignettes
** testing if installed package can be loaded from temporary location
** testing if installed package can be loaded from final location
** testing if installed package keeps a record of temporary installation path

install for x64

* installing *source* package 'BeadDataPackR' ...
** libs
"C:/rtools40/mingw64/bin/"gcc  -I"D:/biocbuild/bbs-3.14-bioc/R/include" -DNDEBUG     -I"C:/extsoft/include"     -O2 -Wall  -std=gnu99 -mfpmath=sse -msse2 -mstackrealign  -c BeadDataPackR.c -o BeadDataPackR.o
"C:/rtools40/mingw64/bin/"gcc  -I"D:/biocbuild/bbs-3.14-bioc/R/include" -DNDEBUG     -I"C:/extsoft/include"     -O2 -Wall  -std=gnu99 -mfpmath=sse -msse2 -mstackrealign  -c R_init_BeadDataPackR.c -o R_init_BeadDataPackR.o
C:/rtools40/mingw64/bin/gcc -shared -s -static-libgcc -o BeadDataPackR.dll tmp.def BeadDataPackR.o R_init_BeadDataPackR.o -LC:/extsoft/lib/x64 -LC:/extsoft/lib -LD:/biocbuild/bbs-3.14-bioc/R/bin/x64 -lR
installing to D:/biocbuild/bbs-3.14-bioc/meat/BeadDataPackR.buildbin-libdir/BeadDataPackR/libs/x64
** testing if installed package can be loaded
* MD5 sums
packaged installation of 'BeadDataPackR' as BeadDataPackR_1.45.0.zip
* DONE (BeadDataPackR)
* installing to library 'D:/biocbuild/bbs-3.14-bioc/R/library'
package 'BeadDataPackR' successfully unpacked and MD5 sums checked