Back to Multiple platform build/check report for BioC 3.14
A[B]CDEFGHIJKLMNOPQRSTUVWXYZ

This page was generated on 2021-10-25 14:05:32 -0400 (Mon, 25 Oct 2021).

INSTALL results for BeadDataPackR on nebbiolo2

To the developers/maintainers of the BeadDataPackR package:
- Please allow up to 24 hours (and sometimes 48 hours) for your latest push to git@git.bioconductor.org:packages/BeadDataPackR.git to
reflect on this report. See How and When does the builder pull? When will my changes propagate? here for more information.
- Make sure to use the following settings in order to reproduce any error or warning you see on this page.

raw results

Package 135/2083HostnameOS / ArchINSTALLBUILDCHECKBUILD BIN
BeadDataPackR 1.45.0  (landing page)
Mike Smith
Snapshot Date: 2021-10-24 14:50:04 -0400 (Sun, 24 Oct 2021)
git_url: https://git.bioconductor.org/packages/BeadDataPackR
git_branch: master
git_last_commit: 210da2c
git_last_commit_date: 2021-05-19 11:45:02 -0400 (Wed, 19 May 2021)
nebbiolo2Linux (Ubuntu 20.04.2 LTS) / x86_64  OK    OK    OK  UNNEEDED, same version is already published
riesling1Windows Server 2019 Standard / x64  OK    OK    OK    OK  UNNEEDED, same version is already published
merida1macOS 10.14.6 Mojave / x86_64  OK    OK    OK    OK  UNNEEDED, same version is already published
machv2macOS 10.14.6 Mojave / x86_64  OK    OK    OK    OK  

Summary

Package: BeadDataPackR
Version: 1.45.0
Command: /home/biocbuild/bbs-3.14-bioc/R/bin/R CMD INSTALL BeadDataPackR
StartedAt: 2021-10-24 16:02:05 -0400 (Sun, 24 Oct 2021)
EndedAt: 2021-10-24 16:02:17 -0400 (Sun, 24 Oct 2021)
EllapsedTime: 11.3 seconds
RetCode: 0
Status:   OK  

Command output

##############################################################################
##############################################################################
###
### Running command:
###
###   /home/biocbuild/bbs-3.14-bioc/R/bin/R CMD INSTALL BeadDataPackR
###
##############################################################################
##############################################################################


* installing to library ‘/home/biocbuild/bbs-3.14-bioc/R/library’
* installing *source* package ‘BeadDataPackR’ ...
** using staged installation
** libs
gcc -I"/home/biocbuild/bbs-3.14-bioc/R/include" -DNDEBUG   -I/usr/local/include   -fpic  -g -O2  -Wall -c BeadDataPackR.c -o BeadDataPackR.o
gcc -I"/home/biocbuild/bbs-3.14-bioc/R/include" -DNDEBUG   -I/usr/local/include   -fpic  -g -O2  -Wall -c R_init_BeadDataPackR.c -o R_init_BeadDataPackR.o
gcc -shared -L/home/biocbuild/bbs-3.14-bioc/R/lib -L/usr/local/lib -o BeadDataPackR.so BeadDataPackR.o R_init_BeadDataPackR.o -L/home/biocbuild/bbs-3.14-bioc/R/lib -lR
installing to /home/biocbuild/bbs-3.14-bioc/R/library/00LOCK-BeadDataPackR/00new/BeadDataPackR/libs
** R
** inst
** byte-compile and prepare package for lazy loading
** help
*** installing help indices
** building package indices
** installing vignettes
** testing if installed package can be loaded from temporary location
** checking absolute paths in shared objects and dynamic libraries
** testing if installed package can be loaded from final location
** testing if installed package keeps a record of temporary installation path
* DONE (BeadDataPackR)