Back to Multiple platform build/check report for BioC 3.14
A[B]CDEFGHIJKLMNOPQRSTUVWXYZ

This page was generated on 2021-10-18 12:04:27 -0400 (Mon, 18 Oct 2021).

BUILD results for BeadDataPackR on merida1

To the developers/maintainers of the BeadDataPackR package:
- Please allow up to 24 hours (and sometimes 48 hours) for your latest push to git@git.bioconductor.org:packages/BeadDataPackR.git to
reflect on this report. See How and When does the builder pull? When will my changes propagate? here for more information.
- Make sure to use the following settings in order to reproduce any error or warning you see on this page.

raw results

Package 135/2060HostnameOS / ArchINSTALLBUILDCHECKBUILD BIN
BeadDataPackR 1.45.0  (landing page)
Mike Smith
Snapshot Date: 2021-10-17 14:50:03 -0400 (Sun, 17 Oct 2021)
git_url: https://git.bioconductor.org/packages/BeadDataPackR
git_branch: master
git_last_commit: 210da2c
git_last_commit_date: 2021-05-19 11:45:02 -0400 (Wed, 19 May 2021)
nebbiolo2Linux (Ubuntu 20.04.2 LTS) / x86_64  OK    OK    OK  UNNEEDED, same version is already published
riesling1Windows Server 2019 Standard / x64  OK    OK    OK    OK  UNNEEDED, same version is already published
merida1macOS 10.14.6 Mojave / x86_64  OK    OK    OK    OK  UNNEEDED, same version is already published

Summary

Package: BeadDataPackR
Version: 1.45.0
Command: /Library/Frameworks/R.framework/Resources/bin/R CMD build --keep-empty-dirs --no-resave-data BeadDataPackR
StartedAt: 2021-10-17 18:34:52 -0400 (Sun, 17 Oct 2021)
EndedAt: 2021-10-17 18:35:09 -0400 (Sun, 17 Oct 2021)
EllapsedTime: 16.8 seconds
RetCode: 0
Status:   OK  
PackageFile: BeadDataPackR_1.45.0.tar.gz
PackageFileSize: 229.3 KiB

Command output

##############################################################################
##############################################################################
###
### Running command:
###
###   /Library/Frameworks/R.framework/Resources/bin/R CMD build --keep-empty-dirs --no-resave-data BeadDataPackR
###
##############################################################################
##############################################################################


* checking for file ‘BeadDataPackR/DESCRIPTION’ ... OK
* preparing ‘BeadDataPackR’:
* checking DESCRIPTION meta-information ... OK
* cleaning src
* installing the package to build vignettes
* creating vignettes ... OK
* cleaning src
* checking for LF line-endings in source and make files and shell scripts
* checking for empty or unneeded directories
* building ‘BeadDataPackR_1.45.0.tar.gz’