Back to Multiple platform build/check report for BioC 3.14
A[B]CDEFGHIJKLMNOPQRSTUVWXYZ

This page was generated on 2021-10-18 12:04:27 -0400 (Mon, 18 Oct 2021).

BUILD BIN results for BeadDataPackR on merida1

To the developers/maintainers of the BeadDataPackR package:
- Please allow up to 24 hours (and sometimes 48 hours) for your latest push to git@git.bioconductor.org:packages/BeadDataPackR.git to
reflect on this report. See How and When does the builder pull? When will my changes propagate? here for more information.
- Make sure to use the following settings in order to reproduce any error or warning you see on this page.

raw results

Package 135/2060HostnameOS / ArchINSTALLBUILDCHECKBUILD BIN
BeadDataPackR 1.45.0  (landing page)
Mike Smith
Snapshot Date: 2021-10-17 14:50:03 -0400 (Sun, 17 Oct 2021)
git_url: https://git.bioconductor.org/packages/BeadDataPackR
git_branch: master
git_last_commit: 210da2c
git_last_commit_date: 2021-05-19 11:45:02 -0400 (Wed, 19 May 2021)
nebbiolo2Linux (Ubuntu 20.04.2 LTS) / x86_64  OK    OK    OK  UNNEEDED, same version is already published
riesling1Windows Server 2019 Standard / x64  OK    OK    OK    OK  UNNEEDED, same version is already published
merida1macOS 10.14.6 Mojave / x86_64  OK    OK    OK    OK  UNNEEDED, same version is already published

Summary

Package: BeadDataPackR
Version: 1.45.0
Command: rm -rf BeadDataPackR.buildbin-libdir && mkdir BeadDataPackR.buildbin-libdir && /Users/biocbuild/BBS/utils/build-universal.sh BeadDataPackR_1.45.0.tar.gz /Library/Frameworks/R.framework/Resources/bin/R BeadDataPackR.buildbin-libdir
StartedAt: 2021-10-18 11:23:05 -0400 (Mon, 18 Oct 2021)
EndedAt: 2021-10-18 11:23:56 -0400 (Mon, 18 Oct 2021)
EllapsedTime: 51.6 seconds
RetCode: 0
Status:   OK  
PackageFile: BeadDataPackR_1.45.0.tgz
PackageFileSize: 281.2 KiB

Command output

##############################################################################
##############################################################################
###
### Running command:
###
###   rm -rf BeadDataPackR.buildbin-libdir && mkdir BeadDataPackR.buildbin-libdir && /Users/biocbuild/BBS/utils/build-universal.sh BeadDataPackR_1.45.0.tar.gz /Library/Frameworks/R.framework/Resources/bin/R BeadDataPackR.buildbin-libdir
###
##############################################################################
##############################################################################


>>>>>>> 
>>>>>>> INSTALLATION WITH 'R CMD INSTALL --preclean --no-multiarch --library=BeadDataPackR.buildbin-libdir BeadDataPackR_1.45.0.tar.gz'
>>>>>>> 

* installing *source* package ‘BeadDataPackR’ ...
** using staged installation
** libs
clang -mmacosx-version-min=10.13 -I"/Library/Frameworks/R.framework/Resources/include" -DNDEBUG   -I/usr/local/include   -fPIC  -Wall -g -O2  -c BeadDataPackR.c -o BeadDataPackR.o
clang -mmacosx-version-min=10.13 -I"/Library/Frameworks/R.framework/Resources/include" -DNDEBUG   -I/usr/local/include   -fPIC  -Wall -g -O2  -c R_init_BeadDataPackR.c -o R_init_BeadDataPackR.o
clang -mmacosx-version-min=10.13 -dynamiclib -Wl,-headerpad_max_install_names -undefined dynamic_lookup -single_module -multiply_defined suppress -L/Library/Frameworks/R.framework/Resources/lib -L/usr/local/lib -o BeadDataPackR.so BeadDataPackR.o R_init_BeadDataPackR.o -F/Library/Frameworks/R.framework/.. -framework R -Wl,-framework -Wl,CoreFoundation
installing to /Users/biocbuild/bbs-3.14-bioc/meat/BeadDataPackR.buildbin-libdir/00LOCK-BeadDataPackR/00new/BeadDataPackR/libs
** R
** inst
** byte-compile and prepare package for lazy loading
** help
*** installing help indices
** building package indices
** installing vignettes
** testing if installed package can be loaded from temporary location
** checking absolute paths in shared objects and dynamic libraries
** testing if installed package can be loaded from final location
** testing if installed package keeps a record of temporary installation path
* DONE (BeadDataPackR)


>>>>>>> 
>>>>>>> FIXING LINKS FOR BeadDataPackR.buildbin-libdir/BeadDataPackR/libs/BeadDataPackR.so
>>>>>>> 

install_name_tool -change "/usr/local/lib/libgcc_s.1.dylib" "/Library/Frameworks/R.framework/Versions/4.1/Resources/lib/libgcc_s.1.dylib" "BeadDataPackR.buildbin-libdir/BeadDataPackR/libs/BeadDataPackR.so"
install_name_tool -change "/usr/local/lib/libgfortran.5.dylib" "/Library/Frameworks/R.framework/Versions/4.1/Resources/lib/libgfortran.5.dylib" "BeadDataPackR.buildbin-libdir/BeadDataPackR/libs/BeadDataPackR.so"
install_name_tool -change "/usr/local/lib/libquadmath.0.dylib" "/Library/Frameworks/R.framework/Versions/4.1/Resources/lib/libquadmath.0.dylib" "BeadDataPackR.buildbin-libdir/BeadDataPackR/libs/BeadDataPackR.so"