Index of /checkResults/3.14/bioc-LATEST/BayesSpace/raw-results

[ICO]NameLast modifiedSizeDescription

[DIR]Parent Directory  -  
[   ]info.dcf30-Nov-2021 05:05 274  
[DIR]machv2/30-Nov-2021 05:05 -  
[DIR]nebbiolo2/30-Nov-2021 05:04 -  
[DIR]tokay2/30-Nov-2021 05:05 -