Back to Multiple platform build/check report for BioC 3.14
A[B]CDEFGHIJKLMNOPQRSTUVWXYZ

This page was generated on 2021-10-18 12:03:36 -0400 (Mon, 18 Oct 2021).

INSTALL results for BayesSpace on nebbiolo2

To the developers/maintainers of the BayesSpace package:
- Please allow up to 24 hours (and sometimes 48 hours) for your latest push to git@git.bioconductor.org:packages/BayesSpace.git to
reflect on this report. See How and When does the builder pull? When will my changes propagate? here for more information.
- Make sure to use the following settings in order to reproduce any error or warning you see on this page.

raw results

Package 125/2060HostnameOS / ArchINSTALLBUILDCHECKBUILD BIN
BayesSpace 1.3.1  (landing page)
Matt Stone
Snapshot Date: 2021-10-17 14:50:03 -0400 (Sun, 17 Oct 2021)
git_url: https://git.bioconductor.org/packages/BayesSpace
git_branch: master
git_last_commit: f7aeef9
git_last_commit_date: 2021-10-06 10:38:23 -0400 (Wed, 06 Oct 2021)
nebbiolo2Linux (Ubuntu 20.04.2 LTS) / x86_64  OK    OK    OK  UNNEEDED, same version is already published
riesling1Windows Server 2019 Standard / x64  OK    OK    OK    OK  UNNEEDED, same version is already published
merida1macOS 10.14.6 Mojave / x86_64  OK    OK    OK    OK  UNNEEDED, same version is already published

Summary

Package: BayesSpace
Version: 1.3.1
Command: /home/biocbuild/bbs-3.14-bioc/R/bin/R CMD INSTALL BayesSpace
StartedAt: 2021-10-17 16:17:16 -0400 (Sun, 17 Oct 2021)
EndedAt: 2021-10-17 16:18:19 -0400 (Sun, 17 Oct 2021)
EllapsedTime: 62.8 seconds
RetCode: 0
Status:   OK  

Command output

##############################################################################
##############################################################################
###
### Running command:
###
###   /home/biocbuild/bbs-3.14-bioc/R/bin/R CMD INSTALL BayesSpace
###
##############################################################################
##############################################################################


* installing to library ‘/home/biocbuild/bbs-3.14-bioc/R/library’
* installing *source* package ‘BayesSpace’ ...
** using staged installation
** libs
g++ -std=gnu++11 -I"/home/biocbuild/bbs-3.14-bioc/R/include" -DNDEBUG  -I'/home/biocbuild/bbs-3.14-bioc/R/library/Rcpp/include' -I'/home/biocbuild/bbs-3.14-bioc/R/library/RcppArmadillo/include' -I'/home/biocbuild/bbs-3.14-bioc/R/library/RcppDist/include' -I'/home/biocbuild/bbs-3.14-bioc/R/library/RcppProgress/include' -I/usr/local/include   -fpic  -g -O2  -Wall -c RcppExports.cpp -o RcppExports.o
g++ -std=gnu++11 -I"/home/biocbuild/bbs-3.14-bioc/R/include" -DNDEBUG  -I'/home/biocbuild/bbs-3.14-bioc/R/library/Rcpp/include' -I'/home/biocbuild/bbs-3.14-bioc/R/library/RcppArmadillo/include' -I'/home/biocbuild/bbs-3.14-bioc/R/library/RcppDist/include' -I'/home/biocbuild/bbs-3.14-bioc/R/library/RcppProgress/include' -I/usr/local/include   -fpic  -g -O2  -Wall -c cluster.cpp -o cluster.o
g++ -std=gnu++11 -shared -L/home/biocbuild/bbs-3.14-bioc/R/lib -L/usr/local/lib -o BayesSpace.so RcppExports.o cluster.o -L/home/biocbuild/bbs-3.14-bioc/R/lib -lRlapack -L/home/biocbuild/bbs-3.14-bioc/R/lib -lRblas -lgfortran -lm -lquadmath -L/home/biocbuild/bbs-3.14-bioc/R/lib -lR
installing to /home/biocbuild/bbs-3.14-bioc/R/library/00LOCK-BayesSpace/00new/BayesSpace/libs
** R
** inst
** byte-compile and prepare package for lazy loading
** help
*** installing help indices
** building package indices
** installing vignettes
** testing if installed package can be loaded from temporary location
** checking absolute paths in shared objects and dynamic libraries
** testing if installed package can be loaded from final location
** testing if installed package keeps a record of temporary installation path
* DONE (BayesSpace)