Back to Multiple platform build/check report for BioC 3.14
A[B]CDEFGHIJKLMNOPQRSTUVWXYZ

This page was generated on 2021-10-22 12:04:18 -0400 (Fri, 22 Oct 2021).

BUILD results for BayesKnockdown on riesling1

To the developers/maintainers of the BayesKnockdown package:
- Please allow up to 24 hours (and sometimes 48 hours) for your latest push to git@git.bioconductor.org:packages/BayesKnockdown.git to
reflect on this report. See How and When does the builder pull? When will my changes propagate? here for more information.
- Make sure to use the following settings in order to reproduce any error or warning you see on this page.

raw results

Package 124/2075HostnameOS / ArchINSTALLBUILDCHECKBUILD BIN
BayesKnockdown 1.19.0  (landing page)
William Chad Young
Snapshot Date: 2021-10-21 14:50:08 -0400 (Thu, 21 Oct 2021)
git_url: https://git.bioconductor.org/packages/BayesKnockdown
git_branch: master
git_last_commit: f4af547
git_last_commit_date: 2021-05-19 12:22:12 -0400 (Wed, 19 May 2021)
nebbiolo2Linux (Ubuntu 20.04.2 LTS) / x86_64  OK    OK    OK  UNNEEDED, same version is already published
riesling1Windows Server 2019 Standard / x64  OK    OK    OK    OK  UNNEEDED, same version is already published
merida1macOS 10.14.6 Mojave / x86_64  OK    OK    OK    OK  UNNEEDED, same version is already published

Summary

Package: BayesKnockdown
Version: 1.19.0
Command: chmod a+r BayesKnockdown -R && D:\biocbuild\bbs-3.14-bioc\R\bin\R.exe CMD build --keep-empty-dirs --no-resave-data BayesKnockdown
StartedAt: 2021-10-21 19:41:50 -0400 (Thu, 21 Oct 2021)
EndedAt: 2021-10-21 19:46:52 -0400 (Thu, 21 Oct 2021)
EllapsedTime: 302.0 seconds
RetCode: 0
Status:   OK  
PackageFile: BayesKnockdown_1.19.0.tar.gz
PackageFileSize: 124.5 KiB

Command output

##############################################################################
##############################################################################
###
### Running command:
###
###   chmod a+r BayesKnockdown -R && D:\biocbuild\bbs-3.14-bioc\R\bin\R.exe CMD build --keep-empty-dirs --no-resave-data BayesKnockdown
###
##############################################################################
##############################################################################


* checking for file 'BayesKnockdown/DESCRIPTION' ... OK
* preparing 'BayesKnockdown':
* checking DESCRIPTION meta-information ... OK
* installing the package to build vignettes
* creating vignettes ... OK
* checking for LF line-endings in source and make files and shell scripts
* checking for empty or unneeded directories
* building 'BayesKnockdown_1.19.0.tar.gz'