Back to Multiple platform build/check report for BioC 3.14
A[B]CDEFGHIJKLMNOPQRSTUVWXYZ

This page was generated on 2021-11-26 15:05:42 -0500 (Fri, 26 Nov 2021).

BUILD BIN results for BayesKnockdown on machv2

To the developers/maintainers of the BayesKnockdown package:
- Please allow up to 24 hours (and sometimes 48 hours) for your latest push to git@git.bioconductor.org:packages/BayesKnockdown.git to
reflect on this report. See How and When does the builder pull? When will my changes propagate? here for more information.
- Make sure to use the following settings in order to reproduce any error or warning you see on this page.

raw results

Package 124/2083HostnameOS / ArchINSTALLBUILDCHECKBUILD BIN
BayesKnockdown 1.20.0  (landing page)
William Chad Young
Snapshot Date: 2021-11-25 04:15:05 -0500 (Thu, 25 Nov 2021)
git_url: https://git.bioconductor.org/packages/BayesKnockdown
git_branch: RELEASE_3_14
git_last_commit: a0dc6b6
git_last_commit_date: 2021-10-26 12:29:23 -0500 (Tue, 26 Oct 2021)
nebbiolo2Linux (Ubuntu 20.04.3 LTS) / x86_64  OK    OK    OK  UNNEEDED, same version is already published
tokay2Windows Server 2012 R2 Standard / x64  OK    OK    OK    OK  UNNEEDED, same version is already published
machv2macOS 10.14.6 Mojave / x86_64  OK    OK    OK    OK  UNNEEDED, same version is already published

Summary

Package: BayesKnockdown
Version: 1.20.0
Command: rm -rf BayesKnockdown.buildbin-libdir && mkdir BayesKnockdown.buildbin-libdir && /Users/biocbuild/BBS/utils/build-universal.sh BayesKnockdown_1.20.0.tar.gz /Library/Frameworks/R.framework/Resources/bin/R BayesKnockdown.buildbin-libdir
StartedAt: 2021-11-25 23:26:45 -0500 (Thu, 25 Nov 2021)
EndedAt: 2021-11-25 23:28:02 -0500 (Thu, 25 Nov 2021)
EllapsedTime: 76.7 seconds
RetCode: 0
Status:   OK  
PackageFile: BayesKnockdown_1.20.0.tgz
PackageFileSize: 137.9 KiB

Command output

##############################################################################
##############################################################################
###
### Running command:
###
###   rm -rf BayesKnockdown.buildbin-libdir && mkdir BayesKnockdown.buildbin-libdir && /Users/biocbuild/BBS/utils/build-universal.sh BayesKnockdown_1.20.0.tar.gz /Library/Frameworks/R.framework/Resources/bin/R BayesKnockdown.buildbin-libdir
###
##############################################################################
##############################################################################


>>>>>>> 
>>>>>>> INSTALLATION WITH 'R CMD INSTALL --preclean --no-multiarch --library=BayesKnockdown.buildbin-libdir BayesKnockdown_1.20.0.tar.gz'
>>>>>>> 

* installing *source* package ‘BayesKnockdown’ ...
** using staged installation
** R
** data
*** moving datasets to lazyload DB
** inst
** byte-compile and prepare package for lazy loading
** help
*** installing help indices
** building package indices
** installing vignettes
** testing if installed package can be loaded from temporary location
** testing if installed package can be loaded from final location
** testing if installed package keeps a record of temporary installation path
* DONE (BayesKnockdown)