Back to Multiple platform build/check report for BioC 3.14
A[B]CDEFGHIJKLMNOPQRSTUVWXYZ

This page was generated on 2021-10-26 14:07:40 -0400 (Tue, 26 Oct 2021).

BUILD BIN results for BasicSTARRseq on merida1

To the developers/maintainers of the BasicSTARRseq package:
- Please allow up to 24 hours (and sometimes 48 hours) for your latest push to git@git.bioconductor.org:packages/BasicSTARRseq.git to
reflect on this report. See How and When does the builder pull? When will my changes propagate? here for more information.
- Make sure to use the following settings in order to reproduce any error or warning you see on this page.

raw results

Package 119/2083HostnameOS / ArchINSTALLBUILDCHECKBUILD BIN
BasicSTARRseq 1.21.0  (landing page)
Annika Buerger
Snapshot Date: 2021-10-25 14:50:11 -0400 (Mon, 25 Oct 2021)
git_url: https://git.bioconductor.org/packages/BasicSTARRseq
git_branch: master
git_last_commit: adaefdf
git_last_commit_date: 2021-05-19 12:17:47 -0400 (Wed, 19 May 2021)
nebbiolo2Linux (Ubuntu 20.04.2 LTS) / x86_64  OK    OK    OK  UNNEEDED, same version is already published
riesling1Windows Server 2019 Standard / x64  OK    OK    OK    OK  UNNEEDED, same version is already published
merida1macOS 10.14.6 Mojave / x86_64  OK    OK    OK    OK  UNNEEDED, same version is already published
machv2macOS 10.14.6 Mojave / x86_64  OK    OK    OK    OK  

Summary

Package: BasicSTARRseq
Version: 1.21.0
Command: rm -rf BasicSTARRseq.buildbin-libdir && mkdir BasicSTARRseq.buildbin-libdir && /Users/biocbuild/BBS/utils/build-universal.sh BasicSTARRseq_1.21.0.tar.gz /Library/Frameworks/R.framework/Resources/bin/R BasicSTARRseq.buildbin-libdir
StartedAt: 2021-10-26 11:05:47 -0400 (Tue, 26 Oct 2021)
EndedAt: 2021-10-26 11:06:48 -0400 (Tue, 26 Oct 2021)
EllapsedTime: 60.8 seconds
RetCode: 0
Status:   OK  
PackageFile: BasicSTARRseq_1.21.0.tgz
PackageFileSize: 710.9 KiB

Command output

##############################################################################
##############################################################################
###
### Running command:
###
###   rm -rf BasicSTARRseq.buildbin-libdir && mkdir BasicSTARRseq.buildbin-libdir && /Users/biocbuild/BBS/utils/build-universal.sh BasicSTARRseq_1.21.0.tar.gz /Library/Frameworks/R.framework/Resources/bin/R BasicSTARRseq.buildbin-libdir
###
##############################################################################
##############################################################################


>>>>>>> 
>>>>>>> INSTALLATION WITH 'R CMD INSTALL --preclean --no-multiarch --library=BasicSTARRseq.buildbin-libdir BasicSTARRseq_1.21.0.tar.gz'
>>>>>>> 

* installing *source* package ‘BasicSTARRseq’ ...
** using staged installation
** R
** inst
** byte-compile and prepare package for lazy loading
Creating a new generic function for ‘sample’ in package ‘BasicSTARRseq’
** help
*** installing help indices
** building package indices
** installing vignettes
** testing if installed package can be loaded from temporary location
** testing if installed package can be loaded from final location
** testing if installed package keeps a record of temporary installation path
* DONE (BasicSTARRseq)