Back to Multiple platform build/check report for BioC 3.14
A[B]CDEFGHIJKLMNOPQRSTUVWXYZ

This page was generated on 2021-10-25 14:06:06 -0400 (Mon, 25 Oct 2021).

INSTALL results for Basic4Cseq on riesling1

To the developers/maintainers of the Basic4Cseq package:
- Please allow up to 24 hours (and sometimes 48 hours) for your latest push to git@git.bioconductor.org:packages/Basic4Cseq.git to
reflect on this report. See How and When does the builder pull? When will my changes propagate? here for more information.
- Make sure to use the following settings in order to reproduce any error or warning you see on this page.

raw results

Package 117/2083HostnameOS / ArchINSTALLBUILDCHECKBUILD BIN
Basic4Cseq 1.29.0  (landing page)
Carolin Walter
Snapshot Date: 2021-10-24 14:50:04 -0400 (Sun, 24 Oct 2021)
git_url: https://git.bioconductor.org/packages/Basic4Cseq
git_branch: master
git_last_commit: 12af821
git_last_commit_date: 2021-05-19 12:03:22 -0400 (Wed, 19 May 2021)
nebbiolo2Linux (Ubuntu 20.04.2 LTS) / x86_64  OK    OK    OK  UNNEEDED, same version is already published
riesling1Windows Server 2019 Standard / x64  OK    OK    OK    OK  UNNEEDED, same version is already published
merida1macOS 10.14.6 Mojave / x86_64  OK    OK    OK    OK  UNNEEDED, same version is already published
machv2macOS 10.14.6 Mojave / x86_64  OK    OK    OK    OK  

Summary

Package: Basic4Cseq
Version: 1.29.0
Command: C:\cygwin\bin\curl.exe -O http://155.52.207.166/BBS/3.14/bioc/src/contrib/Basic4Cseq_1.29.0.tar.gz && rm -rf Basic4Cseq.buildbin-libdir && mkdir Basic4Cseq.buildbin-libdir && D:\biocbuild\bbs-3.14-bioc\R\bin\R.exe CMD INSTALL --merge-multiarch --build --library=Basic4Cseq.buildbin-libdir Basic4Cseq_1.29.0.tar.gz && D:\biocbuild\bbs-3.14-bioc\R\bin\R.exe CMD INSTALL Basic4Cseq_1.29.0.zip && rm Basic4Cseq_1.29.0.tar.gz Basic4Cseq_1.29.0.zip
StartedAt: 2021-10-24 18:44:41 -0400 (Sun, 24 Oct 2021)
EndedAt: 2021-10-24 18:47:35 -0400 (Sun, 24 Oct 2021)
EllapsedTime: 173.1 seconds
RetCode: 0
Status:   OK  

Command output

##############################################################################
##############################################################################
###
### Running command:
###
###   C:\cygwin\bin\curl.exe -O http://155.52.207.166/BBS/3.14/bioc/src/contrib/Basic4Cseq_1.29.0.tar.gz && rm -rf Basic4Cseq.buildbin-libdir && mkdir Basic4Cseq.buildbin-libdir && D:\biocbuild\bbs-3.14-bioc\R\bin\R.exe CMD INSTALL --merge-multiarch --build --library=Basic4Cseq.buildbin-libdir Basic4Cseq_1.29.0.tar.gz && D:\biocbuild\bbs-3.14-bioc\R\bin\R.exe CMD INSTALL Basic4Cseq_1.29.0.zip && rm Basic4Cseq_1.29.0.tar.gz Basic4Cseq_1.29.0.zip
###
##############################################################################
##############################################################################


  % Total    % Received % Xferd  Average Speed   Time    Time     Time  Current
                                 Dload  Upload   Total   Spent    Left  Speed

  0     0    0     0    0     0      0      0 --:--:-- --:--:-- --:--:--     0
100  219k  100  219k    0     0   968k      0 --:--:-- --:--:-- --:--:--  968k

install for i386

* installing *source* package 'Basic4Cseq' ...
** using staged installation
** R
** data
** inst
** byte-compile and prepare package for lazy loading
** help
*** installing help indices
  converting help for package 'Basic4Cseq'
    finding HTML links ... done
    Data4Cseq-class                         html  
    Data4Cseq                               html  
    checkRestrictionEnzymeSequence          html  
    chooseNearCisFragments                  html  
    createVirtualFragmentLibrary            html  
    drawDigestionFragmentHistogram          html  
    drawHeatmap                             html  
    exportVisualizationFragmentData         html  
    getReadDistribution                     html  
    giveEnzymeSequence                      html  
    importVisualizationFragmentData         html  
    liverData                               html  
    liverDataRaw                            html  
    normalizeFragmentData                   html  
    plotTransInteractions                   html  
    prepare4CseqData                        html  
    printBEDFragmentLibrary                 html  
    printWigFile                            html  
    readPointsOfInterestFile                html  
    readsToFragments                        html  
    simulateDigestion                       html  
    visualizeViewpoint                      html  
** building package indices
** installing vignettes
** testing if installed package can be loaded from temporary location
** testing if installed package can be loaded from final location
** testing if installed package keeps a record of temporary installation path

install for x64

* installing *source* package 'Basic4Cseq' ...
** testing if installed package can be loaded
* MD5 sums
packaged installation of 'Basic4Cseq' as Basic4Cseq_1.29.0.zip
* DONE (Basic4Cseq)
* installing to library 'D:/biocbuild/bbs-3.14-bioc/R/library'
package 'Basic4Cseq' successfully unpacked and MD5 sums checked