Back to Multiple platform build/check report for BioC 3.14
A[B]CDEFGHIJKLMNOPQRSTUVWXYZ

This page was generated on 2021-10-19 12:04:47 -0400 (Tue, 19 Oct 2021).

CHECK results for Basic4Cseq on riesling1

To the developers/maintainers of the Basic4Cseq package:
- Please allow up to 24 hours (and sometimes 48 hours) for your latest push to git@git.bioconductor.org:packages/Basic4Cseq.git to
reflect on this report. See How and When does the builder pull? When will my changes propagate? here for more information.
- Make sure to use the following settings in order to reproduce any error or warning you see on this page.

raw results

Package 117/2060HostnameOS / ArchINSTALLBUILDCHECKBUILD BIN
Basic4Cseq 1.29.0  (landing page)
Carolin Walter
Snapshot Date: 2021-10-18 14:50:10 -0400 (Mon, 18 Oct 2021)
git_url: https://git.bioconductor.org/packages/Basic4Cseq
git_branch: master
git_last_commit: 12af821
git_last_commit_date: 2021-05-19 12:03:22 -0400 (Wed, 19 May 2021)
nebbiolo2Linux (Ubuntu 20.04.2 LTS) / x86_64  OK    OK    OK  UNNEEDED, same version is already published
riesling1Windows Server 2019 Standard / x64  OK    OK    OK    OK  UNNEEDED, same version is already published
merida1macOS 10.14.6 Mojave / x86_64  OK    OK    OK    OK  UNNEEDED, same version is already published

Summary

Package: Basic4Cseq
Version: 1.29.0
Command: D:\biocbuild\bbs-3.14-bioc\R\bin\R.exe CMD check --force-multiarch --install=check:Basic4Cseq.install-out.txt --library=D:\biocbuild\bbs-3.14-bioc\R\library --no-vignettes --timings Basic4Cseq_1.29.0.tar.gz
StartedAt: 2021-10-19 00:16:45 -0400 (Tue, 19 Oct 2021)
EndedAt: 2021-10-19 00:20:57 -0400 (Tue, 19 Oct 2021)
EllapsedTime: 251.6 seconds
RetCode: 0
Status:   OK  
CheckDir: Basic4Cseq.Rcheck
Warnings: 0

Command output

##############################################################################
##############################################################################
###
### Running command:
###
###   D:\biocbuild\bbs-3.14-bioc\R\bin\R.exe CMD check --force-multiarch --install=check:Basic4Cseq.install-out.txt --library=D:\biocbuild\bbs-3.14-bioc\R\library --no-vignettes --timings Basic4Cseq_1.29.0.tar.gz
###
##############################################################################
##############################################################################


* using log directory 'D:/biocbuild/bbs-3.14-bioc/meat/Basic4Cseq.Rcheck'
* using R version 4.1.1 (2021-08-10)
* using platform: x86_64-w64-mingw32 (64-bit)
* using session charset: ISO8859-1
* using option '--no-vignettes'
* checking for file 'Basic4Cseq/DESCRIPTION' ... OK
* checking extension type ... Package
* this is package 'Basic4Cseq' version '1.29.0'
* checking package namespace information ... OK
* checking package dependencies ... OK
* checking if this is a source package ... OK
* checking if there is a namespace ... OK
* checking for hidden files and directories ... OK
* checking for portable file names ... OK
* checking whether package 'Basic4Cseq' can be installed ... OK
* checking installed package size ... OK
* checking package directory ... OK
* checking 'build' directory ... OK
* checking DESCRIPTION meta-information ... OK
* checking top-level files ... OK
* checking for left-over files ... OK
* checking index information ... OK
* checking package subdirectories ... OK
* checking R files for non-ASCII characters ... OK
* checking R files for syntax errors ... OK
* loading checks for arch 'i386'
** checking whether the package can be loaded ... OK
** checking whether the package can be loaded with stated dependencies ... OK
** checking whether the package can be unloaded cleanly ... OK
** checking whether the namespace can be loaded with stated dependencies ... OK
** checking whether the namespace can be unloaded cleanly ... OK
* loading checks for arch 'x64'
** checking whether the package can be loaded ... OK
** checking whether the package can be loaded with stated dependencies ... OK
** checking whether the package can be unloaded cleanly ... OK
** checking whether the namespace can be loaded with stated dependencies ... OK
** checking whether the namespace can be unloaded cleanly ... OK
* checking dependencies in R code ... OK
* checking S3 generic/method consistency ... OK
* checking replacement functions ... OK
* checking foreign function calls ... OK
* checking R code for possible problems ... OK
* checking Rd files ... OK
* checking Rd metadata ... OK
* checking Rd cross-references ... OK
* checking for missing documentation entries ... OK
* checking for code/documentation mismatches ... OK
* checking Rd \usage sections ... OK
* checking Rd contents ... OK
* checking for unstated dependencies in examples ... OK
* checking contents of 'data' directory ... OK
* checking data for non-ASCII characters ... OK
* checking data for ASCII and uncompressed saves ... OK
* checking files in 'vignettes' ... OK
* checking examples ...
** running examples for arch 'i386' ... OK
** running examples for arch 'x64' ... OK
* checking for unstated dependencies in vignettes ... OK
* checking package vignettes in 'inst/doc' ... OK
* checking running R code from vignettes ... SKIPPED
* checking re-building of vignette outputs ... SKIPPED
* checking PDF version of manual ... OK
* DONE

Status: OK


Installation output

Basic4Cseq.Rcheck/00install.out

##############################################################################
##############################################################################
###
### Running command:
###
###   C:\cygwin\bin\curl.exe -O http://155.52.207.166/BBS/3.14/bioc/src/contrib/Basic4Cseq_1.29.0.tar.gz && rm -rf Basic4Cseq.buildbin-libdir && mkdir Basic4Cseq.buildbin-libdir && D:\biocbuild\bbs-3.14-bioc\R\bin\R.exe CMD INSTALL --merge-multiarch --build --library=Basic4Cseq.buildbin-libdir Basic4Cseq_1.29.0.tar.gz && D:\biocbuild\bbs-3.14-bioc\R\bin\R.exe CMD INSTALL Basic4Cseq_1.29.0.zip && rm Basic4Cseq_1.29.0.tar.gz Basic4Cseq_1.29.0.zip
###
##############################################################################
##############################################################################


  % Total    % Received % Xferd  Average Speed   Time    Time     Time  Current
                                 Dload  Upload   Total   Spent    Left  Speed

  0     0    0     0    0     0      0      0 --:--:-- --:--:-- --:--:--     0
100  219k  100  219k    0     0   972k      0 --:--:-- --:--:-- --:--:--  972k

install for i386

* installing *source* package 'Basic4Cseq' ...
** using staged installation
** R
** data
** inst
** byte-compile and prepare package for lazy loading
** help
*** installing help indices
  converting help for package 'Basic4Cseq'
    finding HTML links ... done
    Data4Cseq-class                         html  
    Data4Cseq                               html  
    checkRestrictionEnzymeSequence          html  
    chooseNearCisFragments                  html  
    createVirtualFragmentLibrary            html  
    drawDigestionFragmentHistogram          html  
    drawHeatmap                             html  
    exportVisualizationFragmentData         html  
    getReadDistribution                     html  
    giveEnzymeSequence                      html  
    importVisualizationFragmentData         html  
    liverData                               html  
    liverDataRaw                            html  
    normalizeFragmentData                   html  
    plotTransInteractions                   html  
    prepare4CseqData                        html  
    printBEDFragmentLibrary                 html  
    printWigFile                            html  
    readPointsOfInterestFile                html  
    readsToFragments                        html  
    simulateDigestion                       html  
    visualizeViewpoint                      html  
** building package indices
** installing vignettes
** testing if installed package can be loaded from temporary location
** testing if installed package can be loaded from final location
** testing if installed package keeps a record of temporary installation path

install for x64

* installing *source* package 'Basic4Cseq' ...
** testing if installed package can be loaded
* MD5 sums
packaged installation of 'Basic4Cseq' as Basic4Cseq_1.29.0.zip
* DONE (Basic4Cseq)
* installing to library 'D:/biocbuild/bbs-3.14-bioc/R/library'
package 'Basic4Cseq' successfully unpacked and MD5 sums checked

Tests output


Example timings

Basic4Cseq.Rcheck/examples_i386/Basic4Cseq-Ex.timings

nameusersystemelapsed
Data4Cseq-class000
Data4Cseq0.050.000.05
checkRestrictionEnzymeSequence000
chooseNearCisFragments0.010.000.02
createVirtualFragmentLibrary000
drawDigestionFragmentHistogram000
drawHeatmap000
exportVisualizationFragmentData000
getReadDistribution0.110.020.12
giveEnzymeSequence000
importVisualizationFragmentData0.020.000.02
liverData000
liverDataRaw0.010.000.02
normalizeFragmentData000
plotTransInteractions000
prepare4CseqData000
printBEDFragmentLibrary000
printWigFile000
readPointsOfInterestFile000
readsToFragments2.710.543.25
simulateDigestion000
visualizeViewpoint0.030.000.03

Basic4Cseq.Rcheck/examples_x64/Basic4Cseq-Ex.timings

nameusersystemelapsed
Data4Cseq-class000
Data4Cseq0.070.020.08
checkRestrictionEnzymeSequence000
chooseNearCisFragments0.000.010.01
createVirtualFragmentLibrary000
drawDigestionFragmentHistogram000
drawHeatmap000
exportVisualizationFragmentData000
getReadDistribution0.620.020.64
giveEnzymeSequence000
importVisualizationFragmentData0.020.000.02
liverData000
liverDataRaw0.000.020.01
normalizeFragmentData000
plotTransInteractions000
prepare4CseqData000
printBEDFragmentLibrary000
printWigFile000
readPointsOfInterestFile0.010.000.02
readsToFragments3.080.593.67
simulateDigestion000
visualizeViewpoint0.020.020.03