Back to Multiple platform build/check report for BioC 3.14
A[B]CDEFGHIJKLMNOPQRSTUVWXYZ

This page was generated on 2021-11-29 15:05:47 -0500 (Mon, 29 Nov 2021).

BUILD BIN results for Basic4Cseq on machv2

To the developers/maintainers of the Basic4Cseq package:
- Please allow up to 24 hours (and sometimes 48 hours) for your latest push to git@git.bioconductor.org:packages/Basic4Cseq.git to
reflect on this report. See How and When does the builder pull? When will my changes propagate? here for more information.
- Make sure to use the following settings in order to reproduce any error or warning you see on this page.

raw results

Package 117/2083HostnameOS / ArchINSTALLBUILDCHECKBUILD BIN
Basic4Cseq 1.30.0  (landing page)
Carolin Walter
Snapshot Date: 2021-11-28 04:15:06 -0500 (Sun, 28 Nov 2021)
git_url: https://git.bioconductor.org/packages/Basic4Cseq
git_branch: RELEASE_3_14
git_last_commit: feb01cf
git_last_commit_date: 2021-10-26 12:12:12 -0500 (Tue, 26 Oct 2021)
nebbiolo2Linux (Ubuntu 20.04.3 LTS) / x86_64  OK    OK    OK  UNNEEDED, same version is already published
tokay2Windows Server 2012 R2 Standard / x64  OK    OK    OK    OK  UNNEEDED, same version is already published
machv2macOS 10.14.6 Mojave / x86_64  OK    OK    OK    OK  UNNEEDED, same version is already published

Summary

Package: Basic4Cseq
Version: 1.30.0
Command: rm -rf Basic4Cseq.buildbin-libdir && mkdir Basic4Cseq.buildbin-libdir && /Users/biocbuild/BBS/utils/build-universal.sh Basic4Cseq_1.30.0.tar.gz /Library/Frameworks/R.framework/Resources/bin/R Basic4Cseq.buildbin-libdir
StartedAt: 2021-11-28 23:08:31 -0500 (Sun, 28 Nov 2021)
EndedAt: 2021-11-28 23:09:40 -0500 (Sun, 28 Nov 2021)
EllapsedTime: 68.7 seconds
RetCode: 0
Status:   OK  
PackageFile: Basic4Cseq_1.30.0.tgz
PackageFileSize: 809.3 KiB

Command output

##############################################################################
##############################################################################
###
### Running command:
###
###   rm -rf Basic4Cseq.buildbin-libdir && mkdir Basic4Cseq.buildbin-libdir && /Users/biocbuild/BBS/utils/build-universal.sh Basic4Cseq_1.30.0.tar.gz /Library/Frameworks/R.framework/Resources/bin/R Basic4Cseq.buildbin-libdir
###
##############################################################################
##############################################################################


>>>>>>> 
>>>>>>> INSTALLATION WITH 'R CMD INSTALL --preclean --no-multiarch --library=Basic4Cseq.buildbin-libdir Basic4Cseq_1.30.0.tar.gz'
>>>>>>> 

* installing *source* package ‘Basic4Cseq’ ...
** using staged installation
** R
** data
** inst
** byte-compile and prepare package for lazy loading
** help
*** installing help indices
** building package indices
** installing vignettes
** testing if installed package can be loaded from temporary location
** testing if installed package can be loaded from final location
** testing if installed package keeps a record of temporary installation path
* DONE (Basic4Cseq)