Back to Multiple platform build/check report for BioC 3.14
A[B]CDEFGHIJKLMNOPQRSTUVWXYZ

This page was generated on 2021-10-26 14:06:52 -0400 (Tue, 26 Oct 2021).

BUILD BIN results for BaseSpaceR on riesling1

To the developers/maintainers of the BaseSpaceR package:
- Please allow up to 24 hours (and sometimes 48 hours) for your latest push to git@git.bioconductor.org:packages/BaseSpaceR.git to
reflect on this report. See How and When does the builder pull? When will my changes propagate? here for more information.
- Make sure to use the following settings in order to reproduce any error or warning you see on this page.

raw results

Package 116/2083HostnameOS / ArchINSTALLBUILDCHECKBUILD BIN
BaseSpaceR 1.37.0  (landing page)
Jared O'Connell
Snapshot Date: 2021-10-25 14:50:11 -0400 (Mon, 25 Oct 2021)
git_url: https://git.bioconductor.org/packages/BaseSpaceR
git_branch: master
git_last_commit: e51e63c
git_last_commit_date: 2021-05-19 11:58:12 -0400 (Wed, 19 May 2021)
nebbiolo2Linux (Ubuntu 20.04.2 LTS) / x86_64  OK    OK    OK  UNNEEDED, same version is already published
riesling1Windows Server 2019 Standard / x64  OK    OK    OK    OK  UNNEEDED, same version is already published
merida1macOS 10.14.6 Mojave / x86_64  OK    OK    OK    OK  UNNEEDED, same version is already published
machv2macOS 10.14.6 Mojave / x86_64  OK    OK    OK    OK  

Summary

Package: BaseSpaceR
Version: 1.37.0
Command: rm -rf BaseSpaceR.buildbin-libdir && mkdir BaseSpaceR.buildbin-libdir && D:\biocbuild\bbs-3.14-bioc\R\bin\R.exe CMD INSTALL --merge-multiarch --build --library=BaseSpaceR.buildbin-libdir BaseSpaceR_1.37.0.tar.gz
StartedAt: 2021-10-26 05:14:14 -0400 (Tue, 26 Oct 2021)
EndedAt: 2021-10-26 05:19:01 -0400 (Tue, 26 Oct 2021)
EllapsedTime: 287.5 seconds
RetCode: 0
Status:   OK  
PackageFile: BaseSpaceR_1.37.0.zip
PackageFileSize: 651.7 KiB

Command output

##############################################################################
##############################################################################
###
### Running command:
###
###   rm -rf BaseSpaceR.buildbin-libdir && mkdir BaseSpaceR.buildbin-libdir && D:\biocbuild\bbs-3.14-bioc\R\bin\R.exe CMD INSTALL --merge-multiarch --build --library=BaseSpaceR.buildbin-libdir BaseSpaceR_1.37.0.tar.gz
###
##############################################################################
##############################################################################



install for i386

* installing *source* package 'BaseSpaceR' ...
** using staged installation
** R
** data
** inst
** byte-compile and prepare package for lazy loading
** help
*** installing help indices
  converting help for package 'BaseSpaceR'
    finding HTML links ... done
    AppAuth-class                           html  
    AppResults-class                        html  
    AppSessionAuth                          html  
    AppSessions-class                       html  
    BaseSpaceR-package                      html  
    Coverage                                html  
    Error                                   html  
    Files-class                             html  
    FilesExtra                              html  
    Genomes-class                           html  
    Projects-class                          html  
    Response-class                          html  
    Runs-class                              html  
    Samples-class                           html  
    ServiceURI-class                        html  
    Users-class                             html  
    Variants                                html  
    data-aAuth                              html  
    private_methods                         html  
** building package indices
** installing vignettes
** testing if installed package can be loaded from temporary location
** testing if installed package can be loaded from final location
** testing if installed package keeps a record of temporary installation path

install for x64

* installing *source* package 'BaseSpaceR' ...
** testing if installed package can be loaded
* MD5 sums
packaged installation of 'BaseSpaceR' as BaseSpaceR_1.37.0.zip
* DONE (BaseSpaceR)