Back to Multiple platform build/check report for BioC 3.14
A[B]CDEFGHIJKLMNOPQRSTUVWXYZ

This page was generated on 2021-10-25 14:05:32 -0400 (Mon, 25 Oct 2021).

CHECK results for BaseSpaceR on nebbiolo2

To the developers/maintainers of the BaseSpaceR package:
- Please allow up to 24 hours (and sometimes 48 hours) for your latest push to git@git.bioconductor.org:packages/BaseSpaceR.git to
reflect on this report. See How and When does the builder pull? When will my changes propagate? here for more information.
- Make sure to use the following settings in order to reproduce any error or warning you see on this page.

raw results

Package 116/2083HostnameOS / ArchINSTALLBUILDCHECKBUILD BIN
BaseSpaceR 1.37.0  (landing page)
Jared O'Connell
Snapshot Date: 2021-10-24 14:50:04 -0400 (Sun, 24 Oct 2021)
git_url: https://git.bioconductor.org/packages/BaseSpaceR
git_branch: master
git_last_commit: e51e63c
git_last_commit_date: 2021-05-19 11:58:12 -0400 (Wed, 19 May 2021)
nebbiolo2Linux (Ubuntu 20.04.2 LTS) / x86_64  OK    OK    OK  UNNEEDED, same version is already published
riesling1Windows Server 2019 Standard / x64  OK    OK    OK    OK  UNNEEDED, same version is already published
merida1macOS 10.14.6 Mojave / x86_64  OK    OK    OK    OK  UNNEEDED, same version is already published
machv2macOS 10.14.6 Mojave / x86_64  OK    OK    OK    OK  

Summary

Package: BaseSpaceR
Version: 1.37.0
Command: /home/biocbuild/bbs-3.14-bioc/R/bin/R CMD check --install=check:BaseSpaceR.install-out.txt --library=/home/biocbuild/bbs-3.14-bioc/R/library --no-vignettes --timings BaseSpaceR_1.37.0.tar.gz
StartedAt: 2021-10-24 19:11:05 -0400 (Sun, 24 Oct 2021)
EndedAt: 2021-10-24 19:11:44 -0400 (Sun, 24 Oct 2021)
EllapsedTime: 38.8 seconds
RetCode: 0
Status:   OK  
CheckDir: BaseSpaceR.Rcheck
Warnings: 0

Command output

##############################################################################
##############################################################################
###
### Running command:
###
###   /home/biocbuild/bbs-3.14-bioc/R/bin/R CMD check --install=check:BaseSpaceR.install-out.txt --library=/home/biocbuild/bbs-3.14-bioc/R/library --no-vignettes --timings BaseSpaceR_1.37.0.tar.gz
###
##############################################################################
##############################################################################


* using log directory ‘/home/biocbuild/bbs-3.14-bioc/meat/BaseSpaceR.Rcheck’
* using R version 4.1.1 (2021-08-10)
* using platform: x86_64-pc-linux-gnu (64-bit)
* using session charset: UTF-8
* using option ‘--no-vignettes’
* checking for file ‘BaseSpaceR/DESCRIPTION’ ... OK
* this is package ‘BaseSpaceR’ version ‘1.37.0’
* checking package namespace information ... OK
* checking package dependencies ... OK
* checking if this is a source package ... OK
* checking if there is a namespace ... OK
* checking for hidden files and directories ... OK
* checking for portable file names ... OK
* checking for sufficient/correct file permissions ... OK
* checking whether package ‘BaseSpaceR’ can be installed ... OK
* checking installed package size ... OK
* checking package directory ... OK
* checking ‘build’ directory ... OK
* checking DESCRIPTION meta-information ... OK
* checking top-level files ... OK
* checking for left-over files ... OK
* checking index information ... OK
* checking package subdirectories ... OK
* checking R files for non-ASCII characters ... OK
* checking R files for syntax errors ... OK
* checking whether the package can be loaded ... OK
* checking whether the package can be loaded with stated dependencies ... OK
* checking whether the package can be unloaded cleanly ... OK
* checking whether the namespace can be loaded with stated dependencies ... OK
* checking whether the namespace can be unloaded cleanly ... OK
* checking dependencies in R code ... NOTE
'library' or 'require' call to ‘Rsamtools’ in package code.
  Please use :: or requireNamespace() instead.
  See section 'Suggested packages' in the 'Writing R Extensions' manual.
* checking S3 generic/method consistency ... OK
* checking replacement functions ... OK
* checking foreign function calls ... OK
* checking R code for possible problems ... NOTE
asBamFile: no visible global function definition for ‘BamFile’
GET,ServiceURI: no visible global function definition for
  ‘basicHeaderGatherer’
GET,ServiceURI: no visible global function definition for
  ‘basicTextGatherer’
GET,ServiceURI: no visible global function definition for ‘getForm’
GET,ServiceURI: no visible global function definition for ‘curlOptions’
POST,ServiceURI: no visible global function definition for
  ‘basicHeaderGatherer’
POST,ServiceURI: no visible global function definition for
  ‘basicTextGatherer’
POST,ServiceURI: no visible global function definition for
  ‘curlPerform’
POSTForm,ServiceURI: no visible global function definition for
  ‘basicHeaderGatherer’
POSTForm,ServiceURI: no visible global function definition for
  ‘basicTextGatherer’
POSTForm,ServiceURI: no visible global function definition for
  ‘postForm’
POSTForm,ServiceURI: no visible global function definition for
  ‘curlOptions’
getBAMs,AppResults: no visible binding for global variable
  ‘BamFileList’
getFiles,AppAuth : .toDisk: no visible global function definition for
  ‘CFILE’
getFiles,AppAuth : .toDisk: no visible global function definition for
  ‘curlPerform’
getFiles,AppAuth : .toMem: no visible global function definition for
  ‘getURLContent’
getFiles,AppAuth : .toMem: no visible binding for global variable
  ‘dsize’
Undefined global functions or variables:
  BamFile BamFileList CFILE basicHeaderGatherer basicTextGatherer
  curlOptions curlPerform dsize getForm getURLContent postForm
* checking Rd files ... OK
* checking Rd metadata ... OK
* checking Rd cross-references ... OK
* checking for missing documentation entries ... OK
* checking for code/documentation mismatches ... OK
* checking Rd \usage sections ... OK
* checking Rd contents ... OK
* checking for unstated dependencies in examples ... OK
* checking contents of ‘data’ directory ... OK
* checking data for non-ASCII characters ... OK
* checking data for ASCII and uncompressed saves ... OK
* checking files in ‘vignettes’ ... OK
* checking examples ... OK
* checking for unstated dependencies in vignettes ... OK
* checking package vignettes in ‘inst/doc’ ... OK
* checking running R code from vignettes ... SKIPPED
* checking re-building of vignette outputs ... SKIPPED
* checking PDF version of manual ... OK
* DONE

Status: 2 NOTEs
See
  ‘/home/biocbuild/bbs-3.14-bioc/meat/BaseSpaceR.Rcheck/00check.log’
for details.



Installation output

BaseSpaceR.Rcheck/00install.out

##############################################################################
##############################################################################
###
### Running command:
###
###   /home/biocbuild/bbs-3.14-bioc/R/bin/R CMD INSTALL BaseSpaceR
###
##############################################################################
##############################################################################


* installing to library ‘/home/biocbuild/bbs-3.14-bioc/R/library’
* installing *source* package ‘BaseSpaceR’ ...
** using staged installation
** R
** data
** inst
** byte-compile and prepare package for lazy loading
** help
*** installing help indices
** building package indices
** installing vignettes
** testing if installed package can be loaded from temporary location
** testing if installed package can be loaded from final location
** testing if installed package keeps a record of temporary installation path
* DONE (BaseSpaceR)

Tests output


Example timings

BaseSpaceR.Rcheck/BaseSpaceR-Ex.timings

nameusersystemelapsed
AppAuth-class0.0940.0280.474
AppResults-class0.0010.0000.001
AppSessionAuth0.0010.0000.001
AppSessions-class0.0010.0000.001
Coverage0.0120.0000.012
Error000
Files-class0.0860.0000.752
FilesExtra0.0750.0080.762
Genomes-class0.1280.0051.462
Projects-class0.1280.0071.281
Response-class0.0020.0000.002
Runs-class0.1790.0042.859
Samples-class0.1510.0001.674
ServiceURI-class0.0010.0000.000
Users-class0.0630.0040.372
Variants0.0680.0040.708
data-aAuth0.0230.0000.107