Back to Multiple platform build/check report for BioC 3.14
A[B]CDEFGHIJKLMNOPQRSTUVWXYZ

This page was generated on 2021-10-20 12:04:36 -0400 (Wed, 20 Oct 2021).

BUILD results for BadRegionFinder on nebbiolo2

To the developers/maintainers of the BadRegionFinder package:
- Please allow up to 24 hours (and sometimes 48 hours) for your latest push to git@git.bioconductor.org:packages/BadRegionFinder.git to
reflect on this report. See How and When does the builder pull? When will my changes propagate? here for more information.
- Make sure to use the following settings in order to reproduce any error or warning you see on this page.

raw results

Package 107/2072HostnameOS / ArchINSTALLBUILDCHECKBUILD BIN
BadRegionFinder 1.21.0  (landing page)
Sarah Sandmann
Snapshot Date: 2021-10-19 14:50:04 -0400 (Tue, 19 Oct 2021)
git_url: https://git.bioconductor.org/packages/BadRegionFinder
git_branch: master
git_last_commit: 0abcd67
git_last_commit_date: 2021-05-19 12:19:30 -0400 (Wed, 19 May 2021)
nebbiolo2Linux (Ubuntu 20.04.2 LTS) / x86_64  OK    OK    OK  UNNEEDED, same version is already published
riesling1Windows Server 2019 Standard / x64  OK    OK    OK    OK  UNNEEDED, same version is already published
merida1macOS 10.14.6 Mojave / x86_64  OK    OK    OK    OK  UNNEEDED, same version is already published

Summary

Package: BadRegionFinder
Version: 1.21.0
Command: /home/biocbuild/bbs-3.14-bioc/R/bin/R CMD build --keep-empty-dirs --no-resave-data BadRegionFinder
StartedAt: 2021-10-19 16:46:15 -0400 (Tue, 19 Oct 2021)
EndedAt: 2021-10-19 16:47:26 -0400 (Tue, 19 Oct 2021)
EllapsedTime: 71.3 seconds
RetCode: 0
Status:   OK  
PackageFile: BadRegionFinder_1.21.0.tar.gz
PackageFileSize: 750.8 KiB

Command output

##############################################################################
##############################################################################
###
### Running command:
###
###   /home/biocbuild/bbs-3.14-bioc/R/bin/R CMD build --keep-empty-dirs --no-resave-data BadRegionFinder
###
##############################################################################
##############################################################################


* checking for file ‘BadRegionFinder/DESCRIPTION’ ... OK
* preparing ‘BadRegionFinder’:
* checking DESCRIPTION meta-information ... OK
* installing the package to process help pages
* saving partial Rd database
* creating vignettes ... OK
* checking for LF line-endings in source and make files and shell scripts
* checking for empty or unneeded directories
* building ‘BadRegionFinder_1.21.0.tar.gz’