Back to Multiple platform build/check report for BioC 3.14
A[B]CDEFGHIJKLMNOPQRSTUVWXYZ

This page was generated on 2022-01-26 13:06:12 -0500 (Wed, 26 Jan 2022).

HostnameOSArch (*)R versionInstalled pkgs
nebbiolo2Linux (Ubuntu 20.04.4 LTS)x86_644.1.2 (2021-11-01) -- "Bird Hippie" 4329
tokay2Windows Server 2012 R2 Standardx644.1.2 (2021-11-01) -- "Bird Hippie" 4080
machv2macOS 10.14.6 Mojavex86_644.1.2 (2021-11-01) -- "Bird Hippie" 4141
Click on any hostname to see more info about the system (e.g. compilers)      (*) as reported by 'uname -p', except on Windows and Mac OS X

INSTALL results for BaalChIP on tokay2


To the developers/maintainers of the BaalChIP package:
- Please allow up to 24 hours (and sometimes 48 hours) for your latest push to git@git.bioconductor.org:packages/BaalChIP.git to
reflect on this report. See How and When does the builder pull? When will my changes propagate? here for more information.
- Make sure to use the following settings in order to reproduce any error or warning you see on this page.

raw results

Package 103/2083HostnameOS / ArchINSTALLBUILDCHECKBUILD BIN
BaalChIP 1.20.0  (landing page)
Ines de Santiago
Snapshot Date: 2022-01-25 01:55:07 -0500 (Tue, 25 Jan 2022)
git_url: https://git.bioconductor.org/packages/BaalChIP
git_branch: RELEASE_3_14
git_last_commit: cd0f8f3
git_last_commit_date: 2021-10-26 12:30:00 -0500 (Tue, 26 Oct 2021)
nebbiolo2Linux (Ubuntu 20.04.4 LTS) / x86_64  OK    OK    WARNINGS  UNNEEDED, same version is already published
tokay2Windows Server 2012 R2 Standard / x64  OK    OK    WARNINGS    OK  UNNEEDED, same version is already published
machv2macOS 10.14.6 Mojave / x86_64  OK    OK    WARNINGS    OK  UNNEEDED, same version is already published

Summary

Package: BaalChIP
Version: 1.20.0
Command: C:\cygwin\bin\curl.exe -O http://155.52.207.166/BBS/3.14/bioc/src/contrib/BaalChIP_1.20.0.tar.gz && rm -rf BaalChIP.buildbin-libdir && mkdir BaalChIP.buildbin-libdir && C:\Users\biocbuild\bbs-3.14-bioc\R\bin\R.exe CMD INSTALL --merge-multiarch --build --library=BaalChIP.buildbin-libdir BaalChIP_1.20.0.tar.gz && C:\Users\biocbuild\bbs-3.14-bioc\R\bin\R.exe CMD INSTALL BaalChIP_1.20.0.zip && rm BaalChIP_1.20.0.tar.gz BaalChIP_1.20.0.zip
StartedAt: 2022-01-25 06:28:46 -0500 (Tue, 25 Jan 2022)
EndedAt: 2022-01-25 06:34:00 -0500 (Tue, 25 Jan 2022)
EllapsedTime: 314.0 seconds
RetCode: 0
Status:   OK  

Command output

##############################################################################
##############################################################################
###
### Running command:
###
###   C:\cygwin\bin\curl.exe -O http://155.52.207.166/BBS/3.14/bioc/src/contrib/BaalChIP_1.20.0.tar.gz && rm -rf BaalChIP.buildbin-libdir && mkdir BaalChIP.buildbin-libdir && C:\Users\biocbuild\bbs-3.14-bioc\R\bin\R.exe CMD INSTALL --merge-multiarch --build --library=BaalChIP.buildbin-libdir BaalChIP_1.20.0.tar.gz && C:\Users\biocbuild\bbs-3.14-bioc\R\bin\R.exe CMD INSTALL BaalChIP_1.20.0.zip && rm BaalChIP_1.20.0.tar.gz BaalChIP_1.20.0.zip
###
##############################################################################
##############################################################################


  % Total    % Received % Xferd  Average Speed   Time    Time     Time  Current
                                 Dload  Upload   Total   Spent    Left  Speed

  0     0    0     0    0     0      0      0 --:--:-- --:--:-- --:--:--     0
  0     0    0     0    0     0      0      0 --:--:-- --:--:-- --:--:--     0
  8 44.3M    8 3988k    0     0  3833k      0  0:00:11  0:00:01  0:00:10 3834k
 21 44.3M   21 9688k    0     0  4787k      0  0:00:09  0:00:02  0:00:07 4786k
 35 44.3M   35 15.9M    0     0  5422k      0  0:00:08  0:00:03  0:00:05 5422k
 52 44.3M   52 23.4M    0     0  5968k      0  0:00:07  0:00:04  0:00:03 5968k
 71 44.3M   71 31.8M    0     0  6502k      0  0:00:06  0:00:05  0:00:01 6549k
 92 44.3M   92 41.0M    0     0  7001k      0  0:00:06  0:00:06 --:--:-- 7663k
100 44.3M  100 44.3M    0     0  7166k      0  0:00:06  0:00:06 --:--:-- 8285k

install for i386

* installing *source* package 'BaalChIP' ...
** using staged installation
** R
** data
*** moving datasets to lazyload DB
** inst
** byte-compile and prepare package for lazy loading
** help
*** installing help indices
  converting help for package 'BaalChIP'
    finding HTML links ... done
    BaalChIP                                html  
    BaalChIP.get                            html  
    BaalChIP.report                         html  
    BaalChIP.run                            html  
    BaalObject                              html  
    ENCODEexample                           html  
    FAIREexample                            html  
    QCfilter                                html  
    UniqueMappability50bp_hg19              html  
    adjustmentBaalPlot                      html  
    alleleCounts                            html  
    blacklist_hg19                          html  
    filter1allele                           html  
    filterIntbias                           html  
    getASB                                  html  
    mergePerGroup                           html  
    pickrell2011cov1_hg19                   html  
    plotQC                                  html  
    plotSimul                               html  
    summaryASB                              html  
    summaryQC                               html  
** building package indices
** installing vignettes
** testing if installed package can be loaded from temporary location
** testing if installed package can be loaded from final location
** testing if installed package keeps a record of temporary installation path

install for x64

* installing *source* package 'BaalChIP' ...
** testing if installed package can be loaded
* MD5 sums
packaged installation of 'BaalChIP' as BaalChIP_1.20.0.zip
* DONE (BaalChIP)
* installing to library 'C:/Users/biocbuild/bbs-3.14-bioc/R/library'
package 'BaalChIP' successfully unpacked and MD5 sums checked