Back to Multiple platform build/check report for BioC 3.14
A[B]CDEFGHIJKLMNOPQRSTUVWXYZ

This page was generated on 2021-10-18 12:03:58 -0400 (Mon, 18 Oct 2021).

BUILD BIN results for BaalChIP on riesling1

To the developers/maintainers of the BaalChIP package:
- Please allow up to 24 hours (and sometimes 48 hours) for your latest push to git@git.bioconductor.org:packages/BaalChIP.git to
reflect on this report. See How and When does the builder pull? When will my changes propagate? here for more information.
- Make sure to use the following settings in order to reproduce any error or warning you see on this page.

raw results

Package 103/2060HostnameOS / ArchINSTALLBUILDCHECKBUILD BIN
BaalChIP 1.19.0  (landing page)
Ines de Santiago
Snapshot Date: 2021-10-17 14:50:03 -0400 (Sun, 17 Oct 2021)
git_url: https://git.bioconductor.org/packages/BaalChIP
git_branch: master
git_last_commit: e4e07e7
git_last_commit_date: 2021-05-19 12:22:59 -0400 (Wed, 19 May 2021)
nebbiolo2Linux (Ubuntu 20.04.2 LTS) / x86_64  OK    OK    WARNINGS  UNNEEDED, same version is already published
riesling1Windows Server 2019 Standard / x64  OK    OK    WARNINGS    OK  UNNEEDED, same version is already published
merida1macOS 10.14.6 Mojave / x86_64  OK    OK    WARNINGS    OK  UNNEEDED, same version is already published

Summary

Package: BaalChIP
Version: 1.19.0
Command: rm -rf BaalChIP.buildbin-libdir && mkdir BaalChIP.buildbin-libdir && D:\biocbuild\bbs-3.14-bioc\R\bin\R.exe CMD INSTALL --merge-multiarch --build --library=BaalChIP.buildbin-libdir BaalChIP_1.19.0.tar.gz
StartedAt: 2021-10-18 04:17:23 -0400 (Mon, 18 Oct 2021)
EndedAt: 2021-10-18 04:21:21 -0400 (Mon, 18 Oct 2021)
EllapsedTime: 238.2 seconds
RetCode: 0
Status:   OK  
PackageFile: BaalChIP_1.19.0.zip
PackageFileSize: 106.5 MiB

Command output

##############################################################################
##############################################################################
###
### Running command:
###
###   rm -rf BaalChIP.buildbin-libdir && mkdir BaalChIP.buildbin-libdir && D:\biocbuild\bbs-3.14-bioc\R\bin\R.exe CMD INSTALL --merge-multiarch --build --library=BaalChIP.buildbin-libdir BaalChIP_1.19.0.tar.gz
###
##############################################################################
##############################################################################



install for i386

* installing *source* package 'BaalChIP' ...
** using staged installation
** R
** data
*** moving datasets to lazyload DB
** inst
** byte-compile and prepare package for lazy loading
** help
*** installing help indices
  converting help for package 'BaalChIP'
    finding HTML links ... done
    BaalChIP                                html  
    BaalChIP.get                            html  
    BaalChIP.report                         html  
    BaalChIP.run                            html  
    BaalObject                              html  
    ENCODEexample                           html  
    FAIREexample                            html  
    QCfilter                                html  
    UniqueMappability50bp_hg19              html  
    adjustmentBaalPlot                      html  
    alleleCounts                            html  
    blacklist_hg19                          html  
    filter1allele                           html  
    filterIntbias                           html  
    getASB                                  html  
    mergePerGroup                           html  
    pickrell2011cov1_hg19                   html  
    plotQC                                  html  
    plotSimul                               html  
    summaryASB                              html  
    summaryQC                               html  
** building package indices
** installing vignettes
** testing if installed package can be loaded from temporary location
** testing if installed package can be loaded from final location
** testing if installed package keeps a record of temporary installation path

install for x64

* installing *source* package 'BaalChIP' ...
** testing if installed package can be loaded
* MD5 sums
packaged installation of 'BaalChIP' as BaalChIP_1.19.0.zip
* DONE (BaalChIP)