Back to Multiple platform build/check report for BioC 3.14
A[B]CDEFGHIJKLMNOPQRSTUVWXYZ

This page was generated on 2021-11-29 15:04:50 -0500 (Mon, 29 Nov 2021).

INSTALL results for BUSpaRse on nebbiolo2

To the developers/maintainers of the BUSpaRse package:
- Please allow up to 24 hours (and sometimes 48 hours) for your latest push to git@git.bioconductor.org:packages/BUSpaRse.git to
reflect on this report. See How and When does the builder pull? When will my changes propagate? here for more information.
- Make sure to use the following settings in order to reproduce any error or warning you see on this page.

raw results

Package 231/2083HostnameOS / ArchINSTALLBUILDCHECKBUILD BIN
BUSpaRse 1.8.0  (landing page)
Lambda Moses
Snapshot Date: 2021-11-28 04:15:06 -0500 (Sun, 28 Nov 2021)
git_url: https://git.bioconductor.org/packages/BUSpaRse
git_branch: RELEASE_3_14
git_last_commit: fa528cf
git_last_commit_date: 2021-10-26 12:53:45 -0500 (Tue, 26 Oct 2021)
nebbiolo2Linux (Ubuntu 20.04.3 LTS) / x86_64  OK    ERROR  skipped
tokay2Windows Server 2012 R2 Standard / x64  OK    OK    ERROR    OK  
machv2macOS 10.14.6 Mojave / x86_64  OK    OK    OK    OK  UNNEEDED, same version is already published

Summary

Package: BUSpaRse
Version: 1.8.0
Command: /home/biocbuild/bbs-3.14-bioc/R/bin/R CMD INSTALL BUSpaRse
StartedAt: 2021-11-28 05:29:35 -0500 (Sun, 28 Nov 2021)
EndedAt: 2021-11-28 05:30:32 -0500 (Sun, 28 Nov 2021)
EllapsedTime: 57.1 seconds
RetCode: 0
Status:   OK  

Command output

##############################################################################
##############################################################################
###
### Running command:
###
###   /home/biocbuild/bbs-3.14-bioc/R/bin/R CMD INSTALL BUSpaRse
###
##############################################################################
##############################################################################


* installing to library ‘/home/biocbuild/bbs-3.14-bioc/R/library’
* installing *source* package ‘BUSpaRse’ ...
** using staged installation
** libs
g++ -std=gnu++11 -I"/home/biocbuild/bbs-3.14-bioc/R/include" -DNDEBUG  -I'/home/biocbuild/bbs-3.14-bioc/R/library/Rcpp/include' -I'/home/biocbuild/bbs-3.14-bioc/R/library/RcppArmadillo/include' -I'/home/biocbuild/bbs-3.14-bioc/R/library/RcppProgress/include' -I'/home/biocbuild/bbs-3.14-bioc/R/library/BH/include' -I/usr/local/include   -fpic  -g -O2  -Wall -c RcppExports.cpp -o RcppExports.o
g++ -std=gnu++11 -I"/home/biocbuild/bbs-3.14-bioc/R/include" -DNDEBUG  -I'/home/biocbuild/bbs-3.14-bioc/R/library/Rcpp/include' -I'/home/biocbuild/bbs-3.14-bioc/R/library/RcppArmadillo/include' -I'/home/biocbuild/bbs-3.14-bioc/R/library/RcppProgress/include' -I'/home/biocbuild/bbs-3.14-bioc/R/library/BH/include' -I/usr/local/include   -fpic  -g -O2  -Wall -c fill_cell_gene.cpp -o fill_cell_gene.o
In file included from /home/biocbuild/bbs-3.14-bioc/R/library/BH/include/boost/mpl/aux_/na_assert.hpp:23,
                 from /home/biocbuild/bbs-3.14-bioc/R/library/BH/include/boost/mpl/arg.hpp:25,
                 from /home/biocbuild/bbs-3.14-bioc/R/library/BH/include/boost/mpl/placeholders.hpp:24,
                 from /home/biocbuild/bbs-3.14-bioc/R/library/BH/include/boost/iterator/iterator_categories.hpp:16,
                 from /home/biocbuild/bbs-3.14-bioc/R/library/BH/include/boost/iterator/iterator_adaptor.hpp:14,
                 from /home/biocbuild/bbs-3.14-bioc/R/library/BH/include/boost/token_iterator.hpp:22,
                 from /home/biocbuild/bbs-3.14-bioc/R/library/BH/include/boost/tokenizer.hpp:20,
                 from fill_cell_gene.cpp:16:
/home/biocbuild/bbs-3.14-bioc/R/library/BH/include/boost/mpl/assert.hpp:194:21: warning: unnecessary parentheses in declaration of ‘assert_arg’ [-Wparentheses]
  194 | failed ************ (Pred::************
      |                     ^
/home/biocbuild/bbs-3.14-bioc/R/library/BH/include/boost/mpl/assert.hpp:199:21: warning: unnecessary parentheses in declaration of ‘assert_not_arg’ [-Wparentheses]
  199 | failed ************ (boost::mpl::not_<Pred>::************
      |                     ^
g++ -std=gnu++11 -shared -L/home/biocbuild/bbs-3.14-bioc/R/lib -L/usr/local/lib -o BUSpaRse.so RcppExports.o fill_cell_gene.o -L/home/biocbuild/bbs-3.14-bioc/R/lib -lRlapack -L/home/biocbuild/bbs-3.14-bioc/R/lib -lRblas -lgfortran -lm -lquadmath -L/home/biocbuild/bbs-3.14-bioc/R/lib -lR
installing to /home/biocbuild/bbs-3.14-bioc/R/library/00LOCK-BUSpaRse/00new/BUSpaRse/libs
** R
** data
*** moving datasets to lazyload DB
** inst
** byte-compile and prepare package for lazy loading
** help
*** installing help indices
** building package indices
** installing vignettes
** testing if installed package can be loaded from temporary location
** checking absolute paths in shared objects and dynamic libraries
** testing if installed package can be loaded from final location
** testing if installed package keeps a record of temporary installation path
* DONE (BUSpaRse)