Back to Multiple platform build/check report for BioC 3.14
A[B]CDEFGHIJKLMNOPQRSTUVWXYZ

This page was generated on 2021-10-23 14:06:20 -0400 (Sat, 23 Oct 2021).

BUILD BIN results for BRAIN on riesling1

To the developers/maintainers of the BRAIN package:
- Please allow up to 24 hours (and sometimes 48 hours) for your latest push to git@git.bioconductor.org:packages/BRAIN.git to
reflect on this report. See How and When does the builder pull? When will my changes propagate? here for more information.
- Make sure to use the following settings in order to reproduce any error or warning you see on this page.

raw results

Package 209/2083HostnameOS / ArchINSTALLBUILDCHECKBUILD BIN
BRAIN 1.39.0  (landing page)
Piotr Dittwald
Snapshot Date: 2021-10-22 14:50:11 -0400 (Fri, 22 Oct 2021)
git_url: https://git.bioconductor.org/packages/BRAIN
git_branch: master
git_last_commit: 1e9a32c
git_last_commit_date: 2021-05-19 11:51:37 -0400 (Wed, 19 May 2021)
nebbiolo2Linux (Ubuntu 20.04.2 LTS) / x86_64  OK    OK    WARNINGS  UNNEEDED, same version is already published
riesling1Windows Server 2019 Standard / x64  OK    OK    WARNINGS    OK  UNNEEDED, same version is already published
merida1macOS 10.14.6 Mojave / x86_64  OK    OK    WARNINGS    OK  UNNEEDED, same version is already published

Summary

Package: BRAIN
Version: 1.39.0
Command: rm -rf BRAIN.buildbin-libdir && mkdir BRAIN.buildbin-libdir && D:\biocbuild\bbs-3.14-bioc\R\bin\R.exe CMD INSTALL --merge-multiarch --build --library=BRAIN.buildbin-libdir BRAIN_1.39.0.tar.gz
StartedAt: 2021-10-23 09:52:44 -0400 (Sat, 23 Oct 2021)
EndedAt: 2021-10-23 09:56:53 -0400 (Sat, 23 Oct 2021)
EllapsedTime: 248.2 seconds
RetCode: 0
Status:   OK  
PackageFile: BRAIN_1.39.0.zip
PackageFileSize: 1.984 MiB

Command output

##############################################################################
##############################################################################
###
### Running command:
###
###   rm -rf BRAIN.buildbin-libdir && mkdir BRAIN.buildbin-libdir && D:\biocbuild\bbs-3.14-bioc\R\bin\R.exe CMD INSTALL --merge-multiarch --build --library=BRAIN.buildbin-libdir BRAIN_1.39.0.tar.gz
###
##############################################################################
##############################################################################



install for i386

* installing *source* package 'BRAIN' ...
** using staged installation
** R
** inst
** byte-compile and prepare package for lazy loading
** help
*** installing help indices
  converting help for package 'BRAIN'
    finding HTML links ... done
    BRAIN-package                           html  
    calculateAverageMass                    html  
    calculateIsotopicProbabilities          html  
    calculateMonoisotopicMass               html  
    calculateNrPeaks                        html  
    getAtomsFromSeq                         html  
    useBRAIN                                html  
    useBRAIN2                               html  
** building package indices
** installing vignettes
** testing if installed package can be loaded from temporary location
** testing if installed package can be loaded from final location
** testing if installed package keeps a record of temporary installation path

install for x64

* installing *source* package 'BRAIN' ...
** testing if installed package can be loaded
* MD5 sums
packaged installation of 'BRAIN' as BRAIN_1.39.0.zip
* DONE (BRAIN)