Back to Multiple platform build/check report for BioC 3.14
A[B]CDEFGHIJKLMNOPQRSTUVWXYZ

This page was generated on 2021-12-03 13:05:41 -0500 (Fri, 03 Dec 2021).

BUILD BIN results for BPRMeth on machv2

To the developers/maintainers of the BPRMeth package:
- Please allow up to 24 hours (and sometimes 48 hours) for your latest push to git@git.bioconductor.org:packages/BPRMeth.git to
reflect on this report. See How and When does the builder pull? When will my changes propagate? here for more information.
- Make sure to use the following settings in order to reproduce any error or warning you see on this page.

raw results

Package 208/2083HostnameOS / ArchINSTALLBUILDCHECKBUILD BIN
BPRMeth 1.20.0  (landing page)
Chantriolnt-Andreas Kapourani
Snapshot Date: 2021-12-02 01:55:06 -0500 (Thu, 02 Dec 2021)
git_url: https://git.bioconductor.org/packages/BPRMeth
git_branch: RELEASE_3_14
git_last_commit: 0135f88
git_last_commit_date: 2021-10-26 12:31:31 -0500 (Tue, 26 Oct 2021)
nebbiolo2Linux (Ubuntu 20.04.3 LTS) / x86_64  OK    OK    OK  UNNEEDED, same version is already published
tokay2Windows Server 2012 R2 Standard / x64  OK    OK    OK    OK  UNNEEDED, same version is already published
machv2macOS 10.14.6 Mojave / x86_64  OK    OK    OK    OK  UNNEEDED, same version is already published

Summary

Package: BPRMeth
Version: 1.20.0
Command: rm -rf BPRMeth.buildbin-libdir && mkdir BPRMeth.buildbin-libdir && /Users/biocbuild/BBS/utils/build-universal.sh BPRMeth_1.20.0.tar.gz /Library/Frameworks/R.framework/Resources/bin/R BPRMeth.buildbin-libdir
StartedAt: 2021-12-02 21:23:09 -0500 (Thu, 02 Dec 2021)
EndedAt: 2021-12-02 21:24:18 -0500 (Thu, 02 Dec 2021)
EllapsedTime: 69.0 seconds
RetCode: 0
Status:   OK  
PackageFile: BPRMeth_1.20.0.tgz
PackageFileSize: 3.59 MiB

Command output

##############################################################################
##############################################################################
###
### Running command:
###
###   rm -rf BPRMeth.buildbin-libdir && mkdir BPRMeth.buildbin-libdir && /Users/biocbuild/BBS/utils/build-universal.sh BPRMeth_1.20.0.tar.gz /Library/Frameworks/R.framework/Resources/bin/R BPRMeth.buildbin-libdir
###
##############################################################################
##############################################################################


>>>>>>> 
>>>>>>> INSTALLATION WITH 'R CMD INSTALL --preclean --no-multiarch --library=BPRMeth.buildbin-libdir BPRMeth_1.20.0.tar.gz'
>>>>>>> 

* installing *source* package ‘BPRMeth’ ...
** using staged installation
** libs
clang++ -mmacosx-version-min=10.13 -std=gnu++11 -I"/Library/Frameworks/R.framework/Resources/include" -DNDEBUG  -I'/Library/Frameworks/R.framework/Versions/4.1/Resources/library/Rcpp/include' -I'/Library/Frameworks/R.framework/Versions/4.1/Resources/library/RcppArmadillo/include' -I/usr/local/include    -fPIC  -Wall -g -O2  -c RcppExports.cpp -o RcppExports.o
clang++ -mmacosx-version-min=10.13 -std=gnu++11 -I"/Library/Frameworks/R.framework/Resources/include" -DNDEBUG  -I'/Library/Frameworks/R.framework/Versions/4.1/Resources/library/Rcpp/include' -I'/Library/Frameworks/R.framework/Versions/4.1/Resources/library/RcppArmadillo/include' -I/usr/local/include    -fPIC  -Wall -g -O2  -c model_likelihood.cpp -o model_likelihood.o
clang++ -mmacosx-version-min=10.13 -std=gnu++11 -dynamiclib -Wl,-headerpad_max_install_names -undefined dynamic_lookup -single_module -multiply_defined suppress -L/Library/Frameworks/R.framework/Resources/lib -L/usr/local/lib -o BPRMeth.so RcppExports.o model_likelihood.o -L/Library/Frameworks/R.framework/Resources/lib -lRlapack -L/Library/Frameworks/R.framework/Resources/lib -lRblas -L/usr/local/gfortran/lib/gcc/x86_64-apple-darwin18/8.2.0 -L/usr/local/gfortran/lib -lgfortran -lquadmath -lm -F/Library/Frameworks/R.framework/.. -framework R -Wl,-framework -Wl,CoreFoundation
installing to /Users/biocbuild/bbs-3.14-bioc/meat/BPRMeth.buildbin-libdir/00LOCK-BPRMeth/00new/BPRMeth/libs
** R
** data
*** moving datasets to lazyload DB
** inst
** byte-compile and prepare package for lazy loading
** help
*** installing help indices
** building package indices
** installing vignettes
** testing if installed package can be loaded from temporary location
** checking absolute paths in shared objects and dynamic libraries
** testing if installed package can be loaded from final location
** testing if installed package keeps a record of temporary installation path
* DONE (BPRMeth)


>>>>>>> 
>>>>>>> FIXING LINKS FOR BPRMeth.buildbin-libdir/BPRMeth/libs/BPRMeth.so
>>>>>>> 

install_name_tool -change "/usr/local/lib/libgcc_s.1.dylib" "/Library/Frameworks/R.framework/Versions/4.1/Resources/lib/libgcc_s.1.dylib" "BPRMeth.buildbin-libdir/BPRMeth/libs/BPRMeth.so"
install_name_tool -change "/usr/local/lib/libgfortran.5.dylib" "/Library/Frameworks/R.framework/Versions/4.1/Resources/lib/libgfortran.5.dylib" "BPRMeth.buildbin-libdir/BPRMeth/libs/BPRMeth.so"
install_name_tool -change "/usr/local/lib/libquadmath.0.dylib" "/Library/Frameworks/R.framework/Versions/4.1/Resources/lib/libquadmath.0.dylib" "BPRMeth.buildbin-libdir/BPRMeth/libs/BPRMeth.so"
install_name_tool -change "/usr/local/gfortran/lib/libgfortran.5.dylib" "/Library/Frameworks/R.framework/Versions/4.1/Resources/lib/libgfortran.5.dylib" "BPRMeth.buildbin-libdir/BPRMeth/libs/BPRMeth.so"
install_name_tool -change "/usr/local/gfortran/lib/libquadmath.0.dylib" "/Library/Frameworks/R.framework/Versions/4.1/Resources/lib/libquadmath.0.dylib" "BPRMeth.buildbin-libdir/BPRMeth/libs/BPRMeth.so"