Back to Multiple platform build/check report for BioC 3.14
A[B]CDEFGHIJKLMNOPQRSTUVWXYZ

This page was generated on 2021-10-18 12:03:12 -0400 (Mon, 18 Oct 2021).

All results for package BPRMeth

To the developers/maintainers of the BPRMeth package:
- Please allow up to 24 hours (and sometimes 48 hours) for your latest push to git@git.bioconductor.org:packages/BPRMeth.git to
reflect on this report. See How and When does the builder pull? When will my changes propagate? here for more information.
- Make sure to use the following settings in order to reproduce any error or warning you see on this page.

raw results

Package 204/2060HostnameOS / ArchINSTALLBUILDCHECKBUILD BIN
BPRMeth 1.19.0  (landing page)
Chantriolnt-Andreas Kapourani
Snapshot Date: 2021-10-17 14:50:03 -0400 (Sun, 17 Oct 2021)
git_url: https://git.bioconductor.org/packages/BPRMeth
git_branch: master
git_last_commit: 22ceb5f
git_last_commit_date: 2021-05-19 12:24:30 -0400 (Wed, 19 May 2021)
nebbiolo2Linux (Ubuntu 20.04.2 LTS) / x86_64  OK    OK    OK  UNNEEDED, same version is already published
riesling1Windows Server 2019 Standard / x64  OK    OK    OK    OK  UNNEEDED, same version is already published
merida1macOS 10.14.6 Mojave / x86_64  OK    OK    OK    OK  UNNEEDED, same version is already published

Results for Bioconductor software packages that depend directly on package BPRMeth

QUICK STATSOS / ArchINSTALLBUILDCHECKBUILD BIN
nebbiolo2Linux (Ubuntu 20.04.2 LTS) / x86_64
001
001
0001
riesling1Windows Server 2019 Standard / x64
001
001
0001
001
merida1macOS 10.14.6 Mojave / x86_64
001
001
0001
000
Package 1/1HostnameOS / ArchINSTALLBUILDCHECKBUILD BIN
Melissa 1.9.0  (landing page)
C. A. Kapourani
git_last_commit: 69119d0
git_last_commit_date: 2021-05-19 12:40:47 -0400
nebbiolo2Linux (Ubuntu 20.04.2 LTS) / x86_64  OK    OK    OK  UNNEEDED, same version is already published
riesling1Windows Server 2019 Standard / x64  OK    OK    OK    OK  UNNEEDED, same version is already published
merida1macOS 10.14.6 Mojave / x86_64  OK    OK    OK    NA