Back to Multiple platform build/check report for BioC 3.14
A[B]CDEFGHIJKLMNOPQRSTUVWXYZ

This page was generated on 2021-10-21 12:04:39 -0400 (Thu, 21 Oct 2021).

INSTALL results for BLMA on riesling1

To the developers/maintainers of the BLMA package:
- Please allow up to 24 hours (and sometimes 48 hours) for your latest push to git@git.bioconductor.org:packages/BLMA.git to
reflect on this report. See How and When does the builder pull? When will my changes propagate? here for more information.
- Make sure to use the following settings in order to reproduce any error or warning you see on this page.

raw results

Package 201/2075HostnameOS / ArchINSTALLBUILDCHECKBUILD BIN
BLMA 1.17.0  (landing page)
Hung Nguyen
Snapshot Date: 2021-10-20 14:50:05 -0400 (Wed, 20 Oct 2021)
git_url: https://git.bioconductor.org/packages/BLMA
git_branch: master
git_last_commit: 20a44ab
git_last_commit_date: 2021-05-19 12:27:28 -0400 (Wed, 19 May 2021)
nebbiolo2Linux (Ubuntu 20.04.2 LTS) / x86_64  OK    OK    OK  UNNEEDED, same version is already published
riesling1Windows Server 2019 Standard / x64  OK    OK    OK    OK  UNNEEDED, same version is already published
merida1macOS 10.14.6 Mojave / x86_64  OK    OK    OK    OK  UNNEEDED, same version is already published

Summary

Package: BLMA
Version: 1.17.0
Command: C:\cygwin\bin\curl.exe -O http://155.52.207.166/BBS/3.14/bioc/src/contrib/BLMA_1.17.0.tar.gz && rm -rf BLMA.buildbin-libdir && mkdir BLMA.buildbin-libdir && D:\biocbuild\bbs-3.14-bioc\R\bin\R.exe CMD INSTALL --merge-multiarch --build --library=BLMA.buildbin-libdir BLMA_1.17.0.tar.gz && D:\biocbuild\bbs-3.14-bioc\R\bin\R.exe CMD INSTALL BLMA_1.17.0.zip && rm BLMA_1.17.0.tar.gz BLMA_1.17.0.zip
StartedAt: 2021-10-20 17:31:31 -0400 (Wed, 20 Oct 2021)
EndedAt: 2021-10-20 17:34:49 -0400 (Wed, 20 Oct 2021)
EllapsedTime: 198.2 seconds
RetCode: 0
Status:   OK  

Command output

##############################################################################
##############################################################################
###
### Running command:
###
###   C:\cygwin\bin\curl.exe -O http://155.52.207.166/BBS/3.14/bioc/src/contrib/BLMA_1.17.0.tar.gz && rm -rf BLMA.buildbin-libdir && mkdir BLMA.buildbin-libdir && D:\biocbuild\bbs-3.14-bioc\R\bin\R.exe CMD INSTALL --merge-multiarch --build --library=BLMA.buildbin-libdir BLMA_1.17.0.tar.gz && D:\biocbuild\bbs-3.14-bioc\R\bin\R.exe CMD INSTALL BLMA_1.17.0.zip && rm BLMA_1.17.0.tar.gz BLMA_1.17.0.zip
###
##############################################################################
##############################################################################


  % Total    % Received % Xferd  Average Speed   Time    Time     Time  Current
                                 Dload  Upload   Total   Spent    Left  Speed

  0     0    0     0    0     0      0      0 --:--:-- --:--:-- --:--:--     0
 10 2575k   10  258k    0     0   740k      0  0:00:03 --:--:--  0:00:03  738k
 86 2575k   86 2232k    0     0  1653k      0  0:00:01  0:00:01 --:--:-- 1652k
100 2575k  100 2575k    0     0  1756k      0  0:00:01  0:00:01 --:--:-- 1755k

install for i386

* installing *source* package 'BLMA' ...
** using staged installation
** R
** data
** inst
** byte-compile and prepare package for lazy loading
** help
*** installing help indices
  converting help for package 'BLMA'
    finding HTML links ... done
    GSE17054                                html  
    GSE33223                                html  
    GSE42140                                html  
    GSE57194                                html  
    addCLT                                  html  
    bilevelAnalysisClassic                  html  
    bilevelAnalysisGene                     html  
    bilevelAnalysisGeneset                  html  
    finding level-2 HTML links ... done

    bilevelAnalysisPathway                  html  
    fisherMethod                            html  
    getStatistics                           html  
    intraAnalysisClassic                    html  
    intraAnalysisGene                       html  
    loadKEGGPathways                        html  
    pORACalc                                html  
    stoufferMethod                          html  
** building package indices
** installing vignettes
** testing if installed package can be loaded from temporary location
** testing if installed package can be loaded from final location
** testing if installed package keeps a record of temporary installation path

install for x64

* installing *source* package 'BLMA' ...
** testing if installed package can be loaded
* MD5 sums
packaged installation of 'BLMA' as BLMA_1.17.0.zip
* DONE (BLMA)
* installing to library 'D:/biocbuild/bbs-3.14-bioc/R/library'
package 'BLMA' successfully unpacked and MD5 sums checked