Index of /checkResults/3.14/bioc-LATEST/BLMA/raw-results/nebbiolo2

[ICO]NameLast modifiedSizeDescription

[DIR]Parent Directory  -  
[TXT]buildsrc-out.txt15-Jan-2022 03:04 857  
[   ]buildsrc-summary.dcf15-Jan-2022 03:04 409  
[TXT]checksrc-out.txt15-Jan-2022 03:04 5.7K 
[   ]checksrc-summary.dcf15-Jan-2022 03:04 412  
[TXT]install-out.txt15-Jan-2022 03:04 946  
[   ]install-summary.dcf15-Jan-2022 03:04 253