Index of /checkResults/3.14/bioc-LATEST/BLMA/raw-results/machv2

[ICO]NameLast modifiedSizeDescription

[DIR]Parent Directory  -  
[TXT]buildbin-out.txt27-Jan-2022 03:07 1.1K 
[   ]buildbin-summary.dcf27-Jan-2022 03:07 512  
[TXT]buildsrc-out.txt27-Jan-2022 03:07 867  
[   ]buildsrc-summary.dcf27-Jan-2022 03:07 419  
[TXT]checksrc-out.txt27-Jan-2022 03:07 5.8K 
[   ]checksrc-summary.dcf27-Jan-2022 03:07 432  
[TXT]install-out.txt27-Jan-2022 03:07 1.0K 
[   ]install-summary.dcf27-Jan-2022 03:07 263