Back to Multiple platform build/check report for BioC 3.14
A[B]CDEFGHIJKLMNOPQRSTUVWXYZ

This page was generated on 2021-10-20 12:05:01 -0400 (Wed, 20 Oct 2021).

BUILD results for BHC on riesling1

To the developers/maintainers of the BHC package:
- Please allow up to 24 hours (and sometimes 48 hours) for your latest push to git@git.bioconductor.org:packages/BHC.git to
reflect on this report. See How and When does the builder pull? When will my changes propagate? here for more information.
- Make sure to use the following settings in order to reproduce any error or warning you see on this page.

raw results

Package 144/2072HostnameOS / ArchINSTALLBUILDCHECKBUILD BIN
BHC 1.45.0  (landing page)
Rich Savage
Snapshot Date: 2021-10-19 14:50:04 -0400 (Tue, 19 Oct 2021)
git_url: https://git.bioconductor.org/packages/BHC
git_branch: master
git_last_commit: fe0e45e
git_last_commit_date: 2021-05-19 11:45:47 -0400 (Wed, 19 May 2021)
nebbiolo2Linux (Ubuntu 20.04.2 LTS) / x86_64  OK    OK    OK  UNNEEDED, same version is already published
riesling1Windows Server 2019 Standard / x64  OK    OK    OK    OK  UNNEEDED, same version is already published
merida1macOS 10.14.6 Mojave / x86_64  OK    OK    WARNINGS    OK  UNNEEDED, same version is already published

Summary

Package: BHC
Version: 1.45.0
Command: chmod a+r BHC -R && D:\biocbuild\bbs-3.14-bioc\R\bin\R.exe CMD build --keep-empty-dirs --no-resave-data BHC
StartedAt: 2021-10-19 19:53:29 -0400 (Tue, 19 Oct 2021)
EndedAt: 2021-10-19 19:57:42 -0400 (Tue, 19 Oct 2021)
EllapsedTime: 253.1 seconds
RetCode: 0
Status:   OK  
PackageFile: BHC_1.45.0.tar.gz
PackageFileSize: 180.8 KiB

Command output

##############################################################################
##############################################################################
###
### Running command:
###
###   chmod a+r BHC -R && D:\biocbuild\bbs-3.14-bioc\R\bin\R.exe CMD build --keep-empty-dirs --no-resave-data BHC
###
##############################################################################
##############################################################################


* checking for file 'BHC/DESCRIPTION' ... OK
* preparing 'BHC':
* checking DESCRIPTION meta-information ... OK
* cleaning src
* installing the package to build vignettes
* creating vignettes ... OK
* cleaning src
* checking for LF line-endings in source and make files and shell scripts
* checking for empty or unneeded directories
* building 'BHC_1.45.0.tar.gz'
Warning: file 'BHC/configure' did not have execute permissions: corrected