Back to Multiple platform build/check report for BioC 3.14
A[B]CDEFGHIJKLMNOPQRSTUVWXYZ

This page was generated on 2021-10-23 14:06:52 -0400 (Sat, 23 Oct 2021).

BUILD results for BGmix on merida1

To the developers/maintainers of the BGmix package:
- Please allow up to 24 hours (and sometimes 48 hours) for your latest push to git@git.bioconductor.org:packages/BGmix.git to
reflect on this report. See How and When does the builder pull? When will my changes propagate? here for more information.
- Make sure to use the following settings in order to reproduce any error or warning you see on this page.

raw results

Package 142/2083HostnameOS / ArchINSTALLBUILDCHECKBUILD BIN
BGmix 1.53.0  (landing page)
Alex Lewin
Snapshot Date: 2021-10-22 14:50:11 -0400 (Fri, 22 Oct 2021)
git_url: https://git.bioconductor.org/packages/BGmix
git_branch: master
git_last_commit: c91f31e
git_last_commit_date: 2021-05-19 11:40:00 -0400 (Wed, 19 May 2021)
nebbiolo2Linux (Ubuntu 20.04.2 LTS) / x86_64  OK    OK    WARNINGS  UNNEEDED, same version is already published
riesling1Windows Server 2019 Standard / x64... NOT SUPPORTED ...
merida1macOS 10.14.6 Mojave / x86_64  OK    OK    OK    OK  UNNEEDED, same version is already published

Summary

Package: BGmix
Version: 1.53.0
Command: /Library/Frameworks/R.framework/Resources/bin/R CMD build --keep-empty-dirs --no-resave-data BGmix
StartedAt: 2021-10-22 18:40:19 -0400 (Fri, 22 Oct 2021)
EndedAt: 2021-10-22 18:41:05 -0400 (Fri, 22 Oct 2021)
EllapsedTime: 46.2 seconds
RetCode: 0
Status:   OK  
PackageFile: BGmix_1.53.0.tar.gz
PackageFileSize: 1.551 MiB

Command output

##############################################################################
##############################################################################
###
### Running command:
###
###   /Library/Frameworks/R.framework/Resources/bin/R CMD build --keep-empty-dirs --no-resave-data BGmix
###
##############################################################################
##############################################################################


* checking for file ‘BGmix/DESCRIPTION’ ... OK
* preparing ‘BGmix’:
* checking DESCRIPTION meta-information ... OK
* cleaning src
* installing the package to build vignettes
* creating vignettes ... OK
* cleaning src
* checking for LF line-endings in source and make files and shell scripts
* checking for empty or unneeded directories
* looking to see if a ‘data/datalist’ file should be added
* building ‘BGmix_1.53.0.tar.gz’