Back to Multiple platform build/check report for BioC 3.14
A[B]CDEFGHIJKLMNOPQRSTUVWXYZ

This page was generated on 2021-10-21 12:04:38 -0400 (Thu, 21 Oct 2021).

BUILD results for BEclear on riesling1

To the developers/maintainers of the BEclear package:
- Please allow up to 24 hours (and sometimes 48 hours) for your latest push to git@git.bioconductor.org:packages/BEclear.git to
reflect on this report. See How and When does the builder pull? When will my changes propagate? here for more information.
- Make sure to use the following settings in order to reproduce any error or warning you see on this page.

raw results

Package 138/2075HostnameOS / ArchINSTALLBUILDCHECKBUILD BIN
BEclear 2.9.2  (landing page)
David Rasp
Snapshot Date: 2021-10-20 14:50:05 -0400 (Wed, 20 Oct 2021)
git_url: https://git.bioconductor.org/packages/BEclear
git_branch: master
git_last_commit: d3ce372
git_last_commit_date: 2021-10-07 13:22:07 -0400 (Thu, 07 Oct 2021)
nebbiolo2Linux (Ubuntu 20.04.2 LTS) / x86_64  OK    OK    OK  UNNEEDED, same version is already published
riesling1Windows Server 2019 Standard / x64  OK    OK    OK    OK  UNNEEDED, same version is already published
merida1macOS 10.14.6 Mojave / x86_64  OK    OK    OK    OK  UNNEEDED, same version is already published

Summary

Package: BEclear
Version: 2.9.2
Command: chmod a+r BEclear -R && D:\biocbuild\bbs-3.14-bioc\R\bin\R.exe CMD build --keep-empty-dirs --no-resave-data BEclear
StartedAt: 2021-10-20 19:52:51 -0400 (Wed, 20 Oct 2021)
EndedAt: 2021-10-20 19:57:23 -0400 (Wed, 20 Oct 2021)
EllapsedTime: 272.5 seconds
RetCode: 0
Status:   OK  
PackageFile: BEclear_2.9.2.tar.gz
PackageFileSize: 562.3 KiB

Command output

##############################################################################
##############################################################################
###
### Running command:
###
###   chmod a+r BEclear -R && D:\biocbuild\bbs-3.14-bioc\R\bin\R.exe CMD build --keep-empty-dirs --no-resave-data BEclear
###
##############################################################################
##############################################################################


* checking for file 'BEclear/DESCRIPTION' ... OK
* preparing 'BEclear':
* checking DESCRIPTION meta-information ... OK
* cleaning src
* installing the package to process help pages
Loading required namespace: BEclear
* saving partial Rd database
* creating vignettes ... OK
* cleaning src
* checking for LF line-endings in source and make files and shell scripts
* checking for empty or unneeded directories
* looking to see if a 'data/datalist' file should be added
* building 'BEclear_2.9.2.tar.gz'