Back to Multiple platform build/check report for BioC 3.14
A[B]CDEFGHIJKLMNOPQRSTUVWXYZ

This page was generated on 2022-01-21 13:05:59 -0500 (Fri, 21 Jan 2022).

HostnameOSArch (*)R versionInstalled pkgs
nebbiolo2Linux (Ubuntu 20.04.4 LTS)x86_644.1.2 (2021-11-01) -- "Bird Hippie" 4329
tokay2Windows Server 2012 R2 Standardx644.1.2 (2021-11-01) -- "Bird Hippie" 4079
machv2macOS 10.14.6 Mojavex86_644.1.2 (2021-11-01) -- "Bird Hippie" 4140
Click on any hostname to see more info about the system (e.g. compilers)      (*) as reported by 'uname -p', except on Windows and Mac OS X

BUILD results for BEARscc on tokay2


To the developers/maintainers of the BEARscc package:
- Please allow up to 24 hours (and sometimes 48 hours) for your latest push to git@git.bioconductor.org:packages/BEARscc.git to
reflect on this report. See How and When does the builder pull? When will my changes propagate? here for more information.
- Make sure to use the following settings in order to reproduce any error or warning you see on this page.

raw results

Package 136/2083HostnameOS / ArchINSTALLBUILDCHECKBUILD BIN
BEARscc 1.14.0  (landing page)
Benjamin Schuster-Boeckler
Snapshot Date: 2022-01-20 01:55:04 -0500 (Thu, 20 Jan 2022)
git_url: https://git.bioconductor.org/packages/BEARscc
git_branch: RELEASE_3_14
git_last_commit: e44dfa3
git_last_commit_date: 2021-10-26 12:41:25 -0500 (Tue, 26 Oct 2021)
nebbiolo2Linux (Ubuntu 20.04.4 LTS) / x86_64  OK    OK    OK  UNNEEDED, same version is already published
tokay2Windows Server 2012 R2 Standard / x64  OK    OK    OK    OK  UNNEEDED, same version is already published
machv2macOS 10.14.6 Mojave / x86_64  OK    OK    OK    OK  UNNEEDED, same version is already published

Summary

Package: BEARscc
Version: 1.14.0
Command: chmod a+r BEARscc -R && C:\Users\biocbuild\bbs-3.14-bioc\R\bin\R.exe CMD build --keep-empty-dirs --no-resave-data BEARscc
StartedAt: 2022-01-20 08:35:46 -0500 (Thu, 20 Jan 2022)
EndedAt: 2022-01-20 08:37:20 -0500 (Thu, 20 Jan 2022)
EllapsedTime: 94.3 seconds
RetCode: 0
Status:   OK  
PackageFile: BEARscc_1.14.0.tar.gz
PackageFileSize: 629.6 KiB

Command output

##############################################################################
##############################################################################
###
### Running command:
###
###   chmod a+r BEARscc -R && C:\Users\biocbuild\bbs-3.14-bioc\R\bin\R.exe CMD build --keep-empty-dirs --no-resave-data BEARscc
###
##############################################################################
##############################################################################


* checking for file 'BEARscc/DESCRIPTION' ... OK
* preparing 'BEARscc':
* checking DESCRIPTION meta-information ... OK
* installing the package to process help pages
* saving partial Rd database
* creating vignettes ... OK
* checking for LF line-endings in source and make files and shell scripts
* checking for empty or unneeded directories
* looking to see if a 'data/datalist' file should be added
  NB: this package now depends on R (>= 3.5.0)
  WARNING: Added dependency on R >= 3.5.0 because serialized objects in
  serialize/load version 3 cannot be read in older versions of R.
  File(s) containing such objects:
    'BEARscc/data/BEARscc_examples.RData'
    'BEARscc/data/analysis_examples.RData'
* building 'BEARscc_1.14.0.tar.gz'