Back to Multiple platform build/check report for BioC 3.14
A[B]CDEFGHIJKLMNOPQRSTUVWXYZ

This page was generated on 2021-10-18 12:04:27 -0400 (Mon, 18 Oct 2021).

BUILD results for BEARscc on merida1

To the developers/maintainers of the BEARscc package:
- Please allow up to 24 hours (and sometimes 48 hours) for your latest push to git@git.bioconductor.org:packages/BEARscc.git to
reflect on this report. See How and When does the builder pull? When will my changes propagate? here for more information.
- Make sure to use the following settings in order to reproduce any error or warning you see on this page.

raw results

Package 136/2060HostnameOS / ArchINSTALLBUILDCHECKBUILD BIN
BEARscc 1.13.0  (landing page)
Benjamin Schuster-Boeckler
Snapshot Date: 2021-10-17 14:50:03 -0400 (Sun, 17 Oct 2021)
git_url: https://git.bioconductor.org/packages/BEARscc
git_branch: master
git_last_commit: 7932bcd
git_last_commit_date: 2021-05-19 12:33:02 -0400 (Wed, 19 May 2021)
nebbiolo2Linux (Ubuntu 20.04.2 LTS) / x86_64  OK    OK    OK  UNNEEDED, same version is already published
riesling1Windows Server 2019 Standard / x64  OK    OK    OK    OK  UNNEEDED, same version is already published
merida1macOS 10.14.6 Mojave / x86_64  OK    OK    OK    OK  UNNEEDED, same version is already published

Summary

Package: BEARscc
Version: 1.13.0
Command: /Library/Frameworks/R.framework/Resources/bin/R CMD build --keep-empty-dirs --no-resave-data BEARscc
StartedAt: 2021-10-17 18:35:17 -0400 (Sun, 17 Oct 2021)
EndedAt: 2021-10-17 18:36:56 -0400 (Sun, 17 Oct 2021)
EllapsedTime: 99.1 seconds
RetCode: 0
Status:   OK  
PackageFile: BEARscc_1.13.0.tar.gz
PackageFileSize: 642.9 KiB

Command output

##############################################################################
##############################################################################
###
### Running command:
###
###   /Library/Frameworks/R.framework/Resources/bin/R CMD build --keep-empty-dirs --no-resave-data BEARscc
###
##############################################################################
##############################################################################


* checking for file ‘BEARscc/DESCRIPTION’ ... OK
* preparing ‘BEARscc’:
* checking DESCRIPTION meta-information ... OK
* installing the package to process help pages
* saving partial Rd database
* creating vignettes ... OK
* checking for LF line-endings in source and make files and shell scripts
* checking for empty or unneeded directories
* looking to see if a ‘data/datalist’ file should be added
  NB: this package now depends on R (>= 3.5.0)
  WARNING: Added dependency on R >= 3.5.0 because serialized objects in
  serialize/load version 3 cannot be read in older versions of R.
  File(s) containing such objects:
    ‘BEARscc/data/BEARscc_examples.RData’
    ‘BEARscc/data/analysis_examples.RData’
* building ‘BEARscc_1.13.0.tar.gz’