Back to Multiple platform build/check report for BioC 3.14
A[B]CDEFGHIJKLMNOPQRSTUVWXYZ

This page was generated on 2021-10-20 12:05:01 -0400 (Wed, 20 Oct 2021).

INSTALL results for BDMMAcorrect on riesling1

To the developers/maintainers of the BDMMAcorrect package:
- Please allow up to 24 hours (and sometimes 48 hours) for your latest push to git@git.bioconductor.org:packages/BDMMAcorrect.git to
reflect on this report. See How and When does the builder pull? When will my changes propagate? here for more information.
- Make sure to use the following settings in order to reproduce any error or warning you see on this page.

raw results

Package 131/2072HostnameOS / ArchINSTALLBUILDCHECKBUILD BIN
BDMMAcorrect 1.11.0  (landing page)
ZHENWEI DAI
Snapshot Date: 2021-10-19 14:50:04 -0400 (Tue, 19 Oct 2021)
git_url: https://git.bioconductor.org/packages/BDMMAcorrect
git_branch: master
git_last_commit: afb09c4
git_last_commit_date: 2021-05-19 12:39:32 -0400 (Wed, 19 May 2021)
nebbiolo2Linux (Ubuntu 20.04.2 LTS) / x86_64  OK    OK    OK  UNNEEDED, same version is already published
riesling1Windows Server 2019 Standard / x64  OK    OK    OK    OK  UNNEEDED, same version is already published
merida1macOS 10.14.6 Mojave / x86_64  OK    OK    OK    OK  UNNEEDED, same version is already published

Summary

Package: BDMMAcorrect
Version: 1.11.0
Command: C:\cygwin\bin\curl.exe -O http://155.52.207.166/BBS/3.14/bioc/src/contrib/BDMMAcorrect_1.11.0.tar.gz && rm -rf BDMMAcorrect.buildbin-libdir && mkdir BDMMAcorrect.buildbin-libdir && D:\biocbuild\bbs-3.14-bioc\R\bin\R.exe CMD INSTALL --merge-multiarch --build --library=BDMMAcorrect.buildbin-libdir BDMMAcorrect_1.11.0.tar.gz && D:\biocbuild\bbs-3.14-bioc\R\bin\R.exe CMD INSTALL BDMMAcorrect_1.11.0.zip && rm BDMMAcorrect_1.11.0.tar.gz BDMMAcorrect_1.11.0.zip
StartedAt: 2021-10-19 17:56:14 -0400 (Tue, 19 Oct 2021)
EndedAt: 2021-10-19 17:59:35 -0400 (Tue, 19 Oct 2021)
EllapsedTime: 201.8 seconds
RetCode: 0
Status:   OK  

Command output

##############################################################################
##############################################################################
###
### Running command:
###
###   C:\cygwin\bin\curl.exe -O http://155.52.207.166/BBS/3.14/bioc/src/contrib/BDMMAcorrect_1.11.0.tar.gz && rm -rf BDMMAcorrect.buildbin-libdir && mkdir BDMMAcorrect.buildbin-libdir && D:\biocbuild\bbs-3.14-bioc\R\bin\R.exe CMD INSTALL --merge-multiarch --build --library=BDMMAcorrect.buildbin-libdir BDMMAcorrect_1.11.0.tar.gz && D:\biocbuild\bbs-3.14-bioc\R\bin\R.exe CMD INSTALL BDMMAcorrect_1.11.0.zip && rm BDMMAcorrect_1.11.0.tar.gz BDMMAcorrect_1.11.0.zip
###
##############################################################################
##############################################################################


  % Total    % Received % Xferd  Average Speed   Time    Time     Time  Current
                                 Dload  Upload   Total   Spent    Left  Speed

  0     0    0     0    0     0      0      0 --:--:-- --:--:-- --:--:--     0
 10  371k   10 41637    0     0   269k      0  0:00:01 --:--:--  0:00:01  269k
100  371k  100  371k    0     0  1620k      0 --:--:-- --:--:-- --:--:-- 1613k

install for i386

* installing *source* package 'BDMMAcorrect' ...
** using staged installation
** libs
"C:/rtools40/mingw32/bin/"g++ -std=gnu++11  -I"D:/biocbuild/bbs-3.14-bioc/R/include" -DNDEBUG  -I'D:/biocbuild/bbs-3.14-bioc/R/library/Rcpp/include' -I'D:/biocbuild/bbs-3.14-bioc/R/library/RcppArmadillo/include' -I'D:/biocbuild/bbs-3.14-bioc/R/library/RcppEigen/include'   -I"C:/extsoft/include"  -DARMA_DONT_USE_OPENMP   -O2 -Wall  -mfpmath=sse -msse2 -mstackrealign  -c MCMC_algorithm.cpp -o MCMC_algorithm.o
In file included from D:/biocbuild/bbs-3.14-bioc/R/library/RcppEigen/include/Eigen/Core:397,
                 from D:/biocbuild/bbs-3.14-bioc/R/library/RcppEigen/include/Eigen/Dense:1,
                 from D:/biocbuild/bbs-3.14-bioc/R/library/RcppEigen/include/RcppEigenForward.h:30,
                 from D:/biocbuild/bbs-3.14-bioc/R/library/RcppEigen/include/RcppEigen.h:25,
                 from MCMC_algorithm.cpp:3:
D:/biocbuild/bbs-3.14-bioc/R/library/RcppEigen/include/Eigen/src/Core/arch/SSE/PacketMath.h:60:39: warning: ignoring attributes on template argument '__m128' {aka '__vector(4) float'} [-Wignored-attributes]
 template<> struct is_arithmetic<__m128>  { enum { value = true }; };
                                       ^
D:/biocbuild/bbs-3.14-bioc/R/library/RcppEigen/include/Eigen/src/Core/arch/SSE/PacketMath.h:61:40: warning: ignoring attributes on template argument '__m128i' {aka '__vector(2) long long int'} [-Wignored-attributes]
 template<> struct is_arithmetic<__m128i> { enum { value = true }; };
                                        ^
D:/biocbuild/bbs-3.14-bioc/R/library/RcppEigen/include/Eigen/src/Core/arch/SSE/PacketMath.h:62:40: warning: ignoring attributes on template argument '__m128d' {aka '__vector(2) double'} [-Wignored-attributes]
 template<> struct is_arithmetic<__m128d> { enum { value = true }; };
                                        ^
D:/biocbuild/bbs-3.14-bioc/R/library/RcppEigen/include/Eigen/src/Core/arch/SSE/PacketMath.h:161:43: warning: ignoring attributes on template argument 'Eigen::internal::Packet4f' {aka '__vector(4) float'} [-Wignored-attributes]
 template<> struct unpacket_traits<Packet4f> { typedef float  type; enum {size=4, alignment=Aligned16}; typedef Packet4f half; };
                                           ^
D:/biocbuild/bbs-3.14-bioc/R/library/RcppEigen/include/Eigen/src/Core/arch/SSE/PacketMath.h:162:43: warning: ignoring attributes on template argument 'Eigen::internal::Packet2d' {aka '__vector(2) double'} [-Wignored-attributes]
 template<> struct unpacket_traits<Packet2d> { typedef double type; enum {size=2, alignment=Aligned16}; typedef Packet2d half; };
                                           ^
D:/biocbuild/bbs-3.14-bioc/R/library/RcppEigen/include/Eigen/src/Core/arch/SSE/PacketMath.h:163:43: warning: ignoring attributes on template argument 'Eigen::internal::Packet4i' {aka '__vector(2) long long int'} [-Wignored-attributes]
 template<> struct unpacket_traits<Packet4i> { typedef int    type; enum {size=4, alignment=Aligned16}; typedef Packet4i half; };
                                           ^
D:/biocbuild/bbs-3.14-bioc/R/library/RcppEigen/include/Eigen/src/Core/arch/SSE/PacketMath.h:718:35: warning: ignoring attributes on template argument 'Eigen::internal::Packet4f' {aka '__vector(4) float'} [-Wignored-attributes]
 struct palign_impl<Offset,Packet4f>
                                   ^
D:/biocbuild/bbs-3.14-bioc/R/library/RcppEigen/include/Eigen/src/Core/arch/SSE/PacketMath.h:741:35: warning: ignoring attributes on template argument 'Eigen::internal::Packet4i' {aka '__vector(2) long long int'} [-Wignored-attributes]
 struct palign_impl<Offset,Packet4i>
                                   ^
D:/biocbuild/bbs-3.14-bioc/R/library/RcppEigen/include/Eigen/src/Core/arch/SSE/PacketMath.h:764:35: warning: ignoring attributes on template argument 'Eigen::internal::Packet2d' {aka '__vector(2) double'} [-Wignored-attributes]
 struct palign_impl<Offset,Packet2d>
                                   ^
D:/biocbuild/bbs-3.14-bioc/R/library/RcppEigen/include/Eigen/src/Core/arch/SSE/PacketMath.h:778:34: warning: ignoring attributes on template argument 'Eigen::internal::Packet4f' {aka '__vector(4) float'} [-Wignored-attributes]
 ptranspose(PacketBlock<Packet4f,4>& kernel) {
                                  ^
D:/biocbuild/bbs-3.14-bioc/R/library/RcppEigen/include/Eigen/src/Core/arch/SSE/PacketMath.h:783:34: warning: ignoring attributes on template argument 'Eigen::internal::Packet2d' {aka '__vector(2) double'} [-Wignored-attributes]
 ptranspose(PacketBlock<Packet2d,2>& kernel) {
                                  ^
D:/biocbuild/bbs-3.14-bioc/R/library/RcppEigen/include/Eigen/src/Core/arch/SSE/PacketMath.h:790:34: warning: ignoring attributes on template argument 'Eigen::internal::Packet4i' {aka '__vector(2) long long int'} [-Wignored-attributes]
 ptranspose(PacketBlock<Packet4i,4>& kernel) {
                                  ^
In file included from D:/biocbuild/bbs-3.14-bioc/R/library/RcppEigen/include/Eigen/Core:377,
                 from D:/biocbuild/bbs-3.14-bioc/R/library/RcppEigen/include/Eigen/Dense:1,
                 from D:/biocbuild/bbs-3.14-bioc/R/library/RcppEigen/include/RcppEigenForward.h:30,
                 from D:/biocbuild/bbs-3.14-bioc/R/library/RcppEigen/include/RcppEigen.h:25,
                 from MCMC_algorithm.cpp:3:
D:/biocbuild/bbs-3.14-bioc/R/library/RcppEigen/include/Eigen/src/Core/arch/Default/ConjHelper.h:15:70: warning: ignoring attributes on template argument 'Eigen::internal::Packet4f' {aka '__vector(4) float'} [-Wignored-attributes]
   template<> struct conj_helper<PACKET_REAL, PACKET_CPLX, false,false> {                                          \
                                                                      ^
D:/biocbuild/bbs-3.14-bioc/R/library/RcppEigen/include/Eigen/src/Core/arch/SSE/Complex.h:232:1: note: in expansion of macro 'EIGEN_MAKE_CONJ_HELPER_CPLX_REAL'
 EIGEN_MAKE_CONJ_HELPER_CPLX_REAL(Packet2cf,Packet4f)
 ^~~~~~~~~~~~~~~~~~~~~~~~~~~~~~~~
D:/biocbuild/bbs-3.14-bioc/R/library/RcppEigen/include/Eigen/src/Core/arch/Default/ConjHelper.h:22:70: warning: ignoring attributes on template argument 'Eigen::internal::Packet4f' {aka '__vector(4) float'} [-Wignored-attributes]
   template<> struct conj_helper<PACKET_CPLX, PACKET_REAL, false,false> {                                          \
                                                                      ^
D:/biocbuild/bbs-3.14-bioc/R/library/RcppEigen/include/Eigen/src/Core/arch/SSE/Complex.h:232:1: note: in expansion of macro 'EIGEN_MAKE_CONJ_HELPER_CPLX_REAL'
 EIGEN_MAKE_CONJ_HELPER_CPLX_REAL(Packet2cf,Packet4f)
 ^~~~~~~~~~~~~~~~~~~~~~~~~~~~~~~~
D:/biocbuild/bbs-3.14-bioc/R/library/RcppEigen/include/Eigen/src/Core/arch/Default/ConjHelper.h:15:70: warning: ignoring attributes on template argument 'Eigen::internal::Packet2d' {aka '__vector(2) double'} [-Wignored-attributes]
   template<> struct conj_helper<PACKET_REAL, PACKET_CPLX, false,false> {                                          \
                                                                      ^
D:/biocbuild/bbs-3.14-bioc/R/library/RcppEigen/include/Eigen/src/Core/arch/SSE/Complex.h:417:1: note: in expansion of macro 'EIGEN_MAKE_CONJ_HELPER_CPLX_REAL'
 EIGEN_MAKE_CONJ_HELPER_CPLX_REAL(Packet1cd,Packet2d)
 ^~~~~~~~~~~~~~~~~~~~~~~~~~~~~~~~
D:/biocbuild/bbs-3.14-bioc/R/library/RcppEigen/include/Eigen/src/Core/arch/Default/ConjHelper.h:22:70: warning: ignoring attributes on template argument 'Eigen::internal::Packet2d' {aka '__vector(2) double'} [-Wignored-attributes]
   template<> struct conj_helper<PACKET_CPLX, PACKET_REAL, false,false> {                                          \
                                                                      ^
D:/biocbuild/bbs-3.14-bioc/R/library/RcppEigen/include/Eigen/src/Core/arch/SSE/Complex.h:417:1: note: in expansion of macro 'EIGEN_MAKE_CONJ_HELPER_CPLX_REAL'
 EIGEN_MAKE_CONJ_HELPER_CPLX_REAL(Packet1cd,Packet2d)
 ^~~~~~~~~~~~~~~~~~~~~~~~~~~~~~~~
In file included from D:/biocbuild/bbs-3.14-bioc/R/library/RcppEigen/include/Eigen/Core:370,
                 from D:/biocbuild/bbs-3.14-bioc/R/library/RcppEigen/include/Eigen/Dense:1,
                 from D:/biocbuild/bbs-3.14-bioc/R/library/RcppEigen/include/RcppEigenForward.h:30,
                 from D:/biocbuild/bbs-3.14-bioc/R/library/RcppEigen/include/RcppEigen.h:25,
                 from MCMC_algorithm.cpp:3:
D:/biocbuild/bbs-3.14-bioc/R/library/RcppEigen/include/Eigen/src/Core/util/XprHelper.h: In instantiation of 'struct Eigen::internal::find_best_packet<int, -1>':
D:/biocbuild/bbs-3.14-bioc/R/library/RcppEigen/include/Eigen/src/Core/Matrix.h:22:57:   required from 'struct Eigen::internal::traits<Eigen::Matrix<int, 1, -1> >'
D:/biocbuild/bbs-3.14-bioc/R/library/RcppEigen/include/Eigen/src/Core/Array.h:17:8:   required from 'struct Eigen::internal::traits<Eigen::Array<int, 1, -1> >'
D:/biocbuild/bbs-3.14-bioc/R/library/RcppEigen/include/Eigen/src/Core/PlainObjectBase.h:98:7:   required from 'class Eigen::PlainObjectBase<Eigen::Array<int, 1, -1> >'
D:/biocbuild/bbs-3.14-bioc/R/library/RcppEigen/include/Eigen/src/Core/Array.h:45:7:   required from 'class Eigen::Array<int, 1, -1>'
D:/biocbuild/bbs-3.14-bioc/R/library/RcppEigen/include/Eigen/src/SVD/BDCSVD.h:101:22:   required from here
D:/biocbuild/bbs-3.14-bioc/R/library/RcppEigen/include/Eigen/src/Core/util/XprHelper.h:187:44: warning: ignoring attributes on template argument 'Eigen::internal::packet_traits<int>::type' {aka '__vector(2) long long int'} [-Wignored-attributes]
          bool Stop = Size==Dynamic || (Size%unpacket_traits<PacketType>::size)==0 || is_same<PacketType,typename unpacket_traits<PacketType>::half>::value>
                                       ~~~~~^~~~~~~~~~~~~~~~~~~~~~~~~~~~~~~~~~~
D:/biocbuild/bbs-3.14-bioc/R/library/RcppEigen/include/Eigen/src/Core/util/XprHelper.h:187:83: warning: ignoring attributes on template argument 'Eigen::internal::packet_traits<int>::type' {aka '__vector(2) long long int'} [-Wignored-attributes]
          bool Stop = Size==Dynamic || (Size%unpacket_traits<PacketType>::size)==0 || is_same<PacketType,typename unpacket_traits<PacketType>::half>::value>
                      ~~~~~~~~~~~~~~~~~~~~~~~~~~~~~~~~~~~~~~~~~~~~~~~~~~~~~~~~~~~~~^~~~~~~~~~~~~~~~~~~~~~~~~~~~~~~~~~~~~~~~~~~~~~~~~~~~~~~~~~~~~~~~~
D:/biocbuild/bbs-3.14-bioc/R/library/RcppEigen/include/Eigen/src/Core/util/XprHelper.h:187:83: warning: ignoring attributes on template argument 'Eigen::internal::packet_traits<int>::type' {aka '__vector(2) long long int'} [-Wignored-attributes]
D:/biocbuild/bbs-3.14-bioc/R/library/RcppEigen/include/Eigen/src/Core/util/XprHelper.h:187:83: warning: ignoring attributes on template argument 'Eigen::internal::unpacket_traits<__vector(2) long long int>::half' {aka '__vector(2) long long int'} [-Wignored-attributes]
D:/biocbuild/bbs-3.14-bioc/R/library/RcppEigen/include/Eigen/src/Core/util/XprHelper.h:205:88: warning: ignoring attributes on template argument 'Eigen::internal::packet_traits<int>::type' {aka '__vector(2) long long int'} [-Wignored-attributes]
   typedef typename find_best_packet_helper<Size,typename packet_traits<T>::type>::type type;
                                                                                        ^~~~
In file included from D:/biocbuild/bbs-3.14-bioc/R/library/RcppEigen/include/Eigen/Core:439,
                 from D:/biocbuild/bbs-3.14-bioc/R/library/RcppEigen/include/Eigen/Dense:1,
                 from D:/biocbuild/bbs-3.14-bioc/R/library/RcppEigen/include/RcppEigenForward.h:30,
                 from D:/biocbuild/bbs-3.14-bioc/R/library/RcppEigen/include/RcppEigen.h:25,
                 from MCMC_algorithm.cpp:3:
D:/biocbuild/bbs-3.14-bioc/R/library/RcppEigen/include/Eigen/src/Core/DenseCoeffsBase.h: In instantiation of 'class Eigen::DenseCoeffsBase<Eigen::Array<int, 1, -1>, 0>':
D:/biocbuild/bbs-3.14-bioc/R/library/RcppEigen/include/Eigen/src/Core/DenseCoeffsBase.h:300:7:   required from 'class Eigen::DenseCoeffsBase<Eigen::Array<int, 1, -1>, 1>'
D:/biocbuild/bbs-3.14-bioc/R/library/RcppEigen/include/Eigen/src/Core/DenseCoeffsBase.h:551:7:   required from 'class Eigen::DenseCoeffsBase<Eigen::Array<int, 1, -1>, 3>'
D:/biocbuild/bbs-3.14-bioc/R/library/RcppEigen/include/Eigen/src/Core/DenseBase.h:41:34:   required from 'class Eigen::DenseBase<Eigen::Array<int, 1, -1> >'
D:/biocbuild/bbs-3.14-bioc/R/library/RcppEigen/include/Eigen/src/Core/ArrayBase.h:39:34:   required from 'class Eigen::ArrayBase<Eigen::Array<int, 1, -1> >'
D:/biocbuild/bbs-3.14-bioc/R/library/RcppEigen/include/Eigen/src/Core/PlainObjectBase.h:98:7:   required from 'class Eigen::PlainObjectBase<Eigen::Array<int, 1, -1> >'
D:/biocbuild/bbs-3.14-bioc/R/library/RcppEigen/include/Eigen/src/Core/Array.h:45:7:   required from 'class Eigen::Array<int, 1, -1>'
D:/biocbuild/bbs-3.14-bioc/R/library/RcppEigen/include/Eigen/src/SVD/BDCSVD.h:101:22:   required from here
D:/biocbuild/bbs-3.14-bioc/R/library/RcppEigen/include/Eigen/src/Core/DenseCoeffsBase.h:55:30: warning: ignoring attributes on template argument 'Eigen::internal::packet_traits<int>::type' {aka '__vector(2) long long int'} [-Wignored-attributes]
                      >::type PacketReturnType;
                              ^~~~~~~~~~~~~~~~
D:/biocbuild/bbs-3.14-bioc/R/library/RcppEigen/include/Eigen/src/Core/DenseCoeffsBase.h: In instantiation of 'class Eigen::DenseCoeffsBase<Eigen::Ref<Eigen::Array<int, 1, -1> >, 0>':
D:/biocbuild/bbs-3.14-bioc/R/library/RcppEigen/include/Eigen/src/Core/DenseCoeffsBase.h:300:7:   required from 'class Eigen::DenseCoeffsBase<Eigen::Ref<Eigen::Array<int, 1, -1> >, 1>'
D:/biocbuild/bbs-3.14-bioc/R/library/RcppEigen/include/Eigen/src/Core/DenseCoeffsBase.h:551:7:   required from 'class Eigen::DenseCoeffsBase<Eigen::Ref<Eigen::Array<int, 1, -1> >, 3>'
D:/biocbuild/bbs-3.14-bioc/R/library/RcppEigen/include/Eigen/src/Core/DenseBase.h:41:34:   required from 'class Eigen::DenseBase<Eigen::Ref<Eigen::Array<int, 1, -1> > >'
D:/biocbuild/bbs-3.14-bioc/R/library/RcppEigen/include/Eigen/src/Core/ArrayBase.h:39:34:   required from 'class Eigen::ArrayBase<Eigen::Ref<Eigen::Array<int, 1, -1> > >'
D:/biocbuild/bbs-3.14-bioc/R/library/RcppEigen/include/Eigen/src/Core/MapBase.h:37:34:   required from 'class Eigen::MapBase<Eigen::Ref<Eigen::Array<int, 1, -1> >, 0>'
D:/biocbuild/bbs-3.14-bioc/R/library/RcppEigen/include/Eigen/src/Core/MapBase.h:221:34:   required from 'class Eigen::MapBase<Eigen::Ref<Eigen::Array<int, 1, -1> >, 1>'
D:/biocbuild/bbs-3.14-bioc/R/library/RcppEigen/include/Eigen/src/Core/Ref.h:59:34:   required from 'class Eigen::RefBase<Eigen::Ref<Eigen::Array<int, 1, -1> > >'
D:/biocbuild/bbs-3.14-bioc/R/library/RcppEigen/include/Eigen/src/Core/Ref.h:193:76:   required from 'class Eigen::Ref<Eigen::Array<int, 1, -1> >'
D:/biocbuild/bbs-3.14-bioc/R/library/RcppEigen/include/Eigen/src/SVD/BDCSVD.h:694:17:   required from here
D:/biocbuild/bbs-3.14-bioc/R/library/RcppEigen/include/Eigen/src/Core/DenseCoeffsBase.h:55:30: warning: ignoring attributes on template argument 'Eigen::internal::packet_traits<int>::type' {aka '__vector(2) long long int'} [-Wignored-attributes]
In file included from D:/biocbuild/bbs-3.14-bioc/R/library/RcppEigen/include/Eigen/Core:370,
                 from D:/biocbuild/bbs-3.14-bioc/R/library/RcppEigen/include/Eigen/Dense:1,
                 from D:/biocbuild/bbs-3.14-bioc/R/library/RcppEigen/include/RcppEigenForward.h:30,
                 from D:/biocbuild/bbs-3.14-bioc/R/library/RcppEigen/include/RcppEigen.h:25,
                 from MCMC_algorithm.cpp:3:
D:/biocbuild/bbs-3.14-bioc/R/library/RcppEigen/include/Eigen/src/Core/util/XprHelper.h: In instantiation of 'struct Eigen::internal::find_best_packet<float, 4>':
D:/biocbuild/bbs-3.14-bioc/R/library/RcppEigen/include/Eigen/src/Core/Matrix.h:22:57:   required from 'struct Eigen::internal::traits<Eigen::Matrix<float, 4, 1> >'
D:/biocbuild/bbs-3.14-bioc/R/library/RcppEigen/include/Eigen/src/Geometry/Quaternion.h:242:7:   required from 'struct Eigen::internal::traits<Eigen::Quaternion<float> >'
D:/biocbuild/bbs-3.14-bioc/R/library/RcppEigen/include/Eigen/src/Geometry/arch/Geometry_SSE.h:24:46:   required from here
D:/biocbuild/bbs-3.14-bioc/R/library/RcppEigen/include/Eigen/src/Core/util/XprHelper.h:187:44: warning: ignoring attributes on template argument 'Eigen::internal::packet_traits<float>::type' {aka '__vector(4) float'} [-Wignored-attributes]
          bool Stop = Size==Dynamic || (Size%unpacket_traits<PacketType>::size)==0 || is_same<PacketType,typename unpacket_traits<PacketType>::half>::value>
                                       ~~~~~^~~~~~~~~~~~~~~~~~~~~~~~~~~~~~~~~~~
D:/biocbuild/bbs-3.14-bioc/R/library/RcppEigen/include/Eigen/src/Core/util/XprHelper.h:187:83: warning: ignoring attributes on template argument 'Eigen::internal::packet_traits<float>::type' {aka '__vector(4) float'} [-Wignored-attributes]
          bool Stop = Size==Dynamic || (Size%unpacket_traits<PacketType>::size)==0 || is_same<PacketType,typename unpacket_traits<PacketType>::half>::value>
                      ~~~~~~~~~~~~~~~~~~~~~~~~~~~~~~~~~~~~~~~~~~~~~~~~~~~~~~~~~~~~~^~~~~~~~~~~~~~~~~~~~~~~~~~~~~~~~~~~~~~~~~~~~~~~~~~~~~~~~~~~~~~~~~
D:/biocbuild/bbs-3.14-bioc/R/library/RcppEigen/include/Eigen/src/Core/util/XprHelper.h:187:83: warning: ignoring attributes on template argument 'Eigen::internal::packet_traits<float>::type' {aka '__vector(4) float'} [-Wignored-attributes]
D:/biocbuild/bbs-3.14-bioc/R/library/RcppEigen/include/Eigen/src/Core/util/XprHelper.h:187:83: warning: ignoring attributes on template argument 'Eigen::internal::unpacket_traits<__vector(4) float>::half' {aka '__vector(4) float'} [-Wignored-attributes]
D:/biocbuild/bbs-3.14-bioc/R/library/RcppEigen/include/Eigen/src/Core/util/XprHelper.h:205:88: warning: ignoring attributes on template argument 'Eigen::internal::packet_traits<float>::type' {aka '__vector(4) float'} [-Wignored-attributes]
   typedef typename find_best_packet_helper<Size,typename packet_traits<T>::type>::type type;
                                                                                        ^~~~
In file included from D:/biocbuild/bbs-3.14-bioc/R/library/RcppEigen/include/Eigen/Core:439,
                 from D:/biocbuild/bbs-3.14-bioc/R/library/RcppEigen/include/Eigen/Dense:1,
                 from D:/biocbuild/bbs-3.14-bioc/R/library/RcppEigen/include/RcppEigenForward.h:30,
                 from D:/biocbuild/bbs-3.14-bioc/R/library/RcppEigen/include/RcppEigen.h:25,
                 from MCMC_algorithm.cpp:3:
D:/biocbuild/bbs-3.14-bioc/R/library/RcppEigen/include/Eigen/src/Core/DenseCoeffsBase.h: In instantiation of 'class Eigen::DenseCoeffsBase<Eigen::Matrix<float, 4, 1>, 0>':
D:/biocbuild/bbs-3.14-bioc/R/library/RcppEigen/include/Eigen/src/Core/DenseCoeffsBase.h:300:7:   required from 'class Eigen::DenseCoeffsBase<Eigen::Matrix<float, 4, 1>, 1>'
D:/biocbuild/bbs-3.14-bioc/R/library/RcppEigen/include/Eigen/src/Core/DenseCoeffsBase.h:551:7:   required from 'class Eigen::DenseCoeffsBase<Eigen::Matrix<float, 4, 1>, 3>'
D:/biocbuild/bbs-3.14-bioc/R/library/RcppEigen/include/Eigen/src/Core/DenseBase.h:41:34:   required from 'class Eigen::DenseBase<Eigen::Matrix<float, 4, 1> >'
D:/biocbuild/bbs-3.14-bioc/R/library/RcppEigen/include/Eigen/src/Core/MatrixBase.h:48:34:   required from 'class Eigen::MatrixBase<Eigen::Matrix<float, 4, 1> >'
D:/biocbuild/bbs-3.14-bioc/R/library/RcppEigen/include/Eigen/src/Core/PlainObjectBase.h:98:7:   required from 'class Eigen::PlainObjectBase<Eigen::Matrix<float, 4, 1> >'
D:/biocbuild/bbs-3.14-bioc/R/library/RcppEigen/include/Eigen/src/Core/Matrix.h:178:7:   required from 'class Eigen::Matrix<float, 4, 1>'
D:/biocbuild/bbs-3.14-bioc/R/library/RcppEigen/include/Eigen/src/Geometry/Quaternion.h:46:50:   required from 'class Eigen::QuaternionBase<Eigen::Quaternion<float> >'
D:/biocbuild/bbs-3.14-bioc/R/library/RcppEigen/include/Eigen/src/Geometry/Quaternion.h:250:7:   required from 'class Eigen::Quaternion<float>'
D:/biocbuild/bbs-3.14-bioc/R/library/RcppEigen/include/Eigen/src/Geometry/arch/Geometry_SSE.h:27:3:   required from here
D:/biocbuild/bbs-3.14-bioc/R/library/RcppEigen/include/Eigen/src/Core/DenseCoeffsBase.h:55:30: warning: ignoring attributes on template argument 'Eigen::internal::packet_traits<float>::type' {aka '__vector(4) float'} [-Wignored-attributes]
                      >::type PacketReturnType;
                              ^~~~~~~~~~~~~~~~
In file included from D:/biocbuild/bbs-3.14-bioc/R/library/RcppEigen/include/Eigen/Core:370,
                 from D:/biocbuild/bbs-3.14-bioc/R/library/RcppEigen/include/Eigen/Dense:1,
                 from D:/biocbuild/bbs-3.14-bioc/R/library/RcppEigen/include/RcppEigenForward.h:30,
                 from D:/biocbuild/bbs-3.14-bioc/R/library/RcppEigen/include/RcppEigen.h:25,
                 from MCMC_algorithm.cpp:3:
D:/biocbuild/bbs-3.14-bioc/R/library/RcppEigen/include/Eigen/src/Core/util/XprHelper.h: In instantiation of 'struct Eigen::internal::find_best_packet<double, 4>':
D:/biocbuild/bbs-3.14-bioc/R/library/RcppEigen/include/Eigen/src/Core/Matrix.h:22:57:   required from 'struct Eigen::internal::traits<Eigen::Matrix<double, 4, 1> >'
D:/biocbuild/bbs-3.14-bioc/R/library/RcppEigen/include/Eigen/src/Geometry/Quaternion.h:242:7:   required from 'struct Eigen::internal::traits<Eigen::Quaternion<double> >'
D:/biocbuild/bbs-3.14-bioc/R/library/RcppEigen/include/Eigen/src/Geometry/arch/Geometry_SSE.h:88:47:   required from here
D:/biocbuild/bbs-3.14-bioc/R/library/RcppEigen/include/Eigen/src/Core/util/XprHelper.h:187:44: warning: ignoring attributes on template argument 'Eigen::internal::packet_traits<double>::type' {aka '__vector(2) double'} [-Wignored-attributes]
          bool Stop = Size==Dynamic || (Size%unpacket_traits<PacketType>::size)==0 || is_same<PacketType,typename unpacket_traits<PacketType>::half>::value>
                                       ~~~~~^~~~~~~~~~~~~~~~~~~~~~~~~~~~~~~~~~~
D:/biocbuild/bbs-3.14-bioc/R/library/RcppEigen/include/Eigen/src/Core/util/XprHelper.h:187:83: warning: ignoring attributes on template argument 'Eigen::internal::packet_traits<double>::type' {aka '__vector(2) double'} [-Wignored-attributes]
          bool Stop = Size==Dynamic || (Size%unpacket_traits<PacketType>::size)==0 || is_same<PacketType,typename unpacket_traits<PacketType>::half>::value>
                      ~~~~~~~~~~~~~~~~~~~~~~~~~~~~~~~~~~~~~~~~~~~~~~~~~~~~~~~~~~~~~^~~~~~~~~~~~~~~~~~~~~~~~~~~~~~~~~~~~~~~~~~~~~~~~~~~~~~~~~~~~~~~~~
D:/biocbuild/bbs-3.14-bioc/R/library/RcppEigen/include/Eigen/src/Core/util/XprHelper.h:187:83: warning: ignoring attributes on template argument 'Eigen::internal::packet_traits<double>::type' {aka '__vector(2) double'} [-Wignored-attributes]
D:/biocbuild/bbs-3.14-bioc/R/library/RcppEigen/include/Eigen/src/Core/util/XprHelper.h:187:83: warning: ignoring attributes on template argument 'Eigen::internal::unpacket_traits<__vector(2) double>::half' {aka '__vector(2) double'} [-Wignored-attributes]
D:/biocbuild/bbs-3.14-bioc/R/library/RcppEigen/include/Eigen/src/Core/util/XprHelper.h:205:88: warning: ignoring attributes on template argument 'Eigen::internal::packet_traits<double>::type' {aka '__vector(2) double'} [-Wignored-attributes]
   typedef typename find_best_packet_helper<Size,typename packet_traits<T>::type>::type type;
                                                                                        ^~~~
In file included from D:/biocbuild/bbs-3.14-bioc/R/library/RcppEigen/include/Eigen/Core:439,
                 from D:/biocbuild/bbs-3.14-bioc/R/library/RcppEigen/include/Eigen/Dense:1,
                 from D:/biocbuild/bbs-3.14-bioc/R/library/RcppEigen/include/RcppEigenForward.h:30,
                 from D:/biocbuild/bbs-3.14-bioc/R/library/RcppEigen/include/RcppEigen.h:25,
                 from MCMC_algorithm.cpp:3:
D:/biocbuild/bbs-3.14-bioc/R/library/RcppEigen/include/Eigen/src/Core/DenseCoeffsBase.h: In instantiation of 'class Eigen::DenseCoeffsBase<Eigen::Matrix<double, 4, 1>, 0>':
D:/biocbuild/bbs-3.14-bioc/R/library/RcppEigen/include/Eigen/src/Core/DenseCoeffsBase.h:300:7:   required from 'class Eigen::DenseCoeffsBase<Eigen::Matrix<double, 4, 1>, 1>'
D:/biocbuild/bbs-3.14-bioc/R/library/RcppEigen/include/Eigen/src/Core/DenseCoeffsBase.h:551:7:   required from 'class Eigen::DenseCoeffsBase<Eigen::Matrix<double, 4, 1>, 3>'
D:/biocbuild/bbs-3.14-bioc/R/library/RcppEigen/include/Eigen/src/Core/DenseBase.h:41:34:   required from 'class Eigen::DenseBase<Eigen::Matrix<double, 4, 1> >'
D:/biocbuild/bbs-3.14-bioc/R/library/RcppEigen/include/Eigen/src/Core/MatrixBase.h:48:34:   required from 'class Eigen::MatrixBase<Eigen::Matrix<double, 4, 1> >'
D:/biocbuild/bbs-3.14-bioc/R/library/RcppEigen/include/Eigen/src/Core/PlainObjectBase.h:98:7:   required from 'class Eigen::PlainObjectBase<Eigen::Matrix<double, 4, 1> >'
D:/biocbuild/bbs-3.14-bioc/R/library/RcppEigen/include/Eigen/src/Core/Matrix.h:178:7:   required from 'class Eigen::Matrix<double, 4, 1>'
D:/biocbuild/bbs-3.14-bioc/R/library/RcppEigen/include/Eigen/src/Geometry/Quaternion.h:46:50:   required from 'class Eigen::QuaternionBase<Eigen::Quaternion<double> >'
D:/biocbuild/bbs-3.14-bioc/R/library/RcppEigen/include/Eigen/src/Geometry/Quaternion.h:250:7:   required from 'class Eigen::Quaternion<double>'
D:/biocbuild/bbs-3.14-bioc/R/library/RcppEigen/include/Eigen/src/Geometry/arch/Geometry_SSE.h:92:3:   required from here
D:/biocbuild/bbs-3.14-bioc/R/library/RcppEigen/include/Eigen/src/Core/DenseCoeffsBase.h:55:30: warning: ignoring attributes on template argument 'Eigen::internal::packet_traits<double>::type' {aka '__vector(2) double'} [-Wignored-attributes]
                      >::type PacketReturnType;
                              ^~~~~~~~~~~~~~~~
In file included from D:/biocbuild/bbs-3.14-bioc/R/library/RcppEigen/include/Eigen/SparseCore:37,
                 from D:/biocbuild/bbs-3.14-bioc/R/library/RcppEigen/include/Eigen/Sparse:26,
                 from D:/biocbuild/bbs-3.14-bioc/R/library/RcppEigen/include/RcppEigenForward.h:31,
                 from D:/biocbuild/bbs-3.14-bioc/R/library/RcppEigen/include/RcppEigen.h:25,
                 from MCMC_algorithm.cpp:3:
D:/biocbuild/bbs-3.14-bioc/R/library/RcppEigen/include/Eigen/src/SparseCore/SparseMatrixBase.h: In instantiation of 'class Eigen::SparseMatrixBase<Eigen::SparseMatrix<double, 0, int> >':
D:/biocbuild/bbs-3.14-bioc/R/library/RcppEigen/include/Eigen/src/SparseCore/SparseCompressedBase.h:36:7:   required from 'class Eigen::SparseCompressedBase<Eigen::SparseMatrix<double, 0, int> >'
D:/biocbuild/bbs-3.14-bioc/R/library/RcppEigen/include/Eigen/src/SparseCore/SparseMatrix.h:96:7:   required from 'class Eigen::SparseMatrix<double, 0, int>'
D:/biocbuild/bbs-3.14-bioc/R/library/RcppEigen/include/unsupported/Eigen/src/IterativeSolvers/ConstrainedConjGrad.h:61:25:   required from here
D:/biocbuild/bbs-3.14-bioc/R/library/RcppEigen/include/Eigen/src/SparseCore/SparseMatrixBase.h:47:30: warning: ignoring attributes on template argument 'Eigen::internal::packet_traits<double>::type' {aka '__vector(2) double'} [-Wignored-attributes]
                      >::type PacketReturnType;
                              ^~~~~~~~~~~~~~~~
In file included from D:/biocbuild/bbs-3.14-bioc/R/library/RcppEigen/include/Eigen/Core:439,
                 from D:/biocbuild/bbs-3.14-bioc/R/library/RcppEigen/include/Eigen/Dense:1,
                 from D:/biocbuild/bbs-3.14-bioc/R/library/RcppEigen/include/RcppEigenForward.h:30,
                 from D:/biocbuild/bbs-3.14-bioc/R/library/RcppEigen/include/RcppEigen.h:25,
                 from MCMC_algorithm.cpp:3:
D:/biocbuild/bbs-3.14-bioc/R/library/RcppEigen/include/Eigen/src/Core/DenseCoeffsBase.h: In instantiation of 'class Eigen::DenseCoeffsBase<Eigen::Matrix<int, -1, 1>, 0>':
D:/biocbuild/bbs-3.14-bioc/R/library/RcppEigen/include/Eigen/src/Core/DenseCoeffsBase.h:300:7:   required from 'class Eigen::DenseCoeffsBase<Eigen::Matrix<int, -1, 1>, 1>'
D:/biocbuild/bbs-3.14-bioc/R/library/RcppEigen/include/Eigen/src/Core/DenseCoeffsBase.h:551:7:   required from 'class Eigen::DenseCoeffsBase<Eigen::Matrix<int, -1, 1>, 3>'
D:/biocbuild/bbs-3.14-bioc/R/library/RcppEigen/include/Eigen/src/Core/DenseBase.h:41:34:   required from 'class Eigen::DenseBase<Eigen::Matrix<int, -1, 1> >'
D:/biocbuild/bbs-3.14-bioc/R/library/RcppEigen/include/Eigen/src/Core/MatrixBase.h:48:34:   required from 'class Eigen::MatrixBase<Eigen::Matrix<int, -1, 1> >'
D:/biocbuild/bbs-3.14-bioc/R/library/RcppEigen/include/Eigen/src/Core/PlainObjectBase.h:98:7:   required from 'class Eigen::PlainObjectBase<Eigen::Matrix<int, -1, 1> >'
D:/biocbuild/bbs-3.14-bioc/R/library/RcppEigen/include/Eigen/src/Core/Matrix.h:178:7:   required from 'class Eigen::Matrix<int, -1, 1>'
D:/biocbuild/bbs-3.14-bioc/R/library/RcppEigen/include/unsupported/Eigen/src/KroneckerProduct/KroneckerTensorProduct.h:168:29:   required from here
D:/biocbuild/bbs-3.14-bioc/R/library/RcppEigen/include/Eigen/src/Core/DenseCoeffsBase.h:55:30: warning: ignoring attributes on template argument 'Eigen::internal::packet_traits<int>::type' {aka '__vector(2) long long int'} [-Wignored-attributes]
                      >::type PacketReturnType;
                              ^~~~~~~~~~~~~~~~
D:/biocbuild/bbs-3.14-bioc/R/library/RcppEigen/include/Eigen/src/Core/DenseCoeffsBase.h: In instantiation of 'class Eigen::DenseCoeffsBase<Eigen::Transpose<Eigen::Matrix<int, -1, 1> >, 0>':
D:/biocbuild/bbs-3.14-bioc/R/library/RcppEigen/include/Eigen/src/Core/DenseCoeffsBase.h:300:7:   required from 'class Eigen::DenseCoeffsBase<Eigen::Transpose<Eigen::Matrix<int, -1, 1> >, 1>'
D:/biocbuild/bbs-3.14-bioc/R/library/RcppEigen/include/Eigen/src/Core/DenseCoeffsBase.h:551:7:   required from 'class Eigen::DenseCoeffsBase<Eigen::Transpose<Eigen::Matrix<int, -1, 1> >, 3>'
D:/biocbuild/bbs-3.14-bioc/R/library/RcppEigen/include/Eigen/src/Core/DenseBase.h:41:34:   required from 'class Eigen::DenseBase<Eigen::Transpose<Eigen::Matrix<int, -1, 1> > >'
D:/biocbuild/bbs-3.14-bioc/R/library/RcppEigen/include/Eigen/src/Core/MatrixBase.h:48:34:   required from 'class Eigen::MatrixBase<Eigen::Transpose<Eigen::Matrix<int, -1, 1> > >'
D:/biocbuild/bbs-3.14-bioc/R/library/RcppEigen/include/Eigen/src/Core/Transpose.h:115:37:   required from 'class Eigen::TransposeImpl<Eigen::Matrix<int, -1, 1>, Eigen::Dense>'
D:/biocbuild/bbs-3.14-bioc/R/library/RcppEigen/include/Eigen/src/Core/Transpose.h:52:37:   required from 'class Eigen::Transpose<Eigen::Matrix<int, -1, 1> >'
D:/biocbuild/bbs-3.14-bioc/R/library/RcppEigen/include/unsupported/Eigen/src/KroneckerProduct/KroneckerTensorProduct.h:178:72:   required from here
D:/biocbuild/bbs-3.14-bioc/R/library/RcppEigen/include/Eigen/src/Core/DenseCoeffsBase.h:55:30: warning: ignoring attributes on template argument 'Eigen::internal::packet_traits<int>::type' {aka '__vector(2) long long int'} [-Wignored-attributes]
D:/biocbuild/bbs-3.14-bioc/R/library/RcppEigen/include/Eigen/src/Core/DenseCoeffsBase.h: In instantiation of 'class Eigen::DenseCoeffsBase<Eigen::Matrix<int, -1, -1>, 0>':
D:/biocbuild/bbs-3.14-bioc/R/library/RcppEigen/include/Eigen/src/Core/DenseCoeffsBase.h:300:7:   required from 'class Eigen::DenseCoeffsBase<Eigen::Matrix<int, -1, -1>, 1>'
D:/biocbuild/bbs-3.14-bioc/R/library/RcppEigen/include/Eigen/src/Core/DenseCoeffsBase.h:551:7:   required from 'class Eigen::DenseCoeffsBase<Eigen::Matrix<int, -1, -1>, 3>'
D:/biocbuild/bbs-3.14-bioc/R/library/RcppEigen/include/Eigen/src/Core/DenseBase.h:41:34:   required from 'class Eigen::DenseBase<Eigen::Matrix<int, -1, -1> >'
D:/biocbuild/bbs-3.14-bioc/R/library/RcppEigen/include/Eigen/src/Core/MatrixBase.h:48:34:   required from 'class Eigen::MatrixBase<Eigen::Matrix<int, -1, -1> >'
D:/biocbuild/bbs-3.14-bioc/R/library/RcppEigen/include/Eigen/src/Core/PlainObjectBase.h:98:7:   required from 'class Eigen::PlainObjectBase<Eigen::Matrix<int, -1, -1> >'
D:/biocbuild/bbs-3.14-bioc/R/library/RcppEigen/include/Eigen/src/Core/Matrix.h:178:7:   required from 'class Eigen::Matrix<int, -1, -1>'
D:/biocbuild/bbs-3.14-bioc/R/library/RcppEigen/include/unsupported/Eigen/src/KroneckerProduct/KroneckerTensorProduct.h:179:36:   required from here
D:/biocbuild/bbs-3.14-bioc/R/library/RcppEigen/include/Eigen/src/Core/DenseCoeffsBase.h:55:30: warning: ignoring attributes on template argument 'Eigen::internal::packet_traits<int>::type' {aka '__vector(2) long long int'} [-Wignored-attributes]
"C:/rtools40/mingw32/bin/"g++ -std=gnu++11  -I"D:/biocbuild/bbs-3.14-bioc/R/include" -DNDEBUG  -I'D:/biocbuild/bbs-3.14-bioc/R/library/Rcpp/include' -I'D:/biocbuild/bbs-3.14-bioc/R/library/RcppArmadillo/include' -I'D:/biocbuild/bbs-3.14-bioc/R/library/RcppEigen/include'   -I"C:/extsoft/include"  -DARMA_DONT_USE_OPENMP   -O2 -Wall  -mfpmath=sse -msse2 -mstackrealign  -c RcppExports.cpp -o RcppExports.o
In file included from D:/biocbuild/bbs-3.14-bioc/R/library/RcppEigen/include/Eigen/Core:397,
                 from D:/biocbuild/bbs-3.14-bioc/R/library/RcppEigen/include/Eigen/Dense:1,
                 from D:/biocbuild/bbs-3.14-bioc/R/library/RcppEigen/include/RcppEigenForward.h:30,
                 from D:/biocbuild/bbs-3.14-bioc/R/library/RcppEigen/include/RcppEigen.h:25,
                 from RcppExports.cpp:5:
D:/biocbuild/bbs-3.14-bioc/R/library/RcppEigen/include/Eigen/src/Core/arch/SSE/PacketMath.h:60:39: warning: ignoring attributes on template argument '__m128' {aka '__vector(4) float'} [-Wignored-attributes]
 template<> struct is_arithmetic<__m128>  { enum { value = true }; };
                                       ^
D:/biocbuild/bbs-3.14-bioc/R/library/RcppEigen/include/Eigen/src/Core/arch/SSE/PacketMath.h:61:40: warning: ignoring attributes on template argument '__m128i' {aka '__vector(2) long long int'} [-Wignored-attributes]
 template<> struct is_arithmetic<__m128i> { enum { value = true }; };
                                        ^
D:/biocbuild/bbs-3.14-bioc/R/library/RcppEigen/include/Eigen/src/Core/arch/SSE/PacketMath.h:62:40: warning: ignoring attributes on template argument '__m128d' {aka '__vector(2) double'} [-Wignored-attributes]
 template<> struct is_arithmetic<__m128d> { enum { value = true }; };
                                        ^
D:/biocbuild/bbs-3.14-bioc/R/library/RcppEigen/include/Eigen/src/Core/arch/SSE/PacketMath.h:161:43: warning: ignoring attributes on template argument 'Eigen::internal::Packet4f' {aka '__vector(4) float'} [-Wignored-attributes]
 template<> struct unpacket_traits<Packet4f> { typedef float  type; enum {size=4, alignment=Aligned16}; typedef Packet4f half; };
                                           ^
D:/biocbuild/bbs-3.14-bioc/R/library/RcppEigen/include/Eigen/src/Core/arch/SSE/PacketMath.h:162:43: warning: ignoring attributes on template argument 'Eigen::internal::Packet2d' {aka '__vector(2) double'} [-Wignored-attributes]
 template<> struct unpacket_traits<Packet2d> { typedef double type; enum {size=2, alignment=Aligned16}; typedef Packet2d half; };
                                           ^
D:/biocbuild/bbs-3.14-bioc/R/library/RcppEigen/include/Eigen/src/Core/arch/SSE/PacketMath.h:163:43: warning: ignoring attributes on template argument 'Eigen::internal::Packet4i' {aka '__vector(2) long long int'} [-Wignored-attributes]
 template<> struct unpacket_traits<Packet4i> { typedef int    type; enum {size=4, alignment=Aligned16}; typedef Packet4i half; };
                                           ^
D:/biocbuild/bbs-3.14-bioc/R/library/RcppEigen/include/Eigen/src/Core/arch/SSE/PacketMath.h:718:35: warning: ignoring attributes on template argument 'Eigen::internal::Packet4f' {aka '__vector(4) float'} [-Wignored-attributes]
 struct palign_impl<Offset,Packet4f>
                                   ^
D:/biocbuild/bbs-3.14-bioc/R/library/RcppEigen/include/Eigen/src/Core/arch/SSE/PacketMath.h:741:35: warning: ignoring attributes on template argument 'Eigen::internal::Packet4i' {aka '__vector(2) long long int'} [-Wignored-attributes]
 struct palign_impl<Offset,Packet4i>
                                   ^
D:/biocbuild/bbs-3.14-bioc/R/library/RcppEigen/include/Eigen/src/Core/arch/SSE/PacketMath.h:764:35: warning: ignoring attributes on template argument 'Eigen::internal::Packet2d' {aka '__vector(2) double'} [-Wignored-attributes]
 struct palign_impl<Offset,Packet2d>
                                   ^
D:/biocbuild/bbs-3.14-bioc/R/library/RcppEigen/include/Eigen/src/Core/arch/SSE/PacketMath.h:778:34: warning: ignoring attributes on template argument 'Eigen::internal::Packet4f' {aka '__vector(4) float'} [-Wignored-attributes]
 ptranspose(PacketBlock<Packet4f,4>& kernel) {
                                  ^
D:/biocbuild/bbs-3.14-bioc/R/library/RcppEigen/include/Eigen/src/Core/arch/SSE/PacketMath.h:783:34: warning: ignoring attributes on template argument 'Eigen::internal::Packet2d' {aka '__vector(2) double'} [-Wignored-attributes]
 ptranspose(PacketBlock<Packet2d,2>& kernel) {
                                  ^
D:/biocbuild/bbs-3.14-bioc/R/library/RcppEigen/include/Eigen/src/Core/arch/SSE/PacketMath.h:790:34: warning: ignoring attributes on template argument 'Eigen::internal::Packet4i' {aka '__vector(2) long long int'} [-Wignored-attributes]
 ptranspose(PacketBlock<Packet4i,4>& kernel) {
                                  ^
In file included from D:/biocbuild/bbs-3.14-bioc/R/library/RcppEigen/include/Eigen/Core:377,
                 from D:/biocbuild/bbs-3.14-bioc/R/library/RcppEigen/include/Eigen/Dense:1,
                 from D:/biocbuild/bbs-3.14-bioc/R/library/RcppEigen/include/RcppEigenForward.h:30,
                 from D:/biocbuild/bbs-3.14-bioc/R/library/RcppEigen/include/RcppEigen.h:25,
                 from RcppExports.cpp:5:
D:/biocbuild/bbs-3.14-bioc/R/library/RcppEigen/include/Eigen/src/Core/arch/Default/ConjHelper.h:15:70: warning: ignoring attributes on template argument 'Eigen::internal::Packet4f' {aka '__vector(4) float'} [-Wignored-attributes]
   template<> struct conj_helper<PACKET_REAL, PACKET_CPLX, false,false> {                                          \
                                                                      ^
D:/biocbuild/bbs-3.14-bioc/R/library/RcppEigen/include/Eigen/src/Core/arch/SSE/Complex.h:232:1: note: in expansion of macro 'EIGEN_MAKE_CONJ_HELPER_CPLX_REAL'
 EIGEN_MAKE_CONJ_HELPER_CPLX_REAL(Packet2cf,Packet4f)
 ^~~~~~~~~~~~~~~~~~~~~~~~~~~~~~~~
D:/biocbuild/bbs-3.14-bioc/R/library/RcppEigen/include/Eigen/src/Core/arch/Default/ConjHelper.h:22:70: warning: ignoring attributes on template argument 'Eigen::internal::Packet4f' {aka '__vector(4) float'} [-Wignored-attributes]
   template<> struct conj_helper<PACKET_CPLX, PACKET_REAL, false,false> {                                          \
                                                                      ^
D:/biocbuild/bbs-3.14-bioc/R/library/RcppEigen/include/Eigen/src/Core/arch/SSE/Complex.h:232:1: note: in expansion of macro 'EIGEN_MAKE_CONJ_HELPER_CPLX_REAL'
 EIGEN_MAKE_CONJ_HELPER_CPLX_REAL(Packet2cf,Packet4f)
 ^~~~~~~~~~~~~~~~~~~~~~~~~~~~~~~~
D:/biocbuild/bbs-3.14-bioc/R/library/RcppEigen/include/Eigen/src/Core/arch/Default/ConjHelper.h:15:70: warning: ignoring attributes on template argument 'Eigen::internal::Packet2d' {aka '__vector(2) double'} [-Wignored-attributes]
   template<> struct conj_helper<PACKET_REAL, PACKET_CPLX, false,false> {                                          \
                                                                      ^
D:/biocbuild/bbs-3.14-bioc/R/library/RcppEigen/include/Eigen/src/Core/arch/SSE/Complex.h:417:1: note: in expansion of macro 'EIGEN_MAKE_CONJ_HELPER_CPLX_REAL'
 EIGEN_MAKE_CONJ_HELPER_CPLX_REAL(Packet1cd,Packet2d)
 ^~~~~~~~~~~~~~~~~~~~~~~~~~~~~~~~
D:/biocbuild/bbs-3.14-bioc/R/library/RcppEigen/include/Eigen/src/Core/arch/Default/ConjHelper.h:22:70: warning: ignoring attributes on template argument 'Eigen::internal::Packet2d' {aka '__vector(2) double'} [-Wignored-attributes]
   template<> struct conj_helper<PACKET_CPLX, PACKET_REAL, false,false> {                                          \
                                                                      ^
D:/biocbuild/bbs-3.14-bioc/R/library/RcppEigen/include/Eigen/src/Core/arch/SSE/Complex.h:417:1: note: in expansion of macro 'EIGEN_MAKE_CONJ_HELPER_CPLX_REAL'
 EIGEN_MAKE_CONJ_HELPER_CPLX_REAL(Packet1cd,Packet2d)
 ^~~~~~~~~~~~~~~~~~~~~~~~~~~~~~~~
In file included from D:/biocbuild/bbs-3.14-bioc/R/library/RcppEigen/include/Eigen/Core:370,
                 from D:/biocbuild/bbs-3.14-bioc/R/library/RcppEigen/include/Eigen/Dense:1,
                 from D:/biocbuild/bbs-3.14-bioc/R/library/RcppEigen/include/RcppEigenForward.h:30,
                 from D:/biocbuild/bbs-3.14-bioc/R/library/RcppEigen/include/RcppEigen.h:25,
                 from RcppExports.cpp:5:
D:/biocbuild/bbs-3.14-bioc/R/library/RcppEigen/include/Eigen/src/Core/util/XprHelper.h: In instantiation of 'struct Eigen::internal::find_best_packet<int, -1>':
D:/biocbuild/bbs-3.14-bioc/R/library/RcppEigen/include/Eigen/src/Core/Matrix.h:22:57:   required from 'struct Eigen::internal::traits<Eigen::Matrix<int, 1, -1> >'
D:/biocbuild/bbs-3.14-bioc/R/library/RcppEigen/include/Eigen/src/Core/Array.h:17:8:   required from 'struct Eigen::internal::traits<Eigen::Array<int, 1, -1> >'
D:/biocbuild/bbs-3.14-bioc/R/library/RcppEigen/include/Eigen/src/Core/PlainObjectBase.h:98:7:   required from 'class Eigen::PlainObjectBase<Eigen::Array<int, 1, -1> >'
D:/biocbuild/bbs-3.14-bioc/R/library/RcppEigen/include/Eigen/src/Core/Array.h:45:7:   required from 'class Eigen::Array<int, 1, -1>'
D:/biocbuild/bbs-3.14-bioc/R/library/RcppEigen/include/Eigen/src/SVD/BDCSVD.h:101:22:   required from here
D:/biocbuild/bbs-3.14-bioc/R/library/RcppEigen/include/Eigen/src/Core/util/XprHelper.h:187:44: warning: ignoring attributes on template argument 'Eigen::internal::packet_traits<int>::type' {aka '__vector(2) long long int'} [-Wignored-attributes]
          bool Stop = Size==Dynamic || (Size%unpacket_traits<PacketType>::size)==0 || is_same<PacketType,typename unpacket_traits<PacketType>::half>::value>
                                       ~~~~~^~~~~~~~~~~~~~~~~~~~~~~~~~~~~~~~~~~
D:/biocbuild/bbs-3.14-bioc/R/library/RcppEigen/include/Eigen/src/Core/util/XprHelper.h:187:83: warning: ignoring attributes on template argument 'Eigen::internal::packet_traits<int>::type' {aka '__vector(2) long long int'} [-Wignored-attributes]
          bool Stop = Size==Dynamic || (Size%unpacket_traits<PacketType>::size)==0 || is_same<PacketType,typename unpacket_traits<PacketType>::half>::value>
                      ~~~~~~~~~~~~~~~~~~~~~~~~~~~~~~~~~~~~~~~~~~~~~~~~~~~~~~~~~~~~~^~~~~~~~~~~~~~~~~~~~~~~~~~~~~~~~~~~~~~~~~~~~~~~~~~~~~~~~~~~~~~~~~
D:/biocbuild/bbs-3.14-bioc/R/library/RcppEigen/include/Eigen/src/Core/util/XprHelper.h:187:83: warning: ignoring attributes on template argument 'Eigen::internal::packet_traits<int>::type' {aka '__vector(2) long long int'} [-Wignored-attributes]
D:/biocbuild/bbs-3.14-bioc/R/library/RcppEigen/include/Eigen/src/Core/util/XprHelper.h:187:83: warning: ignoring attributes on template argument 'Eigen::internal::unpacket_traits<__vector(2) long long int>::half' {aka '__vector(2) long long int'} [-Wignored-attributes]
D:/biocbuild/bbs-3.14-bioc/R/library/RcppEigen/include/Eigen/src/Core/util/XprHelper.h:205:88: warning: ignoring attributes on template argument 'Eigen::internal::packet_traits<int>::type' {aka '__vector(2) long long int'} [-Wignored-attributes]
   typedef typename find_best_packet_helper<Size,typename packet_traits<T>::type>::type type;
                                                                                        ^~~~
In file included from D:/biocbuild/bbs-3.14-bioc/R/library/RcppEigen/include/Eigen/Core:439,
                 from D:/biocbuild/bbs-3.14-bioc/R/library/RcppEigen/include/Eigen/Dense:1,
                 from D:/biocbuild/bbs-3.14-bioc/R/library/RcppEigen/include/RcppEigenForward.h:30,
                 from D:/biocbuild/bbs-3.14-bioc/R/library/RcppEigen/include/RcppEigen.h:25,
                 from RcppExports.cpp:5:
D:/biocbuild/bbs-3.14-bioc/R/library/RcppEigen/include/Eigen/src/Core/DenseCoeffsBase.h: In instantiation of 'class Eigen::DenseCoeffsBase<Eigen::Array<int, 1, -1>, 0>':
D:/biocbuild/bbs-3.14-bioc/R/library/RcppEigen/include/Eigen/src/Core/DenseCoeffsBase.h:300:7:   required from 'class Eigen::DenseCoeffsBase<Eigen::Array<int, 1, -1>, 1>'
D:/biocbuild/bbs-3.14-bioc/R/library/RcppEigen/include/Eigen/src/Core/DenseCoeffsBase.h:551:7:   required from 'class Eigen::DenseCoeffsBase<Eigen::Array<int, 1, -1>, 3>'
D:/biocbuild/bbs-3.14-bioc/R/library/RcppEigen/include/Eigen/src/Core/DenseBase.h:41:34:   required from 'class Eigen::DenseBase<Eigen::Array<int, 1, -1> >'
D:/biocbuild/bbs-3.14-bioc/R/library/RcppEigen/include/Eigen/src/Core/ArrayBase.h:39:34:   required from 'class Eigen::ArrayBase<Eigen::Array<int, 1, -1> >'
D:/biocbuild/bbs-3.14-bioc/R/library/RcppEigen/include/Eigen/src/Core/PlainObjectBase.h:98:7:   required from 'class Eigen::PlainObjectBase<Eigen::Array<int, 1, -1> >'
D:/biocbuild/bbs-3.14-bioc/R/library/RcppEigen/include/Eigen/src/Core/Array.h:45:7:   required from 'class Eigen::Array<int, 1, -1>'
D:/biocbuild/bbs-3.14-bioc/R/library/RcppEigen/include/Eigen/src/SVD/BDCSVD.h:101:22:   required from here
D:/biocbuild/bbs-3.14-bioc/R/library/RcppEigen/include/Eigen/src/Core/DenseCoeffsBase.h:55:30: warning: ignoring attributes on template argument 'Eigen::internal::packet_traits<int>::type' {aka '__vector(2) long long int'} [-Wignored-attributes]
                      >::type PacketReturnType;
                              ^~~~~~~~~~~~~~~~
D:/biocbuild/bbs-3.14-bioc/R/library/RcppEigen/include/Eigen/src/Core/DenseCoeffsBase.h: In instantiation of 'class Eigen::DenseCoeffsBase<Eigen::Ref<Eigen::Array<int, 1, -1> >, 0>':
D:/biocbuild/bbs-3.14-bioc/R/library/RcppEigen/include/Eigen/src/Core/DenseCoeffsBase.h:300:7:   required from 'class Eigen::DenseCoeffsBase<Eigen::Ref<Eigen::Array<int, 1, -1> >, 1>'
D:/biocbuild/bbs-3.14-bioc/R/library/RcppEigen/include/Eigen/src/Core/DenseCoeffsBase.h:551:7:   required from 'class Eigen::DenseCoeffsBase<Eigen::Ref<Eigen::Array<int, 1, -1> >, 3>'
D:/biocbuild/bbs-3.14-bioc/R/library/RcppEigen/include/Eigen/src/Core/DenseBase.h:41:34:   required from 'class Eigen::DenseBase<Eigen::Ref<Eigen::Array<int, 1, -1> > >'
D:/biocbuild/bbs-3.14-bioc/R/library/RcppEigen/include/Eigen/src/Core/ArrayBase.h:39:34:   required from 'class Eigen::ArrayBase<Eigen::Ref<Eigen::Array<int, 1, -1> > >'
D:/biocbuild/bbs-3.14-bioc/R/library/RcppEigen/include/Eigen/src/Core/MapBase.h:37:34:   required from 'class Eigen::MapBase<Eigen::Ref<Eigen::Array<int, 1, -1> >, 0>'
D:/biocbuild/bbs-3.14-bioc/R/library/RcppEigen/include/Eigen/src/Core/MapBase.h:221:34:   required from 'class Eigen::MapBase<Eigen::Ref<Eigen::Array<int, 1, -1> >, 1>'
D:/biocbuild/bbs-3.14-bioc/R/library/RcppEigen/include/Eigen/src/Core/Ref.h:59:34:   required from 'class Eigen::RefBase<Eigen::Ref<Eigen::Array<int, 1, -1> > >'
D:/biocbuild/bbs-3.14-bioc/R/library/RcppEigen/include/Eigen/src/Core/Ref.h:193:76:   required from 'class Eigen::Ref<Eigen::Array<int, 1, -1> >'
D:/biocbuild/bbs-3.14-bioc/R/library/RcppEigen/include/Eigen/src/SVD/BDCSVD.h:694:17:   required from here
D:/biocbuild/bbs-3.14-bioc/R/library/RcppEigen/include/Eigen/src/Core/DenseCoeffsBase.h:55:30: warning: ignoring attributes on template argument 'Eigen::internal::packet_traits<int>::type' {aka '__vector(2) long long int'} [-Wignored-attributes]
In file included from D:/biocbuild/bbs-3.14-bioc/R/library/RcppEigen/include/Eigen/Core:370,
                 from D:/biocbuild/bbs-3.14-bioc/R/library/RcppEigen/include/Eigen/Dense:1,
                 from D:/biocbuild/bbs-3.14-bioc/R/library/RcppEigen/include/RcppEigenForward.h:30,
                 from D:/biocbuild/bbs-3.14-bioc/R/library/RcppEigen/include/RcppEigen.h:25,
                 from RcppExports.cpp:5:
D:/biocbuild/bbs-3.14-bioc/R/library/RcppEigen/include/Eigen/src/Core/util/XprHelper.h: In instantiation of 'struct Eigen::internal::find_best_packet<float, 4>':
D:/biocbuild/bbs-3.14-bioc/R/library/RcppEigen/include/Eigen/src/Core/Matrix.h:22:57:   required from 'struct Eigen::internal::traits<Eigen::Matrix<float, 4, 1> >'
D:/biocbuild/bbs-3.14-bioc/R/library/RcppEigen/include/Eigen/src/Geometry/Quaternion.h:242:7:   required from 'struct Eigen::internal::traits<Eigen::Quaternion<float> >'
D:/biocbuild/bbs-3.14-bioc/R/library/RcppEigen/include/Eigen/src/Geometry/arch/Geometry_SSE.h:24:46:   required from here
D:/biocbuild/bbs-3.14-bioc/R/library/RcppEigen/include/Eigen/src/Core/util/XprHelper.h:187:44: warning: ignoring attributes on template argument 'Eigen::internal::packet_traits<float>::type' {aka '__vector(4) float'} [-Wignored-attributes]
          bool Stop = Size==Dynamic || (Size%unpacket_traits<PacketType>::size)==0 || is_same<PacketType,typename unpacket_traits<PacketType>::half>::value>
                                       ~~~~~^~~~~~~~~~~~~~~~~~~~~~~~~~~~~~~~~~~
D:/biocbuild/bbs-3.14-bioc/R/library/RcppEigen/include/Eigen/src/Core/util/XprHelper.h:187:83: warning: ignoring attributes on template argument 'Eigen::internal::packet_traits<float>::type' {aka '__vector(4) float'} [-Wignored-attributes]
          bool Stop = Size==Dynamic || (Size%unpacket_traits<PacketType>::size)==0 || is_same<PacketType,typename unpacket_traits<PacketType>::half>::value>
                      ~~~~~~~~~~~~~~~~~~~~~~~~~~~~~~~~~~~~~~~~~~~~~~~~~~~~~~~~~~~~~^~~~~~~~~~~~~~~~~~~~~~~~~~~~~~~~~~~~~~~~~~~~~~~~~~~~~~~~~~~~~~~~~
D:/biocbuild/bbs-3.14-bioc/R/library/RcppEigen/include/Eigen/src/Core/util/XprHelper.h:187:83: warning: ignoring attributes on template argument 'Eigen::internal::packet_traits<float>::type' {aka '__vector(4) float'} [-Wignored-attributes]
D:/biocbuild/bbs-3.14-bioc/R/library/RcppEigen/include/Eigen/src/Core/util/XprHelper.h:187:83: warning: ignoring attributes on template argument 'Eigen::internal::unpacket_traits<__vector(4) float>::half' {aka '__vector(4) float'} [-Wignored-attributes]
D:/biocbuild/bbs-3.14-bioc/R/library/RcppEigen/include/Eigen/src/Core/util/XprHelper.h:205:88: warning: ignoring attributes on template argument 'Eigen::internal::packet_traits<float>::type' {aka '__vector(4) float'} [-Wignored-attributes]
   typedef typename find_best_packet_helper<Size,typename packet_traits<T>::type>::type type;
                                                                                        ^~~~
In file included from D:/biocbuild/bbs-3.14-bioc/R/library/RcppEigen/include/Eigen/Core:439,
                 from D:/biocbuild/bbs-3.14-bioc/R/library/RcppEigen/include/Eigen/Dense:1,
                 from D:/biocbuild/bbs-3.14-bioc/R/library/RcppEigen/include/RcppEigenForward.h:30,
                 from D:/biocbuild/bbs-3.14-bioc/R/library/RcppEigen/include/RcppEigen.h:25,
                 from RcppExports.cpp:5:
D:/biocbuild/bbs-3.14-bioc/R/library/RcppEigen/include/Eigen/src/Core/DenseCoeffsBase.h: In instantiation of 'class Eigen::DenseCoeffsBase<Eigen::Matrix<float, 4, 1>, 0>':
D:/biocbuild/bbs-3.14-bioc/R/library/RcppEigen/include/Eigen/src/Core/DenseCoeffsBase.h:300:7:   required from 'class Eigen::DenseCoeffsBase<Eigen::Matrix<float, 4, 1>, 1>'
D:/biocbuild/bbs-3.14-bioc/R/library/RcppEigen/include/Eigen/src/Core/DenseCoeffsBase.h:551:7:   required from 'class Eigen::DenseCoeffsBase<Eigen::Matrix<float, 4, 1>, 3>'
D:/biocbuild/bbs-3.14-bioc/R/library/RcppEigen/include/Eigen/src/Core/DenseBase.h:41:34:   required from 'class Eigen::DenseBase<Eigen::Matrix<float, 4, 1> >'
D:/biocbuild/bbs-3.14-bioc/R/library/RcppEigen/include/Eigen/src/Core/MatrixBase.h:48:34:   required from 'class Eigen::MatrixBase<Eigen::Matrix<float, 4, 1> >'
D:/biocbuild/bbs-3.14-bioc/R/library/RcppEigen/include/Eigen/src/Core/PlainObjectBase.h:98:7:   required from 'class Eigen::PlainObjectBase<Eigen::Matrix<float, 4, 1> >'
D:/biocbuild/bbs-3.14-bioc/R/library/RcppEigen/include/Eigen/src/Core/Matrix.h:178:7:   required from 'class Eigen::Matrix<float, 4, 1>'
D:/biocbuild/bbs-3.14-bioc/R/library/RcppEigen/include/Eigen/src/Geometry/Quaternion.h:46:50:   required from 'class Eigen::QuaternionBase<Eigen::Quaternion<float> >'
D:/biocbuild/bbs-3.14-bioc/R/library/RcppEigen/include/Eigen/src/Geometry/Quaternion.h:250:7:   required from 'class Eigen::Quaternion<float>'
D:/biocbuild/bbs-3.14-bioc/R/library/RcppEigen/include/Eigen/src/Geometry/arch/Geometry_SSE.h:27:3:   required from here
D:/biocbuild/bbs-3.14-bioc/R/library/RcppEigen/include/Eigen/src/Core/DenseCoeffsBase.h:55:30: warning: ignoring attributes on template argument 'Eigen::internal::packet_traits<float>::type' {aka '__vector(4) float'} [-Wignored-attributes]
                      >::type PacketReturnType;
                              ^~~~~~~~~~~~~~~~
In file included from D:/biocbuild/bbs-3.14-bioc/R/library/RcppEigen/include/Eigen/Core:370,
                 from D:/biocbuild/bbs-3.14-bioc/R/library/RcppEigen/include/Eigen/Dense:1,
                 from D:/biocbuild/bbs-3.14-bioc/R/library/RcppEigen/include/RcppEigenForward.h:30,
                 from D:/biocbuild/bbs-3.14-bioc/R/library/RcppEigen/include/RcppEigen.h:25,
                 from RcppExports.cpp:5:
D:/biocbuild/bbs-3.14-bioc/R/library/RcppEigen/include/Eigen/src/Core/util/XprHelper.h: In instantiation of 'struct Eigen::internal::find_best_packet<double, 4>':
D:/biocbuild/bbs-3.14-bioc/R/library/RcppEigen/include/Eigen/src/Core/Matrix.h:22:57:   required from 'struct Eigen::internal::traits<Eigen::Matrix<double, 4, 1> >'
D:/biocbuild/bbs-3.14-bioc/R/library/RcppEigen/include/Eigen/src/Geometry/Quaternion.h:242:7:   required from 'struct Eigen::internal::traits<Eigen::Quaternion<double> >'
D:/biocbuild/bbs-3.14-bioc/R/library/RcppEigen/include/Eigen/src/Geometry/arch/Geometry_SSE.h:88:47:   required from here
D:/biocbuild/bbs-3.14-bioc/R/library/RcppEigen/include/Eigen/src/Core/util/XprHelper.h:187:44: warning: ignoring attributes on template argument 'Eigen::internal::packet_traits<double>::type' {aka '__vector(2) double'} [-Wignored-attributes]
          bool Stop = Size==Dynamic || (Size%unpacket_traits<PacketType>::size)==0 || is_same<PacketType,typename unpacket_traits<PacketType>::half>::value>
                                       ~~~~~^~~~~~~~~~~~~~~~~~~~~~~~~~~~~~~~~~~
D:/biocbuild/bbs-3.14-bioc/R/library/RcppEigen/include/Eigen/src/Core/util/XprHelper.h:187:83: warning: ignoring attributes on template argument 'Eigen::internal::packet_traits<double>::type' {aka '__vector(2) double'} [-Wignored-attributes]
          bool Stop = Size==Dynamic || (Size%unpacket_traits<PacketType>::size)==0 || is_same<PacketType,typename unpacket_traits<PacketType>::half>::value>
                      ~~~~~~~~~~~~~~~~~~~~~~~~~~~~~~~~~~~~~~~~~~~~~~~~~~~~~~~~~~~~~^~~~~~~~~~~~~~~~~~~~~~~~~~~~~~~~~~~~~~~~~~~~~~~~~~~~~~~~~~~~~~~~~
D:/biocbuild/bbs-3.14-bioc/R/library/RcppEigen/include/Eigen/src/Core/util/XprHelper.h:187:83: warning: ignoring attributes on template argument 'Eigen::internal::packet_traits<double>::type' {aka '__vector(2) double'} [-Wignored-attributes]
D:/biocbuild/bbs-3.14-bioc/R/library/RcppEigen/include/Eigen/src/Core/util/XprHelper.h:187:83: warning: ignoring attributes on template argument 'Eigen::internal::unpacket_traits<__vector(2) double>::half' {aka '__vector(2) double'} [-Wignored-attributes]
D:/biocbuild/bbs-3.14-bioc/R/library/RcppEigen/include/Eigen/src/Core/util/XprHelper.h:205:88: warning: ignoring attributes on template argument 'Eigen::internal::packet_traits<double>::type' {aka '__vector(2) double'} [-Wignored-attributes]
   typedef typename find_best_packet_helper<Size,typename packet_traits<T>::type>::type type;
                                                                                        ^~~~
In file included from D:/biocbuild/bbs-3.14-bioc/R/library/RcppEigen/include/Eigen/Core:439,
                 from D:/biocbuild/bbs-3.14-bioc/R/library/RcppEigen/include/Eigen/Dense:1,
                 from D:/biocbuild/bbs-3.14-bioc/R/library/RcppEigen/include/RcppEigenForward.h:30,
                 from D:/biocbuild/bbs-3.14-bioc/R/library/RcppEigen/include/RcppEigen.h:25,
                 from RcppExports.cpp:5:
D:/biocbuild/bbs-3.14-bioc/R/library/RcppEigen/include/Eigen/src/Core/DenseCoeffsBase.h: In instantiation of 'class Eigen::DenseCoeffsBase<Eigen::Matrix<double, 4, 1>, 0>':
D:/biocbuild/bbs-3.14-bioc/R/library/RcppEigen/include/Eigen/src/Core/DenseCoeffsBase.h:300:7:   required from 'class Eigen::DenseCoeffsBase<Eigen::Matrix<double, 4, 1>, 1>'
D:/biocbuild/bbs-3.14-bioc/R/library/RcppEigen/include/Eigen/src/Core/DenseCoeffsBase.h:551:7:   required from 'class Eigen::DenseCoeffsBase<Eigen::Matrix<double, 4, 1>, 3>'
D:/biocbuild/bbs-3.14-bioc/R/library/RcppEigen/include/Eigen/src/Core/DenseBase.h:41:34:   required from 'class Eigen::DenseBase<Eigen::Matrix<double, 4, 1> >'
D:/biocbuild/bbs-3.14-bioc/R/library/RcppEigen/include/Eigen/src/Core/MatrixBase.h:48:34:   required from 'class Eigen::MatrixBase<Eigen::Matrix<double, 4, 1> >'
D:/biocbuild/bbs-3.14-bioc/R/library/RcppEigen/include/Eigen/src/Core/PlainObjectBase.h:98:7:   required from 'class Eigen::PlainObjectBase<Eigen::Matrix<double, 4, 1> >'
D:/biocbuild/bbs-3.14-bioc/R/library/RcppEigen/include/Eigen/src/Core/Matrix.h:178:7:   required from 'class Eigen::Matrix<double, 4, 1>'
D:/biocbuild/bbs-3.14-bioc/R/library/RcppEigen/include/Eigen/src/Geometry/Quaternion.h:46:50:   required from 'class Eigen::QuaternionBase<Eigen::Quaternion<double> >'
D:/biocbuild/bbs-3.14-bioc/R/library/RcppEigen/include/Eigen/src/Geometry/Quaternion.h:250:7:   required from 'class Eigen::Quaternion<double>'
D:/biocbuild/bbs-3.14-bioc/R/library/RcppEigen/include/Eigen/src/Geometry/arch/Geometry_SSE.h:92:3:   required from here
D:/biocbuild/bbs-3.14-bioc/R/library/RcppEigen/include/Eigen/src/Core/DenseCoeffsBase.h:55:30: warning: ignoring attributes on template argument 'Eigen::internal::packet_traits<double>::type' {aka '__vector(2) double'} [-Wignored-attributes]
                      >::type PacketReturnType;
                              ^~~~~~~~~~~~~~~~
In file included from D:/biocbuild/bbs-3.14-bioc/R/library/RcppEigen/include/Eigen/SparseCore:37,
                 from D:/biocbuild/bbs-3.14-bioc/R/library/RcppEigen/include/Eigen/Sparse:26,
                 from D:/biocbuild/bbs-3.14-bioc/R/library/RcppEigen/include/RcppEigenForward.h:31,
                 from D:/biocbuild/bbs-3.14-bioc/R/library/RcppEigen/include/RcppEigen.h:25,
                 from RcppExports.cpp:5:
D:/biocbuild/bbs-3.14-bioc/R/library/RcppEigen/include/Eigen/src/SparseCore/SparseMatrixBase.h: In instantiation of 'class Eigen::SparseMatrixBase<Eigen::SparseMatrix<double, 0, int> >':
D:/biocbuild/bbs-3.14-bioc/R/library/RcppEigen/include/Eigen/src/SparseCore/SparseCompressedBase.h:36:7:   required from 'class Eigen::SparseCompressedBase<Eigen::SparseMatrix<double, 0, int> >'
D:/biocbuild/bbs-3.14-bioc/R/library/RcppEigen/include/Eigen/src/SparseCore/SparseMatrix.h:96:7:   required from 'class Eigen::SparseMatrix<double, 0, int>'
D:/biocbuild/bbs-3.14-bioc/R/library/RcppEigen/include/unsupported/Eigen/src/IterativeSolvers/ConstrainedConjGrad.h:61:25:   required from here
D:/biocbuild/bbs-3.14-bioc/R/library/RcppEigen/include/Eigen/src/SparseCore/SparseMatrixBase.h:47:30: warning: ignoring attributes on template argument 'Eigen::internal::packet_traits<double>::type' {aka '__vector(2) double'} [-Wignored-attributes]
                      >::type PacketReturnType;
                              ^~~~~~~~~~~~~~~~
In file included from D:/biocbuild/bbs-3.14-bioc/R/library/RcppEigen/include/Eigen/Core:439,
                 from D:/biocbuild/bbs-3.14-bioc/R/library/RcppEigen/include/Eigen/Dense:1,
                 from D:/biocbuild/bbs-3.14-bioc/R/library/RcppEigen/include/RcppEigenForward.h:30,
                 from D:/biocbuild/bbs-3.14-bioc/R/library/RcppEigen/include/RcppEigen.h:25,
                 from RcppExports.cpp:5:
D:/biocbuild/bbs-3.14-bioc/R/library/RcppEigen/include/Eigen/src/Core/DenseCoeffsBase.h: In instantiation of 'class Eigen::DenseCoeffsBase<Eigen::Matrix<int, -1, 1>, 0>':
D:/biocbuild/bbs-3.14-bioc/R/library/RcppEigen/include/Eigen/src/Core/DenseCoeffsBase.h:300:7:   required from 'class Eigen::DenseCoeffsBase<Eigen::Matrix<int, -1, 1>, 1>'
D:/biocbuild/bbs-3.14-bioc/R/library/RcppEigen/include/Eigen/src/Core/DenseCoeffsBase.h:551:7:   required from 'class Eigen::DenseCoeffsBase<Eigen::Matrix<int, -1, 1>, 3>'
D:/biocbuild/bbs-3.14-bioc/R/library/RcppEigen/include/Eigen/src/Core/DenseBase.h:41:34:   required from 'class Eigen::DenseBase<Eigen::Matrix<int, -1, 1> >'
D:/biocbuild/bbs-3.14-bioc/R/library/RcppEigen/include/Eigen/src/Core/MatrixBase.h:48:34:   required from 'class Eigen::MatrixBase<Eigen::Matrix<int, -1, 1> >'
D:/biocbuild/bbs-3.14-bioc/R/library/RcppEigen/include/Eigen/src/Core/PlainObjectBase.h:98:7:   required from 'class Eigen::PlainObjectBase<Eigen::Matrix<int, -1, 1> >'
D:/biocbuild/bbs-3.14-bioc/R/library/RcppEigen/include/Eigen/src/Core/Matrix.h:178:7:   required from 'class Eigen::Matrix<int, -1, 1>'
D:/biocbuild/bbs-3.14-bioc/R/library/RcppEigen/include/unsupported/Eigen/src/KroneckerProduct/KroneckerTensorProduct.h:168:29:   required from here
D:/biocbuild/bbs-3.14-bioc/R/library/RcppEigen/include/Eigen/src/Core/DenseCoeffsBase.h:55:30: warning: ignoring attributes on template argument 'Eigen::internal::packet_traits<int>::type' {aka '__vector(2) long long int'} [-Wignored-attributes]
                      >::type PacketReturnType;
                              ^~~~~~~~~~~~~~~~
D:/biocbuild/bbs-3.14-bioc/R/library/RcppEigen/include/Eigen/src/Core/DenseCoeffsBase.h: In instantiation of 'class Eigen::DenseCoeffsBase<Eigen::Transpose<Eigen::Matrix<int, -1, 1> >, 0>':
D:/biocbuild/bbs-3.14-bioc/R/library/RcppEigen/include/Eigen/src/Core/DenseCoeffsBase.h:300:7:   required from 'class Eigen::DenseCoeffsBase<Eigen::Transpose<Eigen::Matrix<int, -1, 1> >, 1>'
D:/biocbuild/bbs-3.14-bioc/R/library/RcppEigen/include/Eigen/src/Core/DenseCoeffsBase.h:551:7:   required from 'class Eigen::DenseCoeffsBase<Eigen::Transpose<Eigen::Matrix<int, -1, 1> >, 3>'
D:/biocbuild/bbs-3.14-bioc/R/library/RcppEigen/include/Eigen/src/Core/DenseBase.h:41:34:   required from 'class Eigen::DenseBase<Eigen::Transpose<Eigen::Matrix<int, -1, 1> > >'
D:/biocbuild/bbs-3.14-bioc/R/library/RcppEigen/include/Eigen/src/Core/MatrixBase.h:48:34:   required from 'class Eigen::MatrixBase<Eigen::Transpose<Eigen::Matrix<int, -1, 1> > >'
D:/biocbuild/bbs-3.14-bioc/R/library/RcppEigen/include/Eigen/src/Core/Transpose.h:115:37:   required from 'class Eigen::TransposeImpl<Eigen::Matrix<int, -1, 1>, Eigen::Dense>'
D:/biocbuild/bbs-3.14-bioc/R/library/RcppEigen/include/Eigen/src/Core/Transpose.h:52:37:   required from 'class Eigen::Transpose<Eigen::Matrix<int, -1, 1> >'
D:/biocbuild/bbs-3.14-bioc/R/library/RcppEigen/include/unsupported/Eigen/src/KroneckerProduct/KroneckerTensorProduct.h:178:72:   required from here
D:/biocbuild/bbs-3.14-bioc/R/library/RcppEigen/include/Eigen/src/Core/DenseCoeffsBase.h:55:30: warning: ignoring attributes on template argument 'Eigen::internal::packet_traits<int>::type' {aka '__vector(2) long long int'} [-Wignored-attributes]
D:/biocbuild/bbs-3.14-bioc/R/library/RcppEigen/include/Eigen/src/Core/DenseCoeffsBase.h: In instantiation of 'class Eigen::DenseCoeffsBase<Eigen::Matrix<int, -1, -1>, 0>':
D:/biocbuild/bbs-3.14-bioc/R/library/RcppEigen/include/Eigen/src/Core/DenseCoeffsBase.h:300:7:   required from 'class Eigen::DenseCoeffsBase<Eigen::Matrix<int, -1, -1>, 1>'
D:/biocbuild/bbs-3.14-bioc/R/library/RcppEigen/include/Eigen/src/Core/DenseCoeffsBase.h:551:7:   required from 'class Eigen::DenseCoeffsBase<Eigen::Matrix<int, -1, -1>, 3>'
D:/biocbuild/bbs-3.14-bioc/R/library/RcppEigen/include/Eigen/src/Core/DenseBase.h:41:34:   required from 'class Eigen::DenseBase<Eigen::Matrix<int, -1, -1> >'
D:/biocbuild/bbs-3.14-bioc/R/library/RcppEigen/include/Eigen/src/Core/MatrixBase.h:48:34:   required from 'class Eigen::MatrixBase<Eigen::Matrix<int, -1, -1> >'
D:/biocbuild/bbs-3.14-bioc/R/library/RcppEigen/include/Eigen/src/Core/PlainObjectBase.h:98:7:   required from 'class Eigen::PlainObjectBase<Eigen::Matrix<int, -1, -1> >'
D:/biocbuild/bbs-3.14-bioc/R/library/RcppEigen/include/Eigen/src/Core/Matrix.h:178:7:   required from 'class Eigen::Matrix<int, -1, -1>'
D:/biocbuild/bbs-3.14-bioc/R/library/RcppEigen/include/unsupported/Eigen/src/KroneckerProduct/KroneckerTensorProduct.h:179:36:   required from here
D:/biocbuild/bbs-3.14-bioc/R/library/RcppEigen/include/Eigen/src/Core/DenseCoeffsBase.h:55:30: warning: ignoring attributes on template argument 'Eigen::internal::packet_traits<int>::type' {aka '__vector(2) long long int'} [-Wignored-attributes]
C:/rtools40/mingw32/bin/g++ -std=gnu++11 -shared -s -static-libgcc -o BDMMAcorrect.dll tmp.def MCMC_algorithm.o RcppExports.o -LD:/biocbuild/bbs-3.14-bioc/R/bin/i386 -lRlapack -LD:/biocbuild/bbs-3.14-bioc/R/bin/i386 -lRblas -lgfortran -lm -lquadmath -O2 -msse2 -mfpmath=sse -LC:/extsoft/lib/i386 -LC:/extsoft/lib -LD:/biocbuild/bbs-3.14-bioc/R/bin/i386 -lR
installing to D:/biocbuild/bbs-3.14-bioc/meat/BDMMAcorrect.buildbin-libdir/00LOCK-BDMMAcorrect/00new/BDMMAcorrect/libs/i386
** R
** data
*** moving datasets to lazyload DB
** inst
** byte-compile and prepare package for lazy loading
** help
*** installing help indices
  converting help for package 'BDMMAcorrect'
    finding HTML links ... done
    BDMMA                                   html  
    L_mean                                  html  
    Microbiome_dat                          html  
    VBatch                                  html  
    fdr_cut                                 html  
    trace_plot                              html  
** building package indices
** installing vignettes
** testing if installed package can be loaded from temporary location
** testing if installed package can be loaded from final location
** testing if installed package keeps a record of temporary installation path

install for x64

* installing *source* package 'BDMMAcorrect' ...
** libs
"C:/rtools40/mingw64/bin/"g++ -std=gnu++11  -I"D:/biocbuild/bbs-3.14-bioc/R/include" -DNDEBUG  -I'D:/biocbuild/bbs-3.14-bioc/R/library/Rcpp/include' -I'D:/biocbuild/bbs-3.14-bioc/R/library/RcppArmadillo/include' -I'D:/biocbuild/bbs-3.14-bioc/R/library/RcppEigen/include'   -I"C:/extsoft/include"  -DARMA_DONT_USE_OPENMP   -O2 -Wall  -mfpmath=sse -msse2 -mstackrealign  -c MCMC_algorithm.cpp -o MCMC_algorithm.o
In file included from D:/biocbuild/bbs-3.14-bioc/R/library/RcppEigen/include/Eigen/Core:397,
                 from D:/biocbuild/bbs-3.14-bioc/R/library/RcppEigen/include/Eigen/Dense:1,
                 from D:/biocbuild/bbs-3.14-bioc/R/library/RcppEigen/include/RcppEigenForward.h:30,
                 from D:/biocbuild/bbs-3.14-bioc/R/library/RcppEigen/include/RcppEigen.h:25,
                 from MCMC_algorithm.cpp:3:
D:/biocbuild/bbs-3.14-bioc/R/library/RcppEigen/include/Eigen/src/Core/arch/SSE/PacketMath.h:60:39: warning: ignoring attributes on template argument '__m128' {aka '__vector(4) float'} [-Wignored-attributes]
 template<> struct is_arithmetic<__m128>  { enum { value = true }; };
                                       ^
D:/biocbuild/bbs-3.14-bioc/R/library/RcppEigen/include/Eigen/src/Core/arch/SSE/PacketMath.h:61:40: warning: ignoring attributes on template argument '__m128i' {aka '__vector(2) long long int'} [-Wignored-attributes]
 template<> struct is_arithmetic<__m128i> { enum { value = true }; };
                                        ^
D:/biocbuild/bbs-3.14-bioc/R/library/RcppEigen/include/Eigen/src/Core/arch/SSE/PacketMath.h:62:40: warning: ignoring attributes on template argument '__m128d' {aka '__vector(2) double'} [-Wignored-attributes]
 template<> struct is_arithmetic<__m128d> { enum { value = true }; };
                                        ^
D:/biocbuild/bbs-3.14-bioc/R/library/RcppEigen/include/Eigen/src/Core/arch/SSE/PacketMath.h:161:43: warning: ignoring attributes on template argument 'Eigen::internal::Packet4f' {aka '__vector(4) float'} [-Wignored-attributes]
 template<> struct unpacket_traits<Packet4f> { typedef float  type; enum {size=4, alignment=Aligned16}; typedef Packet4f half; };
                                           ^
D:/biocbuild/bbs-3.14-bioc/R/library/RcppEigen/include/Eigen/src/Core/arch/SSE/PacketMath.h:162:43: warning: ignoring attributes on template argument 'Eigen::internal::Packet2d' {aka '__vector(2) double'} [-Wignored-attributes]
 template<> struct unpacket_traits<Packet2d> { typedef double type; enum {size=2, alignment=Aligned16}; typedef Packet2d half; };
                                           ^
D:/biocbuild/bbs-3.14-bioc/R/library/RcppEigen/include/Eigen/src/Core/arch/SSE/PacketMath.h:163:43: warning: ignoring attributes on template argument 'Eigen::internal::Packet4i' {aka '__vector(2) long long int'} [-Wignored-attributes]
 template<> struct unpacket_traits<Packet4i> { typedef int    type; enum {size=4, alignment=Aligned16}; typedef Packet4i half; };
                                           ^
D:/biocbuild/bbs-3.14-bioc/R/library/RcppEigen/include/Eigen/src/Core/arch/SSE/PacketMath.h:718:35: warning: ignoring attributes on template argument 'Eigen::internal::Packet4f' {aka '__vector(4) float'} [-Wignored-attributes]
 struct palign_impl<Offset,Packet4f>
                                   ^
D:/biocbuild/bbs-3.14-bioc/R/library/RcppEigen/include/Eigen/src/Core/arch/SSE/PacketMath.h:741:35: warning: ignoring attributes on template argument 'Eigen::internal::Packet4i' {aka '__vector(2) long long int'} [-Wignored-attributes]
 struct palign_impl<Offset,Packet4i>
                                   ^
D:/biocbuild/bbs-3.14-bioc/R/library/RcppEigen/include/Eigen/src/Core/arch/SSE/PacketMath.h:764:35: warning: ignoring attributes on template argument 'Eigen::internal::Packet2d' {aka '__vector(2) double'} [-Wignored-attributes]
 struct palign_impl<Offset,Packet2d>
                                   ^
D:/biocbuild/bbs-3.14-bioc/R/library/RcppEigen/include/Eigen/src/Core/arch/SSE/PacketMath.h:778:34: warning: ignoring attributes on template argument 'Eigen::internal::Packet4f' {aka '__vector(4) float'} [-Wignored-attributes]
 ptranspose(PacketBlock<Packet4f,4>& kernel) {
                                  ^
D:/biocbuild/bbs-3.14-bioc/R/library/RcppEigen/include/Eigen/src/Core/arch/SSE/PacketMath.h:783:34: warning: ignoring attributes on template argument 'Eigen::internal::Packet2d' {aka '__vector(2) double'} [-Wignored-attributes]
 ptranspose(PacketBlock<Packet2d,2>& kernel) {
                                  ^
D:/biocbuild/bbs-3.14-bioc/R/library/RcppEigen/include/Eigen/src/Core/arch/SSE/PacketMath.h:790:34: warning: ignoring attributes on template argument 'Eigen::internal::Packet4i' {aka '__vector(2) long long int'} [-Wignored-attributes]
 ptranspose(PacketBlock<Packet4i,4>& kernel) {
                                  ^
In file included from D:/biocbuild/bbs-3.14-bioc/R/library/RcppEigen/include/Eigen/Core:377,
                 from D:/biocbuild/bbs-3.14-bioc/R/library/RcppEigen/include/Eigen/Dense:1,
                 from D:/biocbuild/bbs-3.14-bioc/R/library/RcppEigen/include/RcppEigenForward.h:30,
                 from D:/biocbuild/bbs-3.14-bioc/R/library/RcppEigen/include/RcppEigen.h:25,
                 from MCMC_algorithm.cpp:3:
D:/biocbuild/bbs-3.14-bioc/R/library/RcppEigen/include/Eigen/src/Core/arch/Default/ConjHelper.h:15:70: warning: ignoring attributes on template argument 'Eigen::internal::Packet4f' {aka '__vector(4) float'} [-Wignored-attributes]
   template<> struct conj_helper<PACKET_REAL, PACKET_CPLX, false,false> {                                          \
                                                                      ^
D:/biocbuild/bbs-3.14-bioc/R/library/RcppEigen/include/Eigen/src/Core/arch/SSE/Complex.h:232:1: note: in expansion of macro 'EIGEN_MAKE_CONJ_HELPER_CPLX_REAL'
 EIGEN_MAKE_CONJ_HELPER_CPLX_REAL(Packet2cf,Packet4f)
 ^~~~~~~~~~~~~~~~~~~~~~~~~~~~~~~~
D:/biocbuild/bbs-3.14-bioc/R/library/RcppEigen/include/Eigen/src/Core/arch/Default/ConjHelper.h:22:70: warning: ignoring attributes on template argument 'Eigen::internal::Packet4f' {aka '__vector(4) float'} [-Wignored-attributes]
   template<> struct conj_helper<PACKET_CPLX, PACKET_REAL, false,false> {                                          \
                                                                      ^
D:/biocbuild/bbs-3.14-bioc/R/library/RcppEigen/include/Eigen/src/Core/arch/SSE/Complex.h:232:1: note: in expansion of macro 'EIGEN_MAKE_CONJ_HELPER_CPLX_REAL'
 EIGEN_MAKE_CONJ_HELPER_CPLX_REAL(Packet2cf,Packet4f)
 ^~~~~~~~~~~~~~~~~~~~~~~~~~~~~~~~
D:/biocbuild/bbs-3.14-bioc/R/library/RcppEigen/include/Eigen/src/Core/arch/Default/ConjHelper.h:15:70: warning: ignoring attributes on template argument 'Eigen::internal::Packet2d' {aka '__vector(2) double'} [-Wignored-attributes]
   template<> struct conj_helper<PACKET_REAL, PACKET_CPLX, false,false> {                                          \
                                                                      ^
D:/biocbuild/bbs-3.14-bioc/R/library/RcppEigen/include/Eigen/src/Core/arch/SSE/Complex.h:417:1: note: in expansion of macro 'EIGEN_MAKE_CONJ_HELPER_CPLX_REAL'
 EIGEN_MAKE_CONJ_HELPER_CPLX_REAL(Packet1cd,Packet2d)
 ^~~~~~~~~~~~~~~~~~~~~~~~~~~~~~~~
D:/biocbuild/bbs-3.14-bioc/R/library/RcppEigen/include/Eigen/src/Core/arch/Default/ConjHelper.h:22:70: warning: ignoring attributes on template argument 'Eigen::internal::Packet2d' {aka '__vector(2) double'} [-Wignored-attributes]
   template<> struct conj_helper<PACKET_CPLX, PACKET_REAL, false,false> {                                          \
                                                                      ^
D:/biocbuild/bbs-3.14-bioc/R/library/RcppEigen/include/Eigen/src/Core/arch/SSE/Complex.h:417:1: note: in expansion of macro 'EIGEN_MAKE_CONJ_HELPER_CPLX_REAL'
 EIGEN_MAKE_CONJ_HELPER_CPLX_REAL(Packet1cd,Packet2d)
 ^~~~~~~~~~~~~~~~~~~~~~~~~~~~~~~~
In file included from D:/biocbuild/bbs-3.14-bioc/R/library/RcppEigen/include/Eigen/Core:370,
                 from D:/biocbuild/bbs-3.14-bioc/R/library/RcppEigen/include/Eigen/Dense:1,
                 from D:/biocbuild/bbs-3.14-bioc/R/library/RcppEigen/include/RcppEigenForward.h:30,
                 from D:/biocbuild/bbs-3.14-bioc/R/library/RcppEigen/include/RcppEigen.h:25,
                 from MCMC_algorithm.cpp:3:
D:/biocbuild/bbs-3.14-bioc/R/library/RcppEigen/include/Eigen/src/Core/util/XprHelper.h: In instantiation of 'struct Eigen::internal::find_best_packet<float, 4>':
D:/biocbuild/bbs-3.14-bioc/R/library/RcppEigen/include/Eigen/src/Core/Matrix.h:22:57:   required from 'struct Eigen::internal::traits<Eigen::Matrix<float, 4, 1> >'
D:/biocbuild/bbs-3.14-bioc/R/library/RcppEigen/include/Eigen/src/Geometry/Quaternion.h:242:7:   required from 'struct Eigen::internal::traits<Eigen::Quaternion<float> >'
D:/biocbuild/bbs-3.14-bioc/R/library/RcppEigen/include/Eigen/src/Geometry/arch/Geometry_SSE.h:24:46:   required from here
D:/biocbuild/bbs-3.14-bioc/R/library/RcppEigen/include/Eigen/src/Core/util/XprHelper.h:187:44: warning: ignoring attributes on template argument 'Eigen::internal::packet_traits<float>::type' {aka '__vector(4) float'} [-Wignored-attributes]
          bool Stop = Size==Dynamic || (Size%unpacket_traits<PacketType>::size)==0 || is_same<PacketType,typename unpacket_traits<PacketType>::half>::value>
                                       ~~~~~^~~~~~~~~~~~~~~~~~~~~~~~~~~~~~~~~~~
D:/biocbuild/bbs-3.14-bioc/R/library/RcppEigen/include/Eigen/src/Core/util/XprHelper.h:187:83: warning: ignoring attributes on template argument 'Eigen::internal::packet_traits<float>::type' {aka '__vector(4) float'} [-Wignored-attributes]
          bool Stop = Size==Dynamic || (Size%unpacket_traits<PacketType>::size)==0 || is_same<PacketType,typename unpacket_traits<PacketType>::half>::value>
                      ~~~~~~~~~~~~~~~~~~~~~~~~~~~~~~~~~~~~~~~~~~~~~~~~~~~~~~~~~~~~~^~~~~~~~~~~~~~~~~~~~~~~~~~~~~~~~~~~~~~~~~~~~~~~~~~~~~~~~~~~~~~~~~
D:/biocbuild/bbs-3.14-bioc/R/library/RcppEigen/include/Eigen/src/Core/util/XprHelper.h:187:83: warning: ignoring attributes on template argument 'Eigen::internal::packet_traits<float>::type' {aka '__vector(4) float'} [-Wignored-attributes]
D:/biocbuild/bbs-3.14-bioc/R/library/RcppEigen/include/Eigen/src/Core/util/XprHelper.h:187:83: warning: ignoring attributes on template argument 'Eigen::internal::unpacket_traits<__vector(4) float>::half' {aka '__vector(4) float'} [-Wignored-attributes]
D:/biocbuild/bbs-3.14-bioc/R/library/RcppEigen/include/Eigen/src/Core/util/XprHelper.h:205:88: warning: ignoring attributes on template argument 'Eigen::internal::packet_traits<float>::type' {aka '__vector(4) float'} [-Wignored-attributes]
   typedef typename find_best_packet_helper<Size,typename packet_traits<T>::type>::type type;
                                                                                        ^~~~
In file included from D:/biocbuild/bbs-3.14-bioc/R/library/RcppEigen/include/Eigen/Core:439,
                 from D:/biocbuild/bbs-3.14-bioc/R/library/RcppEigen/include/Eigen/Dense:1,
                 from D:/biocbuild/bbs-3.14-bioc/R/library/RcppEigen/include/RcppEigenForward.h:30,
                 from D:/biocbuild/bbs-3.14-bioc/R/library/RcppEigen/include/RcppEigen.h:25,
                 from MCMC_algorithm.cpp:3:
D:/biocbuild/bbs-3.14-bioc/R/library/RcppEigen/include/Eigen/src/Core/DenseCoeffsBase.h: In instantiation of 'class Eigen::DenseCoeffsBase<Eigen::Matrix<float, 4, 1>, 0>':
D:/biocbuild/bbs-3.14-bioc/R/library/RcppEigen/include/Eigen/src/Core/DenseCoeffsBase.h:300:7:   required from 'class Eigen::DenseCoeffsBase<Eigen::Matrix<float, 4, 1>, 1>'
D:/biocbuild/bbs-3.14-bioc/R/library/RcppEigen/include/Eigen/src/Core/DenseCoeffsBase.h:551:7:   required from 'class Eigen::DenseCoeffsBase<Eigen::Matrix<float, 4, 1>, 3>'
D:/biocbuild/bbs-3.14-bioc/R/library/RcppEigen/include/Eigen/src/Core/DenseBase.h:41:34:   required from 'class Eigen::DenseBase<Eigen::Matrix<float, 4, 1> >'
D:/biocbuild/bbs-3.14-bioc/R/library/RcppEigen/include/Eigen/src/Core/MatrixBase.h:48:34:   required from 'class Eigen::MatrixBase<Eigen::Matrix<float, 4, 1> >'
D:/biocbuild/bbs-3.14-bioc/R/library/RcppEigen/include/Eigen/src/Core/PlainObjectBase.h:98:7:   required from 'class Eigen::PlainObjectBase<Eigen::Matrix<float, 4, 1> >'
D:/biocbuild/bbs-3.14-bioc/R/library/RcppEigen/include/Eigen/src/Core/Matrix.h:178:7:   required from 'class Eigen::Matrix<float, 4, 1>'
D:/biocbuild/bbs-3.14-bioc/R/library/RcppEigen/include/Eigen/src/Geometry/Quaternion.h:46:50:   required from 'class Eigen::QuaternionBase<Eigen::Quaternion<float> >'
D:/biocbuild/bbs-3.14-bioc/R/library/RcppEigen/include/Eigen/src/Geometry/Quaternion.h:250:7:   required from 'class Eigen::Quaternion<float>'
D:/biocbuild/bbs-3.14-bioc/R/library/RcppEigen/include/Eigen/src/Geometry/arch/Geometry_SSE.h:27:3:   required from here
D:/biocbuild/bbs-3.14-bioc/R/library/RcppEigen/include/Eigen/src/Core/DenseCoeffsBase.h:55:30: warning: ignoring attributes on template argument 'Eigen::internal::packet_traits<float>::type' {aka '__vector(4) float'} [-Wignored-attributes]
                      >::type PacketReturnType;
                              ^~~~~~~~~~~~~~~~
In file included from D:/biocbuild/bbs-3.14-bioc/R/library/RcppEigen/include/Eigen/Core:370,
                 from D:/biocbuild/bbs-3.14-bioc/R/library/RcppEigen/include/Eigen/Dense:1,
                 from D:/biocbuild/bbs-3.14-bioc/R/library/RcppEigen/include/RcppEigenForward.h:30,
                 from D:/biocbuild/bbs-3.14-bioc/R/library/RcppEigen/include/RcppEigen.h:25,
                 from MCMC_algorithm.cpp:3:
D:/biocbuild/bbs-3.14-bioc/R/library/RcppEigen/include/Eigen/src/Core/util/XprHelper.h: In instantiation of 'struct Eigen::internal::find_best_packet<double, 4>':
D:/biocbuild/bbs-3.14-bioc/R/library/RcppEigen/include/Eigen/src/Core/Matrix.h:22:57:   required from 'struct Eigen::internal::traits<Eigen::Matrix<double, 4, 1> >'
D:/biocbuild/bbs-3.14-bioc/R/library/RcppEigen/include/Eigen/src/Geometry/Quaternion.h:242:7:   required from 'struct Eigen::internal::traits<Eigen::Quaternion<double> >'
D:/biocbuild/bbs-3.14-bioc/R/library/RcppEigen/include/Eigen/src/Geometry/arch/Geometry_SSE.h:88:47:   required from here
D:/biocbuild/bbs-3.14-bioc/R/library/RcppEigen/include/Eigen/src/Core/util/XprHelper.h:187:44: warning: ignoring attributes on template argument 'Eigen::internal::packet_traits<double>::type' {aka '__vector(2) double'} [-Wignored-attributes]
          bool Stop = Size==Dynamic || (Size%unpacket_traits<PacketType>::size)==0 || is_same<PacketType,typename unpacket_traits<PacketType>::half>::value>
                                       ~~~~~^~~~~~~~~~~~~~~~~~~~~~~~~~~~~~~~~~~
D:/biocbuild/bbs-3.14-bioc/R/library/RcppEigen/include/Eigen/src/Core/util/XprHelper.h:187:83: warning: ignoring attributes on template argument 'Eigen::internal::packet_traits<double>::type' {aka '__vector(2) double'} [-Wignored-attributes]
          bool Stop = Size==Dynamic || (Size%unpacket_traits<PacketType>::size)==0 || is_same<PacketType,typename unpacket_traits<PacketType>::half>::value>
                      ~~~~~~~~~~~~~~~~~~~~~~~~~~~~~~~~~~~~~~~~~~~~~~~~~~~~~~~~~~~~~^~~~~~~~~~~~~~~~~~~~~~~~~~~~~~~~~~~~~~~~~~~~~~~~~~~~~~~~~~~~~~~~~
D:/biocbuild/bbs-3.14-bioc/R/library/RcppEigen/include/Eigen/src/Core/util/XprHelper.h:187:83: warning: ignoring attributes on template argument 'Eigen::internal::packet_traits<double>::type' {aka '__vector(2) double'} [-Wignored-attributes]
D:/biocbuild/bbs-3.14-bioc/R/library/RcppEigen/include/Eigen/src/Core/util/XprHelper.h:187:83: warning: ignoring attributes on template argument 'Eigen::internal::unpacket_traits<__vector(2) double>::half' {aka '__vector(2) double'} [-Wignored-attributes]
D:/biocbuild/bbs-3.14-bioc/R/library/RcppEigen/include/Eigen/src/Core/util/XprHelper.h:205:88: warning: ignoring attributes on template argument 'Eigen::internal::packet_traits<double>::type' {aka '__vector(2) double'} [-Wignored-attributes]
   typedef typename find_best_packet_helper<Size,typename packet_traits<T>::type>::type type;
                                                                                        ^~~~
In file included from D:/biocbuild/bbs-3.14-bioc/R/library/RcppEigen/include/Eigen/Core:439,
                 from D:/biocbuild/bbs-3.14-bioc/R/library/RcppEigen/include/Eigen/Dense:1,
                 from D:/biocbuild/bbs-3.14-bioc/R/library/RcppEigen/include/RcppEigenForward.h:30,
                 from D:/biocbuild/bbs-3.14-bioc/R/library/RcppEigen/include/RcppEigen.h:25,
                 from MCMC_algorithm.cpp:3:
D:/biocbuild/bbs-3.14-bioc/R/library/RcppEigen/include/Eigen/src/Core/DenseCoeffsBase.h: In instantiation of 'class Eigen::DenseCoeffsBase<Eigen::Matrix<double, 4, 1>, 0>':
D:/biocbuild/bbs-3.14-bioc/R/library/RcppEigen/include/Eigen/src/Core/DenseCoeffsBase.h:300:7:   required from 'class Eigen::DenseCoeffsBase<Eigen::Matrix<double, 4, 1>, 1>'
D:/biocbuild/bbs-3.14-bioc/R/library/RcppEigen/include/Eigen/src/Core/DenseCoeffsBase.h:551:7:   required from 'class Eigen::DenseCoeffsBase<Eigen::Matrix<double, 4, 1>, 3>'
D:/biocbuild/bbs-3.14-bioc/R/library/RcppEigen/include/Eigen/src/Core/DenseBase.h:41:34:   required from 'class Eigen::DenseBase<Eigen::Matrix<double, 4, 1> >'
D:/biocbuild/bbs-3.14-bioc/R/library/RcppEigen/include/Eigen/src/Core/MatrixBase.h:48:34:   required from 'class Eigen::MatrixBase<Eigen::Matrix<double, 4, 1> >'
D:/biocbuild/bbs-3.14-bioc/R/library/RcppEigen/include/Eigen/src/Core/PlainObjectBase.h:98:7:   required from 'class Eigen::PlainObjectBase<Eigen::Matrix<double, 4, 1> >'
D:/biocbuild/bbs-3.14-bioc/R/library/RcppEigen/include/Eigen/src/Core/Matrix.h:178:7:   required from 'class Eigen::Matrix<double, 4, 1>'
D:/biocbuild/bbs-3.14-bioc/R/library/RcppEigen/include/Eigen/src/Geometry/Quaternion.h:46:50:   required from 'class Eigen::QuaternionBase<Eigen::Quaternion<double> >'
D:/biocbuild/bbs-3.14-bioc/R/library/RcppEigen/include/Eigen/src/Geometry/Quaternion.h:250:7:   required from 'class Eigen::Quaternion<double>'
D:/biocbuild/bbs-3.14-bioc/R/library/RcppEigen/include/Eigen/src/Geometry/arch/Geometry_SSE.h:92:3:   required from here
D:/biocbuild/bbs-3.14-bioc/R/library/RcppEigen/include/Eigen/src/Core/DenseCoeffsBase.h:55:30: warning: ignoring attributes on template argument 'Eigen::internal::packet_traits<double>::type' {aka '__vector(2) double'} [-Wignored-attributes]
                      >::type PacketReturnType;
                              ^~~~~~~~~~~~~~~~
In file included from D:/biocbuild/bbs-3.14-bioc/R/library/RcppEigen/include/Eigen/SparseCore:37,
                 from D:/biocbuild/bbs-3.14-bioc/R/library/RcppEigen/include/Eigen/Sparse:26,
                 from D:/biocbuild/bbs-3.14-bioc/R/library/RcppEigen/include/RcppEigenForward.h:31,
                 from D:/biocbuild/bbs-3.14-bioc/R/library/RcppEigen/include/RcppEigen.h:25,
                 from MCMC_algorithm.cpp:3:
D:/biocbuild/bbs-3.14-bioc/R/library/RcppEigen/include/Eigen/src/SparseCore/SparseMatrixBase.h: In instantiation of 'class Eigen::SparseMatrixBase<Eigen::SparseMatrix<double, 0, int> >':
D:/biocbuild/bbs-3.14-bioc/R/library/RcppEigen/include/Eigen/src/SparseCore/SparseCompressedBase.h:36:7:   required from 'class Eigen::SparseCompressedBase<Eigen::SparseMatrix<double, 0, int> >'
D:/biocbuild/bbs-3.14-bioc/R/library/RcppEigen/include/Eigen/src/SparseCore/SparseMatrix.h:96:7:   required from 'class Eigen::SparseMatrix<double, 0, int>'
D:/biocbuild/bbs-3.14-bioc/R/library/RcppEigen/include/unsupported/Eigen/src/IterativeSolvers/ConstrainedConjGrad.h:61:25:   required from here
D:/biocbuild/bbs-3.14-bioc/R/library/RcppEigen/include/Eigen/src/SparseCore/SparseMatrixBase.h:47:30: warning: ignoring attributes on template argument 'Eigen::internal::packet_traits<double>::type' {aka '__vector(2) double'} [-Wignored-attributes]
                      >::type PacketReturnType;
                              ^~~~~~~~~~~~~~~~
In file included from D:/biocbuild/bbs-3.14-bioc/R/library/RcppEigen/include/Eigen/Core:370,
                 from D:/biocbuild/bbs-3.14-bioc/R/library/RcppEigen/include/Eigen/Dense:1,
                 from D:/biocbuild/bbs-3.14-bioc/R/library/RcppEigen/include/RcppEigenForward.h:30,
                 from D:/biocbuild/bbs-3.14-bioc/R/library/RcppEigen/include/RcppEigen.h:25,
                 from MCMC_algorithm.cpp:3:
D:/biocbuild/bbs-3.14-bioc/R/library/RcppEigen/include/Eigen/src/Core/util/XprHelper.h: In instantiation of 'struct Eigen::internal::find_best_packet<int, -1>':
D:/biocbuild/bbs-3.14-bioc/R/library/RcppEigen/include/Eigen/src/Core/Matrix.h:22:57:   required from 'struct Eigen::internal::traits<Eigen::Matrix<int, -1, 1> >'
D:/biocbuild/bbs-3.14-bioc/R/library/RcppEigen/include/Eigen/src/Core/PlainObjectBase.h:98:7:   required from 'class Eigen::PlainObjectBase<Eigen::Matrix<int, -1, 1> >'
D:/biocbuild/bbs-3.14-bioc/R/library/RcppEigen/include/Eigen/src/Core/Matrix.h:178:7:   required from 'class Eigen::Matrix<int, -1, 1>'
D:/biocbuild/bbs-3.14-bioc/R/library/RcppEigen/include/unsupported/Eigen/src/KroneckerProduct/KroneckerTensorProduct.h:168:29:   required from here
D:/biocbuild/bbs-3.14-bioc/R/library/RcppEigen/include/Eigen/src/Core/util/XprHelper.h:187:44: warning: ignoring attributes on template argument 'Eigen::internal::packet_traits<int>::type' {aka '__vector(2) long long int'} [-Wignored-attributes]
          bool Stop = Size==Dynamic || (Size%unpacket_traits<PacketType>::size)==0 || is_same<PacketType,typename unpacket_traits<PacketType>::half>::value>
                                       ~~~~~^~~~~~~~~~~~~~~~~~~~~~~~~~~~~~~~~~~
D:/biocbuild/bbs-3.14-bioc/R/library/RcppEigen/include/Eigen/src/Core/util/XprHelper.h:187:83: warning: ignoring attributes on template argument 'Eigen::internal::packet_traits<int>::type' {aka '__vector(2) long long int'} [-Wignored-attributes]
          bool Stop = Size==Dynamic || (Size%unpacket_traits<PacketType>::size)==0 || is_same<PacketType,typename unpacket_traits<PacketType>::half>::value>
                      ~~~~~~~~~~~~~~~~~~~~~~~~~~~~~~~~~~~~~~~~~~~~~~~~~~~~~~~~~~~~~^~~~~~~~~~~~~~~~~~~~~~~~~~~~~~~~~~~~~~~~~~~~~~~~~~~~~~~~~~~~~~~~~
D:/biocbuild/bbs-3.14-bioc/R/library/RcppEigen/include/Eigen/src/Core/util/XprHelper.h:187:83: warning: ignoring attributes on template argument 'Eigen::internal::packet_traits<int>::type' {aka '__vector(2) long long int'} [-Wignored-attributes]
D:/biocbuild/bbs-3.14-bioc/R/library/RcppEigen/include/Eigen/src/Core/util/XprHelper.h:187:83: warning: ignoring attributes on template argument 'Eigen::internal::unpacket_traits<__vector(2) long long int>::half' {aka '__vector(2) long long int'} [-Wignored-attributes]
D:/biocbuild/bbs-3.14-bioc/R/library/RcppEigen/include/Eigen/src/Core/util/XprHelper.h:205:88: warning: ignoring attributes on template argument 'Eigen::internal::packet_traits<int>::type' {aka '__vector(2) long long int'} [-Wignored-attributes]
   typedef typename find_best_packet_helper<Size,typename packet_traits<T>::type>::type type;
                                                                                        ^~~~
In file included from D:/biocbuild/bbs-3.14-bioc/R/library/RcppEigen/include/Eigen/Core:439,
                 from D:/biocbuild/bbs-3.14-bioc/R/library/RcppEigen/include/Eigen/Dense:1,
                 from D:/biocbuild/bbs-3.14-bioc/R/library/RcppEigen/include/RcppEigenForward.h:30,
                 from D:/biocbuild/bbs-3.14-bioc/R/library/RcppEigen/include/RcppEigen.h:25,
                 from MCMC_algorithm.cpp:3:
D:/biocbuild/bbs-3.14-bioc/R/library/RcppEigen/include/Eigen/src/Core/DenseCoeffsBase.h: In instantiation of 'class Eigen::DenseCoeffsBase<Eigen::Matrix<int, -1, 1>, 0>':
D:/biocbuild/bbs-3.14-bioc/R/library/RcppEigen/include/Eigen/src/Core/DenseCoeffsBase.h:300:7:   required from 'class Eigen::DenseCoeffsBase<Eigen::Matrix<int, -1, 1>, 1>'
D:/biocbuild/bbs-3.14-bioc/R/library/RcppEigen/include/Eigen/src/Core/DenseCoeffsBase.h:551:7:   required from 'class Eigen::DenseCoeffsBase<Eigen::Matrix<int, -1, 1>, 3>'
D:/biocbuild/bbs-3.14-bioc/R/library/RcppEigen/include/Eigen/src/Core/DenseBase.h:41:34:   required from 'class Eigen::DenseBase<Eigen::Matrix<int, -1, 1> >'
D:/biocbuild/bbs-3.14-bioc/R/library/RcppEigen/include/Eigen/src/Core/MatrixBase.h:48:34:   required from 'class Eigen::MatrixBase<Eigen::Matrix<int, -1, 1> >'
D:/biocbuild/bbs-3.14-bioc/R/library/RcppEigen/include/Eigen/src/Core/PlainObjectBase.h:98:7:   required from 'class Eigen::PlainObjectBase<Eigen::Matrix<int, -1, 1> >'
D:/biocbuild/bbs-3.14-bioc/R/library/RcppEigen/include/Eigen/src/Core/Matrix.h:178:7:   required from 'class Eigen::Matrix<int, -1, 1>'
D:/biocbuild/bbs-3.14-bioc/R/library/RcppEigen/include/unsupported/Eigen/src/KroneckerProduct/KroneckerTensorProduct.h:168:29:   required from here
D:/biocbuild/bbs-3.14-bioc/R/library/RcppEigen/include/Eigen/src/Core/DenseCoeffsBase.h:55:30: warning: ignoring attributes on template argument 'Eigen::internal::packet_traits<int>::type' {aka '__vector(2) long long int'} [-Wignored-attributes]
                      >::type PacketReturnType;
                              ^~~~~~~~~~~~~~~~
D:/biocbuild/bbs-3.14-bioc/R/library/RcppEigen/include/Eigen/src/Core/DenseCoeffsBase.h: In instantiation of 'class Eigen::DenseCoeffsBase<Eigen::Transpose<Eigen::Matrix<int, -1, 1> >, 0>':
D:/biocbuild/bbs-3.14-bioc/R/library/RcppEigen/include/Eigen/src/Core/DenseCoeffsBase.h:300:7:   required from 'class Eigen::DenseCoeffsBase<Eigen::Transpose<Eigen::Matrix<int, -1, 1> >, 1>'
D:/biocbuild/bbs-3.14-bioc/R/library/RcppEigen/include/Eigen/src/Core/DenseCoeffsBase.h:551:7:   required from 'class Eigen::DenseCoeffsBase<Eigen::Transpose<Eigen::Matrix<int, -1, 1> >, 3>'
D:/biocbuild/bbs-3.14-bioc/R/library/RcppEigen/include/Eigen/src/Core/DenseBase.h:41:34:   required from 'class Eigen::DenseBase<Eigen::Transpose<Eigen::Matrix<int, -1, 1> > >'
D:/biocbuild/bbs-3.14-bioc/R/library/RcppEigen/include/Eigen/src/Core/MatrixBase.h:48:34:   required from 'class Eigen::MatrixBase<Eigen::Transpose<Eigen::Matrix<int, -1, 1> > >'
D:/biocbuild/bbs-3.14-bioc/R/library/RcppEigen/include/Eigen/src/Core/Transpose.h:115:37:   required from 'class Eigen::TransposeImpl<Eigen::Matrix<int, -1, 1>, Eigen::Dense>'
D:/biocbuild/bbs-3.14-bioc/R/library/RcppEigen/include/Eigen/src/Core/Transpose.h:52:37:   required from 'class Eigen::Transpose<Eigen::Matrix<int, -1, 1> >'
D:/biocbuild/bbs-3.14-bioc/R/library/RcppEigen/include/unsupported/Eigen/src/KroneckerProduct/KroneckerTensorProduct.h:178:72:   required from here
D:/biocbuild/bbs-3.14-bioc/R/library/RcppEigen/include/Eigen/src/Core/DenseCoeffsBase.h:55:30: warning: ignoring attributes on template argument 'Eigen::internal::packet_traits<int>::type' {aka '__vector(2) long long int'} [-Wignored-attributes]
D:/biocbuild/bbs-3.14-bioc/R/library/RcppEigen/include/Eigen/src/Core/DenseCoeffsBase.h: In instantiation of 'class Eigen::DenseCoeffsBase<Eigen::Matrix<int, -1, -1>, 0>':
D:/biocbuild/bbs-3.14-bioc/R/library/RcppEigen/include/Eigen/src/Core/DenseCoeffsBase.h:300:7:   required from 'class Eigen::DenseCoeffsBase<Eigen::Matrix<int, -1, -1>, 1>'
D:/biocbuild/bbs-3.14-bioc/R/library/RcppEigen/include/Eigen/src/Core/DenseCoeffsBase.h:551:7:   required from 'class Eigen::DenseCoeffsBase<Eigen::Matrix<int, -1, -1>, 3>'
D:/biocbuild/bbs-3.14-bioc/R/library/RcppEigen/include/Eigen/src/Core/DenseBase.h:41:34:   required from 'class Eigen::DenseBase<Eigen::Matrix<int, -1, -1> >'
D:/biocbuild/bbs-3.14-bioc/R/library/RcppEigen/include/Eigen/src/Core/MatrixBase.h:48:34:   required from 'class Eigen::MatrixBase<Eigen::Matrix<int, -1, -1> >'
D:/biocbuild/bbs-3.14-bioc/R/library/RcppEigen/include/Eigen/src/Core/PlainObjectBase.h:98:7:   required from 'class Eigen::PlainObjectBase<Eigen::Matrix<int, -1, -1> >'
D:/biocbuild/bbs-3.14-bioc/R/library/RcppEigen/include/Eigen/src/Core/Matrix.h:178:7:   required from 'class Eigen::Matrix<int, -1, -1>'
D:/biocbuild/bbs-3.14-bioc/R/library/RcppEigen/include/unsupported/Eigen/src/KroneckerProduct/KroneckerTensorProduct.h:179:36:   required from here
D:/biocbuild/bbs-3.14-bioc/R/library/RcppEigen/include/Eigen/src/Core/DenseCoeffsBase.h:55:30: warning: ignoring attributes on template argument 'Eigen::internal::packet_traits<int>::type' {aka '__vector(2) long long int'} [-Wignored-attributes]
"C:/rtools40/mingw64/bin/"g++ -std=gnu++11  -I"D:/biocbuild/bbs-3.14-bioc/R/include" -DNDEBUG  -I'D:/biocbuild/bbs-3.14-bioc/R/library/Rcpp/include' -I'D:/biocbuild/bbs-3.14-bioc/R/library/RcppArmadillo/include' -I'D:/biocbuild/bbs-3.14-bioc/R/library/RcppEigen/include'   -I"C:/extsoft/include"  -DARMA_DONT_USE_OPENMP   -O2 -Wall  -mfpmath=sse -msse2 -mstackrealign  -c RcppExports.cpp -o RcppExports.o
In file included from D:/biocbuild/bbs-3.14-bioc/R/library/RcppEigen/include/Eigen/Core:397,
                 from D:/biocbuild/bbs-3.14-bioc/R/library/RcppEigen/include/Eigen/Dense:1,
                 from D:/biocbuild/bbs-3.14-bioc/R/library/RcppEigen/include/RcppEigenForward.h:30,
                 from D:/biocbuild/bbs-3.14-bioc/R/library/RcppEigen/include/RcppEigen.h:25,
                 from RcppExports.cpp:5:
D:/biocbuild/bbs-3.14-bioc/R/library/RcppEigen/include/Eigen/src/Core/arch/SSE/PacketMath.h:60:39: warning: ignoring attributes on template argument '__m128' {aka '__vector(4) float'} [-Wignored-attributes]
 template<> struct is_arithmetic<__m128>  { enum { value = true }; };
                                       ^
D:/biocbuild/bbs-3.14-bioc/R/library/RcppEigen/include/Eigen/src/Core/arch/SSE/PacketMath.h:61:40: warning: ignoring attributes on template argument '__m128i' {aka '__vector(2) long long int'} [-Wignored-attributes]
 template<> struct is_arithmetic<__m128i> { enum { value = true }; };
                                        ^
D:/biocbuild/bbs-3.14-bioc/R/library/RcppEigen/include/Eigen/src/Core/arch/SSE/PacketMath.h:62:40: warning: ignoring attributes on template argument '__m128d' {aka '__vector(2) double'} [-Wignored-attributes]
 template<> struct is_arithmetic<__m128d> { enum { value = true }; };
                                        ^
D:/biocbuild/bbs-3.14-bioc/R/library/RcppEigen/include/Eigen/src/Core/arch/SSE/PacketMath.h:161:43: warning: ignoring attributes on template argument 'Eigen::internal::Packet4f' {aka '__vector(4) float'} [-Wignored-attributes]
 template<> struct unpacket_traits<Packet4f> { typedef float  type; enum {size=4, alignment=Aligned16}; typedef Packet4f half; };
                                           ^
D:/biocbuild/bbs-3.14-bioc/R/library/RcppEigen/include/Eigen/src/Core/arch/SSE/PacketMath.h:162:43: warning: ignoring attributes on template argument 'Eigen::internal::Packet2d' {aka '__vector(2) double'} [-Wignored-attributes]
 template<> struct unpacket_traits<Packet2d> { typedef double type; enum {size=2, alignment=Aligned16}; typedef Packet2d half; };
                                           ^
D:/biocbuild/bbs-3.14-bioc/R/library/RcppEigen/include/Eigen/src/Core/arch/SSE/PacketMath.h:163:43: warning: ignoring attributes on template argument 'Eigen::internal::Packet4i' {aka '__vector(2) long long int'} [-Wignored-attributes]
 template<> struct unpacket_traits<Packet4i> { typedef int    type; enum {size=4, alignment=Aligned16}; typedef Packet4i half; };
                                           ^
D:/biocbuild/bbs-3.14-bioc/R/library/RcppEigen/include/Eigen/src/Core/arch/SSE/PacketMath.h:718:35: warning: ignoring attributes on template argument 'Eigen::internal::Packet4f' {aka '__vector(4) float'} [-Wignored-attributes]
 struct palign_impl<Offset,Packet4f>
                                   ^
D:/biocbuild/bbs-3.14-bioc/R/library/RcppEigen/include/Eigen/src/Core/arch/SSE/PacketMath.h:741:35: warning: ignoring attributes on template argument 'Eigen::internal::Packet4i' {aka '__vector(2) long long int'} [-Wignored-attributes]
 struct palign_impl<Offset,Packet4i>
                                   ^
D:/biocbuild/bbs-3.14-bioc/R/library/RcppEigen/include/Eigen/src/Core/arch/SSE/PacketMath.h:764:35: warning: ignoring attributes on template argument 'Eigen::internal::Packet2d' {aka '__vector(2) double'} [-Wignored-attributes]
 struct palign_impl<Offset,Packet2d>
                                   ^
D:/biocbuild/bbs-3.14-bioc/R/library/RcppEigen/include/Eigen/src/Core/arch/SSE/PacketMath.h:778:34: warning: ignoring attributes on template argument 'Eigen::internal::Packet4f' {aka '__vector(4) float'} [-Wignored-attributes]
 ptranspose(PacketBlock<Packet4f,4>& kernel) {
                                  ^
D:/biocbuild/bbs-3.14-bioc/R/library/RcppEigen/include/Eigen/src/Core/arch/SSE/PacketMath.h:783:34: warning: ignoring attributes on template argument 'Eigen::internal::Packet2d' {aka '__vector(2) double'} [-Wignored-attributes]
 ptranspose(PacketBlock<Packet2d,2>& kernel) {
                                  ^
D:/biocbuild/bbs-3.14-bioc/R/library/RcppEigen/include/Eigen/src/Core/arch/SSE/PacketMath.h:790:34: warning: ignoring attributes on template argument 'Eigen::internal::Packet4i' {aka '__vector(2) long long int'} [-Wignored-attributes]
 ptranspose(PacketBlock<Packet4i,4>& kernel) {
                                  ^
In file included from D:/biocbuild/bbs-3.14-bioc/R/library/RcppEigen/include/Eigen/Core:377,
                 from D:/biocbuild/bbs-3.14-bioc/R/library/RcppEigen/include/Eigen/Dense:1,
                 from D:/biocbuild/bbs-3.14-bioc/R/library/RcppEigen/include/RcppEigenForward.h:30,
                 from D:/biocbuild/bbs-3.14-bioc/R/library/RcppEigen/include/RcppEigen.h:25,
                 from RcppExports.cpp:5:
D:/biocbuild/bbs-3.14-bioc/R/library/RcppEigen/include/Eigen/src/Core/arch/Default/ConjHelper.h:15:70: warning: ignoring attributes on template argument 'Eigen::internal::Packet4f' {aka '__vector(4) float'} [-Wignored-attributes]
   template<> struct conj_helper<PACKET_REAL, PACKET_CPLX, false,false> {                                          \
                                                                      ^
D:/biocbuild/bbs-3.14-bioc/R/library/RcppEigen/include/Eigen/src/Core/arch/SSE/Complex.h:232:1: note: in expansion of macro 'EIGEN_MAKE_CONJ_HELPER_CPLX_REAL'
 EIGEN_MAKE_CONJ_HELPER_CPLX_REAL(Packet2cf,Packet4f)
 ^~~~~~~~~~~~~~~~~~~~~~~~~~~~~~~~
D:/biocbuild/bbs-3.14-bioc/R/library/RcppEigen/include/Eigen/src/Core/arch/Default/ConjHelper.h:22:70: warning: ignoring attributes on template argument 'Eigen::internal::Packet4f' {aka '__vector(4) float'} [-Wignored-attributes]
   template<> struct conj_helper<PACKET_CPLX, PACKET_REAL, false,false> {                                          \
                                                                      ^
D:/biocbuild/bbs-3.14-bioc/R/library/RcppEigen/include/Eigen/src/Core/arch/SSE/Complex.h:232:1: note: in expansion of macro 'EIGEN_MAKE_CONJ_HELPER_CPLX_REAL'
 EIGEN_MAKE_CONJ_HELPER_CPLX_REAL(Packet2cf,Packet4f)
 ^~~~~~~~~~~~~~~~~~~~~~~~~~~~~~~~
D:/biocbuild/bbs-3.14-bioc/R/library/RcppEigen/include/Eigen/src/Core/arch/Default/ConjHelper.h:15:70: warning: ignoring attributes on template argument 'Eigen::internal::Packet2d' {aka '__vector(2) double'} [-Wignored-attributes]
   template<> struct conj_helper<PACKET_REAL, PACKET_CPLX, false,false> {                                          \
                                                                      ^
D:/biocbuild/bbs-3.14-bioc/R/library/RcppEigen/include/Eigen/src/Core/arch/SSE/Complex.h:417:1: note: in expansion of macro 'EIGEN_MAKE_CONJ_HELPER_CPLX_REAL'
 EIGEN_MAKE_CONJ_HELPER_CPLX_REAL(Packet1cd,Packet2d)
 ^~~~~~~~~~~~~~~~~~~~~~~~~~~~~~~~
D:/biocbuild/bbs-3.14-bioc/R/library/RcppEigen/include/Eigen/src/Core/arch/Default/ConjHelper.h:22:70: warning: ignoring attributes on template argument 'Eigen::internal::Packet2d' {aka '__vector(2) double'} [-Wignored-attributes]
   template<> struct conj_helper<PACKET_CPLX, PACKET_REAL, false,false> {                                          \
                                                                      ^
D:/biocbuild/bbs-3.14-bioc/R/library/RcppEigen/include/Eigen/src/Core/arch/SSE/Complex.h:417:1: note: in expansion of macro 'EIGEN_MAKE_CONJ_HELPER_CPLX_REAL'
 EIGEN_MAKE_CONJ_HELPER_CPLX_REAL(Packet1cd,Packet2d)
 ^~~~~~~~~~~~~~~~~~~~~~~~~~~~~~~~
In file included from D:/biocbuild/bbs-3.14-bioc/R/library/RcppEigen/include/Eigen/Core:370,
                 from D:/biocbuild/bbs-3.14-bioc/R/library/RcppEigen/include/Eigen/Dense:1,
                 from D:/biocbuild/bbs-3.14-bioc/R/library/RcppEigen/include/RcppEigenForward.h:30,
                 from D:/biocbuild/bbs-3.14-bioc/R/library/RcppEigen/include/RcppEigen.h:25,
                 from RcppExports.cpp:5:
D:/biocbuild/bbs-3.14-bioc/R/library/RcppEigen/include/Eigen/src/Core/util/XprHelper.h: In instantiation of 'struct Eigen::internal::find_best_packet<float, 4>':
D:/biocbuild/bbs-3.14-bioc/R/library/RcppEigen/include/Eigen/src/Core/Matrix.h:22:57:   required from 'struct Eigen::internal::traits<Eigen::Matrix<float, 4, 1> >'
D:/biocbuild/bbs-3.14-bioc/R/library/RcppEigen/include/Eigen/src/Geometry/Quaternion.h:242:7:   required from 'struct Eigen::internal::traits<Eigen::Quaternion<float> >'
D:/biocbuild/bbs-3.14-bioc/R/library/RcppEigen/include/Eigen/src/Geometry/arch/Geometry_SSE.h:24:46:   required from here
D:/biocbuild/bbs-3.14-bioc/R/library/RcppEigen/include/Eigen/src/Core/util/XprHelper.h:187:44: warning: ignoring attributes on template argument 'Eigen::internal::packet_traits<float>::type' {aka '__vector(4) float'} [-Wignored-attributes]
          bool Stop = Size==Dynamic || (Size%unpacket_traits<PacketType>::size)==0 || is_same<PacketType,typename unpacket_traits<PacketType>::half>::value>
                                       ~~~~~^~~~~~~~~~~~~~~~~~~~~~~~~~~~~~~~~~~
D:/biocbuild/bbs-3.14-bioc/R/library/RcppEigen/include/Eigen/src/Core/util/XprHelper.h:187:83: warning: ignoring attributes on template argument 'Eigen::internal::packet_traits<float>::type' {aka '__vector(4) float'} [-Wignored-attributes]
          bool Stop = Size==Dynamic || (Size%unpacket_traits<PacketType>::size)==0 || is_same<PacketType,typename unpacket_traits<PacketType>::half>::value>
                      ~~~~~~~~~~~~~~~~~~~~~~~~~~~~~~~~~~~~~~~~~~~~~~~~~~~~~~~~~~~~~^~~~~~~~~~~~~~~~~~~~~~~~~~~~~~~~~~~~~~~~~~~~~~~~~~~~~~~~~~~~~~~~~
D:/biocbuild/bbs-3.14-bioc/R/library/RcppEigen/include/Eigen/src/Core/util/XprHelper.h:187:83: warning: ignoring attributes on template argument 'Eigen::internal::packet_traits<float>::type' {aka '__vector(4) float'} [-Wignored-attributes]
D:/biocbuild/bbs-3.14-bioc/R/library/RcppEigen/include/Eigen/src/Core/util/XprHelper.h:187:83: warning: ignoring attributes on template argument 'Eigen::internal::unpacket_traits<__vector(4) float>::half' {aka '__vector(4) float'} [-Wignored-attributes]
D:/biocbuild/bbs-3.14-bioc/R/library/RcppEigen/include/Eigen/src/Core/util/XprHelper.h:205:88: warning: ignoring attributes on template argument 'Eigen::internal::packet_traits<float>::type' {aka '__vector(4) float'} [-Wignored-attributes]
   typedef typename find_best_packet_helper<Size,typename packet_traits<T>::type>::type type;
                                                                                        ^~~~
In file included from D:/biocbuild/bbs-3.14-bioc/R/library/RcppEigen/include/Eigen/Core:439,
                 from D:/biocbuild/bbs-3.14-bioc/R/library/RcppEigen/include/Eigen/Dense:1,
                 from D:/biocbuild/bbs-3.14-bioc/R/library/RcppEigen/include/RcppEigenForward.h:30,
                 from D:/biocbuild/bbs-3.14-bioc/R/library/RcppEigen/include/RcppEigen.h:25,
                 from RcppExports.cpp:5:
D:/biocbuild/bbs-3.14-bioc/R/library/RcppEigen/include/Eigen/src/Core/DenseCoeffsBase.h: In instantiation of 'class Eigen::DenseCoeffsBase<Eigen::Matrix<float, 4, 1>, 0>':
D:/biocbuild/bbs-3.14-bioc/R/library/RcppEigen/include/Eigen/src/Core/DenseCoeffsBase.h:300:7:   required from 'class Eigen::DenseCoeffsBase<Eigen::Matrix<float, 4, 1>, 1>'
D:/biocbuild/bbs-3.14-bioc/R/library/RcppEigen/include/Eigen/src/Core/DenseCoeffsBase.h:551:7:   required from 'class Eigen::DenseCoeffsBase<Eigen::Matrix<float, 4, 1>, 3>'
D:/biocbuild/bbs-3.14-bioc/R/library/RcppEigen/include/Eigen/src/Core/DenseBase.h:41:34:   required from 'class Eigen::DenseBase<Eigen::Matrix<float, 4, 1> >'
D:/biocbuild/bbs-3.14-bioc/R/library/RcppEigen/include/Eigen/src/Core/MatrixBase.h:48:34:   required from 'class Eigen::MatrixBase<Eigen::Matrix<float, 4, 1> >'
D:/biocbuild/bbs-3.14-bioc/R/library/RcppEigen/include/Eigen/src/Core/PlainObjectBase.h:98:7:   required from 'class Eigen::PlainObjectBase<Eigen::Matrix<float, 4, 1> >'
D:/biocbuild/bbs-3.14-bioc/R/library/RcppEigen/include/Eigen/src/Core/Matrix.h:178:7:   required from 'class Eigen::Matrix<float, 4, 1>'
D:/biocbuild/bbs-3.14-bioc/R/library/RcppEigen/include/Eigen/src/Geometry/Quaternion.h:46:50:   required from 'class Eigen::QuaternionBase<Eigen::Quaternion<float> >'
D:/biocbuild/bbs-3.14-bioc/R/library/RcppEigen/include/Eigen/src/Geometry/Quaternion.h:250:7:   required from 'class Eigen::Quaternion<float>'
D:/biocbuild/bbs-3.14-bioc/R/library/RcppEigen/include/Eigen/src/Geometry/arch/Geometry_SSE.h:27:3:   required from here
D:/biocbuild/bbs-3.14-bioc/R/library/RcppEigen/include/Eigen/src/Core/DenseCoeffsBase.h:55:30: warning: ignoring attributes on template argument 'Eigen::internal::packet_traits<float>::type' {aka '__vector(4) float'} [-Wignored-attributes]
                      >::type PacketReturnType;
                              ^~~~~~~~~~~~~~~~
In file included from D:/biocbuild/bbs-3.14-bioc/R/library/RcppEigen/include/Eigen/Core:370,
                 from D:/biocbuild/bbs-3.14-bioc/R/library/RcppEigen/include/Eigen/Dense:1,
                 from D:/biocbuild/bbs-3.14-bioc/R/library/RcppEigen/include/RcppEigenForward.h:30,
                 from D:/biocbuild/bbs-3.14-bioc/R/library/RcppEigen/include/RcppEigen.h:25,
                 from RcppExports.cpp:5:
D:/biocbuild/bbs-3.14-bioc/R/library/RcppEigen/include/Eigen/src/Core/util/XprHelper.h: In instantiation of 'struct Eigen::internal::find_best_packet<double, 4>':
D:/biocbuild/bbs-3.14-bioc/R/library/RcppEigen/include/Eigen/src/Core/Matrix.h:22:57:   required from 'struct Eigen::internal::traits<Eigen::Matrix<double, 4, 1> >'
D:/biocbuild/bbs-3.14-bioc/R/library/RcppEigen/include/Eigen/src/Geometry/Quaternion.h:242:7:   required from 'struct Eigen::internal::traits<Eigen::Quaternion<double> >'
D:/biocbuild/bbs-3.14-bioc/R/library/RcppEigen/include/Eigen/src/Geometry/arch/Geometry_SSE.h:88:47:   required from here
D:/biocbuild/bbs-3.14-bioc/R/library/RcppEigen/include/Eigen/src/Core/util/XprHelper.h:187:44: warning: ignoring attributes on template argument 'Eigen::internal::packet_traits<double>::type' {aka '__vector(2) double'} [-Wignored-attributes]
          bool Stop = Size==Dynamic || (Size%unpacket_traits<PacketType>::size)==0 || is_same<PacketType,typename unpacket_traits<PacketType>::half>::value>
                                       ~~~~~^~~~~~~~~~~~~~~~~~~~~~~~~~~~~~~~~~~
D:/biocbuild/bbs-3.14-bioc/R/library/RcppEigen/include/Eigen/src/Core/util/XprHelper.h:187:83: warning: ignoring attributes on template argument 'Eigen::internal::packet_traits<double>::type' {aka '__vector(2) double'} [-Wignored-attributes]
          bool Stop = Size==Dynamic || (Size%unpacket_traits<PacketType>::size)==0 || is_same<PacketType,typename unpacket_traits<PacketType>::half>::value>
                      ~~~~~~~~~~~~~~~~~~~~~~~~~~~~~~~~~~~~~~~~~~~~~~~~~~~~~~~~~~~~~^~~~~~~~~~~~~~~~~~~~~~~~~~~~~~~~~~~~~~~~~~~~~~~~~~~~~~~~~~~~~~~~~
D:/biocbuild/bbs-3.14-bioc/R/library/RcppEigen/include/Eigen/src/Core/util/XprHelper.h:187:83: warning: ignoring attributes on template argument 'Eigen::internal::packet_traits<double>::type' {aka '__vector(2) double'} [-Wignored-attributes]
D:/biocbuild/bbs-3.14-bioc/R/library/RcppEigen/include/Eigen/src/Core/util/XprHelper.h:187:83: warning: ignoring attributes on template argument 'Eigen::internal::unpacket_traits<__vector(2) double>::half' {aka '__vector(2) double'} [-Wignored-attributes]
D:/biocbuild/bbs-3.14-bioc/R/library/RcppEigen/include/Eigen/src/Core/util/XprHelper.h:205:88: warning: ignoring attributes on template argument 'Eigen::internal::packet_traits<double>::type' {aka '__vector(2) double'} [-Wignored-attributes]
   typedef typename find_best_packet_helper<Size,typename packet_traits<T>::type>::type type;
                                                                                        ^~~~
In file included from D:/biocbuild/bbs-3.14-bioc/R/library/RcppEigen/include/Eigen/Core:439,
                 from D:/biocbuild/bbs-3.14-bioc/R/library/RcppEigen/include/Eigen/Dense:1,
                 from D:/biocbuild/bbs-3.14-bioc/R/library/RcppEigen/include/RcppEigenForward.h:30,
                 from D:/biocbuild/bbs-3.14-bioc/R/library/RcppEigen/include/RcppEigen.h:25,
                 from RcppExports.cpp:5:
D:/biocbuild/bbs-3.14-bioc/R/library/RcppEigen/include/Eigen/src/Core/DenseCoeffsBase.h: In instantiation of 'class Eigen::DenseCoeffsBase<Eigen::Matrix<double, 4, 1>, 0>':
D:/biocbuild/bbs-3.14-bioc/R/library/RcppEigen/include/Eigen/src/Core/DenseCoeffsBase.h:300:7:   required from 'class Eigen::DenseCoeffsBase<Eigen::Matrix<double, 4, 1>, 1>'
D:/biocbuild/bbs-3.14-bioc/R/library/RcppEigen/include/Eigen/src/Core/DenseCoeffsBase.h:551:7:   required from 'class Eigen::DenseCoeffsBase<Eigen::Matrix<double, 4, 1>, 3>'
D:/biocbuild/bbs-3.14-bioc/R/library/RcppEigen/include/Eigen/src/Core/DenseBase.h:41:34:   required from 'class Eigen::DenseBase<Eigen::Matrix<double, 4, 1> >'
D:/biocbuild/bbs-3.14-bioc/R/library/RcppEigen/include/Eigen/src/Core/MatrixBase.h:48:34:   required from 'class Eigen::MatrixBase<Eigen::Matrix<double, 4, 1> >'
D:/biocbuild/bbs-3.14-bioc/R/library/RcppEigen/include/Eigen/src/Core/PlainObjectBase.h:98:7:   required from 'class Eigen::PlainObjectBase<Eigen::Matrix<double, 4, 1> >'
D:/biocbuild/bbs-3.14-bioc/R/library/RcppEigen/include/Eigen/src/Core/Matrix.h:178:7:   required from 'class Eigen::Matrix<double, 4, 1>'
D:/biocbuild/bbs-3.14-bioc/R/library/RcppEigen/include/Eigen/src/Geometry/Quaternion.h:46:50:   required from 'class Eigen::QuaternionBase<Eigen::Quaternion<double> >'
D:/biocbuild/bbs-3.14-bioc/R/library/RcppEigen/include/Eigen/src/Geometry/Quaternion.h:250:7:   required from 'class Eigen::Quaternion<double>'
D:/biocbuild/bbs-3.14-bioc/R/library/RcppEigen/include/Eigen/src/Geometry/arch/Geometry_SSE.h:92:3:   required from here
D:/biocbuild/bbs-3.14-bioc/R/library/RcppEigen/include/Eigen/src/Core/DenseCoeffsBase.h:55:30: warning: ignoring attributes on template argument 'Eigen::internal::packet_traits<double>::type' {aka '__vector(2) double'} [-Wignored-attributes]
                      >::type PacketReturnType;
                              ^~~~~~~~~~~~~~~~
In file included from D:/biocbuild/bbs-3.14-bioc/R/library/RcppEigen/include/Eigen/SparseCore:37,
                 from D:/biocbuild/bbs-3.14-bioc/R/library/RcppEigen/include/Eigen/Sparse:26,
                 from D:/biocbuild/bbs-3.14-bioc/R/library/RcppEigen/include/RcppEigenForward.h:31,
                 from D:/biocbuild/bbs-3.14-bioc/R/library/RcppEigen/include/RcppEigen.h:25,
                 from RcppExports.cpp:5:
D:/biocbuild/bbs-3.14-bioc/R/library/RcppEigen/include/Eigen/src/SparseCore/SparseMatrixBase.h: In instantiation of 'class Eigen::SparseMatrixBase<Eigen::SparseMatrix<double, 0, int> >':
D:/biocbuild/bbs-3.14-bioc/R/library/RcppEigen/include/Eigen/src/SparseCore/SparseCompressedBase.h:36:7:   required from 'class Eigen::SparseCompressedBase<Eigen::SparseMatrix<double, 0, int> >'
D:/biocbuild/bbs-3.14-bioc/R/library/RcppEigen/include/Eigen/src/SparseCore/SparseMatrix.h:96:7:   required from 'class Eigen::SparseMatrix<double, 0, int>'
D:/biocbuild/bbs-3.14-bioc/R/library/RcppEigen/include/unsupported/Eigen/src/IterativeSolvers/ConstrainedConjGrad.h:61:25:   required from here
D:/biocbuild/bbs-3.14-bioc/R/library/RcppEigen/include/Eigen/src/SparseCore/SparseMatrixBase.h:47:30: warning: ignoring attributes on template argument 'Eigen::internal::packet_traits<double>::type' {aka '__vector(2) double'} [-Wignored-attributes]
                      >::type PacketReturnType;
                              ^~~~~~~~~~~~~~~~
In file included from D:/biocbuild/bbs-3.14-bioc/R/library/RcppEigen/include/Eigen/Core:370,
                 from D:/biocbuild/bbs-3.14-bioc/R/library/RcppEigen/include/Eigen/Dense:1,
                 from D:/biocbuild/bbs-3.14-bioc/R/library/RcppEigen/include/RcppEigenForward.h:30,
                 from D:/biocbuild/bbs-3.14-bioc/R/library/RcppEigen/include/RcppEigen.h:25,
                 from RcppExports.cpp:5:
D:/biocbuild/bbs-3.14-bioc/R/library/RcppEigen/include/Eigen/src/Core/util/XprHelper.h: In instantiation of 'struct Eigen::internal::find_best_packet<int, -1>':
D:/biocbuild/bbs-3.14-bioc/R/library/RcppEigen/include/Eigen/src/Core/Matrix.h:22:57:   required from 'struct Eigen::internal::traits<Eigen::Matrix<int, -1, 1> >'
D:/biocbuild/bbs-3.14-bioc/R/library/RcppEigen/include/Eigen/src/Core/PlainObjectBase.h:98:7:   required from 'class Eigen::PlainObjectBase<Eigen::Matrix<int, -1, 1> >'
D:/biocbuild/bbs-3.14-bioc/R/library/RcppEigen/include/Eigen/src/Core/Matrix.h:178:7:   required from 'class Eigen::Matrix<int, -1, 1>'
D:/biocbuild/bbs-3.14-bioc/R/library/RcppEigen/include/unsupported/Eigen/src/KroneckerProduct/KroneckerTensorProduct.h:168:29:   required from here
D:/biocbuild/bbs-3.14-bioc/R/library/RcppEigen/include/Eigen/src/Core/util/XprHelper.h:187:44: warning: ignoring attributes on template argument 'Eigen::internal::packet_traits<int>::type' {aka '__vector(2) long long int'} [-Wignored-attributes]
          bool Stop = Size==Dynamic || (Size%unpacket_traits<PacketType>::size)==0 || is_same<PacketType,typename unpacket_traits<PacketType>::half>::value>
                                       ~~~~~^~~~~~~~~~~~~~~~~~~~~~~~~~~~~~~~~~~
D:/biocbuild/bbs-3.14-bioc/R/library/RcppEigen/include/Eigen/src/Core/util/XprHelper.h:187:83: warning: ignoring attributes on template argument 'Eigen::internal::packet_traits<int>::type' {aka '__vector(2) long long int'} [-Wignored-attributes]
          bool Stop = Size==Dynamic || (Size%unpacket_traits<PacketType>::size)==0 || is_same<PacketType,typename unpacket_traits<PacketType>::half>::value>
                      ~~~~~~~~~~~~~~~~~~~~~~~~~~~~~~~~~~~~~~~~~~~~~~~~~~~~~~~~~~~~~^~~~~~~~~~~~~~~~~~~~~~~~~~~~~~~~~~~~~~~~~~~~~~~~~~~~~~~~~~~~~~~~~
D:/biocbuild/bbs-3.14-bioc/R/library/RcppEigen/include/Eigen/src/Core/util/XprHelper.h:187:83: warning: ignoring attributes on template argument 'Eigen::internal::packet_traits<int>::type' {aka '__vector(2) long long int'} [-Wignored-attributes]
D:/biocbuild/bbs-3.14-bioc/R/library/RcppEigen/include/Eigen/src/Core/util/XprHelper.h:187:83: warning: ignoring attributes on template argument 'Eigen::internal::unpacket_traits<__vector(2) long long int>::half' {aka '__vector(2) long long int'} [-Wignored-attributes]
D:/biocbuild/bbs-3.14-bioc/R/library/RcppEigen/include/Eigen/src/Core/util/XprHelper.h:205:88: warning: ignoring attributes on template argument 'Eigen::internal::packet_traits<int>::type' {aka '__vector(2) long long int'} [-Wignored-attributes]
   typedef typename find_best_packet_helper<Size,typename packet_traits<T>::type>::type type;
                                                                                        ^~~~
In file included from D:/biocbuild/bbs-3.14-bioc/R/library/RcppEigen/include/Eigen/Core:439,
                 from D:/biocbuild/bbs-3.14-bioc/R/library/RcppEigen/include/Eigen/Dense:1,
                 from D:/biocbuild/bbs-3.14-bioc/R/library/RcppEigen/include/RcppEigenForward.h:30,
                 from D:/biocbuild/bbs-3.14-bioc/R/library/RcppEigen/include/RcppEigen.h:25,
                 from RcppExports.cpp:5:
D:/biocbuild/bbs-3.14-bioc/R/library/RcppEigen/include/Eigen/src/Core/DenseCoeffsBase.h: In instantiation of 'class Eigen::DenseCoeffsBase<Eigen::Matrix<int, -1, 1>, 0>':
D:/biocbuild/bbs-3.14-bioc/R/library/RcppEigen/include/Eigen/src/Core/DenseCoeffsBase.h:300:7:   required from 'class Eigen::DenseCoeffsBase<Eigen::Matrix<int, -1, 1>, 1>'
D:/biocbuild/bbs-3.14-bioc/R/library/RcppEigen/include/Eigen/src/Core/DenseCoeffsBase.h:551:7:   required from 'class Eigen::DenseCoeffsBase<Eigen::Matrix<int, -1, 1>, 3>'
D:/biocbuild/bbs-3.14-bioc/R/library/RcppEigen/include/Eigen/src/Core/DenseBase.h:41:34:   required from 'class Eigen::DenseBase<Eigen::Matrix<int, -1, 1> >'
D:/biocbuild/bbs-3.14-bioc/R/library/RcppEigen/include/Eigen/src/Core/MatrixBase.h:48:34:   required from 'class Eigen::MatrixBase<Eigen::Matrix<int, -1, 1> >'
D:/biocbuild/bbs-3.14-bioc/R/library/RcppEigen/include/Eigen/src/Core/PlainObjectBase.h:98:7:   required from 'class Eigen::PlainObjectBase<Eigen::Matrix<int, -1, 1> >'
D:/biocbuild/bbs-3.14-bioc/R/library/RcppEigen/include/Eigen/src/Core/Matrix.h:178:7:   required from 'class Eigen::Matrix<int, -1, 1>'
D:/biocbuild/bbs-3.14-bioc/R/library/RcppEigen/include/unsupported/Eigen/src/KroneckerProduct/KroneckerTensorProduct.h:168:29:   required from here
D:/biocbuild/bbs-3.14-bioc/R/library/RcppEigen/include/Eigen/src/Core/DenseCoeffsBase.h:55:30: warning: ignoring attributes on template argument 'Eigen::internal::packet_traits<int>::type' {aka '__vector(2) long long int'} [-Wignored-attributes]
                      >::type PacketReturnType;
                              ^~~~~~~~~~~~~~~~
D:/biocbuild/bbs-3.14-bioc/R/library/RcppEigen/include/Eigen/src/Core/DenseCoeffsBase.h: In instantiation of 'class Eigen::DenseCoeffsBase<Eigen::Transpose<Eigen::Matrix<int, -1, 1> >, 0>':
D:/biocbuild/bbs-3.14-bioc/R/library/RcppEigen/include/Eigen/src/Core/DenseCoeffsBase.h:300:7:   required from 'class Eigen::DenseCoeffsBase<Eigen::Transpose<Eigen::Matrix<int, -1, 1> >, 1>'
D:/biocbuild/bbs-3.14-bioc/R/library/RcppEigen/include/Eigen/src/Core/DenseCoeffsBase.h:551:7:   required from 'class Eigen::DenseCoeffsBase<Eigen::Transpose<Eigen::Matrix<int, -1, 1> >, 3>'
D:/biocbuild/bbs-3.14-bioc/R/library/RcppEigen/include/Eigen/src/Core/DenseBase.h:41:34:   required from 'class Eigen::DenseBase<Eigen::Transpose<Eigen::Matrix<int, -1, 1> > >'
D:/biocbuild/bbs-3.14-bioc/R/library/RcppEigen/include/Eigen/src/Core/MatrixBase.h:48:34:   required from 'class Eigen::MatrixBase<Eigen::Transpose<Eigen::Matrix<int, -1, 1> > >'
D:/biocbuild/bbs-3.14-bioc/R/library/RcppEigen/include/Eigen/src/Core/Transpose.h:115:37:   required from 'class Eigen::TransposeImpl<Eigen::Matrix<int, -1, 1>, Eigen::Dense>'
D:/biocbuild/bbs-3.14-bioc/R/library/RcppEigen/include/Eigen/src/Core/Transpose.h:52:37:   required from 'class Eigen::Transpose<Eigen::Matrix<int, -1, 1> >'
D:/biocbuild/bbs-3.14-bioc/R/library/RcppEigen/include/unsupported/Eigen/src/KroneckerProduct/KroneckerTensorProduct.h:178:72:   required from here
D:/biocbuild/bbs-3.14-bioc/R/library/RcppEigen/include/Eigen/src/Core/DenseCoeffsBase.h:55:30: warning: ignoring attributes on template argument 'Eigen::internal::packet_traits<int>::type' {aka '__vector(2) long long int'} [-Wignored-attributes]
D:/biocbuild/bbs-3.14-bioc/R/library/RcppEigen/include/Eigen/src/Core/DenseCoeffsBase.h: In instantiation of 'class Eigen::DenseCoeffsBase<Eigen::Matrix<int, -1, -1>, 0>':
D:/biocbuild/bbs-3.14-bioc/R/library/RcppEigen/include/Eigen/src/Core/DenseCoeffsBase.h:300:7:   required from 'class Eigen::DenseCoeffsBase<Eigen::Matrix<int, -1, -1>, 1>'
D:/biocbuild/bbs-3.14-bioc/R/library/RcppEigen/include/Eigen/src/Core/DenseCoeffsBase.h:551:7:   required from 'class Eigen::DenseCoeffsBase<Eigen::Matrix<int, -1, -1>, 3>'
D:/biocbuild/bbs-3.14-bioc/R/library/RcppEigen/include/Eigen/src/Core/DenseBase.h:41:34:   required from 'class Eigen::DenseBase<Eigen::Matrix<int, -1, -1> >'
D:/biocbuild/bbs-3.14-bioc/R/library/RcppEigen/include/Eigen/src/Core/MatrixBase.h:48:34:   required from 'class Eigen::MatrixBase<Eigen::Matrix<int, -1, -1> >'
D:/biocbuild/bbs-3.14-bioc/R/library/RcppEigen/include/Eigen/src/Core/PlainObjectBase.h:98:7:   required from 'class Eigen::PlainObjectBase<Eigen::Matrix<int, -1, -1> >'
D:/biocbuild/bbs-3.14-bioc/R/library/RcppEigen/include/Eigen/src/Core/Matrix.h:178:7:   required from 'class Eigen::Matrix<int, -1, -1>'
D:/biocbuild/bbs-3.14-bioc/R/library/RcppEigen/include/unsupported/Eigen/src/KroneckerProduct/KroneckerTensorProduct.h:179:36:   required from here
D:/biocbuild/bbs-3.14-bioc/R/library/RcppEigen/include/Eigen/src/Core/DenseCoeffsBase.h:55:30: warning: ignoring attributes on template argument 'Eigen::internal::packet_traits<int>::type' {aka '__vector(2) long long int'} [-Wignored-attributes]
C:/rtools40/mingw64/bin/g++ -std=gnu++11 -shared -s -static-libgcc -o BDMMAcorrect.dll tmp.def MCMC_algorithm.o RcppExports.o -LD:/biocbuild/bbs-3.14-bioc/R/bin/x64 -lRlapack -LD:/biocbuild/bbs-3.14-bioc/R/bin/x64 -lRblas -lgfortran -lm -lquadmath -O2 -msse2 -mfpmath=sse -LC:/extsoft/lib/x64 -LC:/extsoft/lib -LD:/biocbuild/bbs-3.14-bioc/R/bin/x64 -lR
installing to D:/biocbuild/bbs-3.14-bioc/meat/BDMMAcorrect.buildbin-libdir/BDMMAcorrect/libs/x64
** testing if installed package can be loaded
* MD5 sums
packaged installation of 'BDMMAcorrect' as BDMMAcorrect_1.11.0.zip
* DONE (BDMMAcorrect)
* installing to library 'D:/biocbuild/bbs-3.14-bioc/R/library'
package 'BDMMAcorrect' successfully unpacked and MD5 sums checked