Back to Multiple platform build/check report for BioC 3.14
A[B]CDEFGHIJKLMNOPQRSTUVWXYZ

This page was generated on 2021-10-21 12:05:12 -0400 (Thu, 21 Oct 2021).

BUILD BIN results for BBCAnalyzer on merida1

To the developers/maintainers of the BBCAnalyzer package:
- Please allow up to 24 hours (and sometimes 48 hours) for your latest push to git@git.bioconductor.org:packages/BBCAnalyzer.git to
reflect on this report. See How and When does the builder pull? When will my changes propagate? here for more information.
- Make sure to use the following settings in order to reproduce any error or warning you see on this page.

raw results

Package 128/2075HostnameOS / ArchINSTALLBUILDCHECKBUILD BIN
BBCAnalyzer 1.23.0  (landing page)
Sarah Sandmann
Snapshot Date: 2021-10-20 14:50:05 -0400 (Wed, 20 Oct 2021)
git_url: https://git.bioconductor.org/packages/BBCAnalyzer
git_branch: master
git_last_commit: 9a4ad1e
git_last_commit_date: 2021-05-19 12:15:08 -0400 (Wed, 19 May 2021)
nebbiolo2Linux (Ubuntu 20.04.2 LTS) / x86_64  OK    OK    OK  UNNEEDED, same version is already published
riesling1Windows Server 2019 Standard / x64  OK    OK    WARNINGS    OK  UNNEEDED, same version is already published
merida1macOS 10.14.6 Mojave / x86_64  OK    OK    OK    OK  UNNEEDED, same version is already published

Summary

Package: BBCAnalyzer
Version: 1.23.0
Command: rm -rf BBCAnalyzer.buildbin-libdir && mkdir BBCAnalyzer.buildbin-libdir && /Users/biocbuild/BBS/utils/build-universal.sh BBCAnalyzer_1.23.0.tar.gz /Library/Frameworks/R.framework/Resources/bin/R BBCAnalyzer.buildbin-libdir
StartedAt: 2021-10-21 11:09:17 -0400 (Thu, 21 Oct 2021)
EndedAt: 2021-10-21 11:10:18 -0400 (Thu, 21 Oct 2021)
EllapsedTime: 60.6 seconds
RetCode: 0
Status:   OK  
PackageFile: BBCAnalyzer_1.23.0.tgz
PackageFileSize: 1.972 MiB

Command output

##############################################################################
##############################################################################
###
### Running command:
###
###   rm -rf BBCAnalyzer.buildbin-libdir && mkdir BBCAnalyzer.buildbin-libdir && /Users/biocbuild/BBS/utils/build-universal.sh BBCAnalyzer_1.23.0.tar.gz /Library/Frameworks/R.framework/Resources/bin/R BBCAnalyzer.buildbin-libdir
###
##############################################################################
##############################################################################


>>>>>>> 
>>>>>>> INSTALLATION WITH 'R CMD INSTALL --preclean --no-multiarch --library=BBCAnalyzer.buildbin-libdir BBCAnalyzer_1.23.0.tar.gz'
>>>>>>> 

* installing *source* package ‘BBCAnalyzer’ ...
** using staged installation
** R
** inst
** byte-compile and prepare package for lazy loading
** help
*** installing help indices
** building package indices
** installing vignettes
** testing if installed package can be loaded from temporary location
** testing if installed package can be loaded from final location
** testing if installed package keeps a record of temporary installation path
* DONE (BBCAnalyzer)