Back to Multiple platform build/check report for BioC 3.14
A[B]CDEFGHIJKLMNOPQRSTUVWXYZ

This page was generated on 2021-10-18 12:04:26 -0400 (Mon, 18 Oct 2021).

CHECK results for BANDITS on merida1

To the developers/maintainers of the BANDITS package:
- Please allow up to 24 hours (and sometimes 48 hours) for your latest push to git@git.bioconductor.org:packages/BANDITS.git to
reflect on this report. See How and When does the builder pull? When will my changes propagate? here for more information.
- Make sure to use the following settings in order to reproduce any error or warning you see on this page.

raw results

Package 112/2060HostnameOS / ArchINSTALLBUILDCHECKBUILD BIN
BANDITS 1.9.0  (landing page)
Simone Tiberi
Snapshot Date: 2021-10-17 14:50:03 -0400 (Sun, 17 Oct 2021)
git_url: https://git.bioconductor.org/packages/BANDITS
git_branch: master
git_last_commit: ec0eca6
git_last_commit_date: 2021-05-19 12:42:51 -0400 (Wed, 19 May 2021)
nebbiolo2Linux (Ubuntu 20.04.2 LTS) / x86_64  OK    OK    OK  UNNEEDED, same version is already published
riesling1Windows Server 2019 Standard / x64  OK    OK    OK    OK  UNNEEDED, same version is already published
merida1macOS 10.14.6 Mojave / x86_64  OK    OK    OK    OK  UNNEEDED, same version is already published

Summary

Package: BANDITS
Version: 1.9.0
Command: /Library/Frameworks/R.framework/Resources/bin/R CMD check --install=check:BANDITS.install-out.txt --library=/Library/Frameworks/R.framework/Resources/library --no-vignettes --timings BANDITS_1.9.0.tar.gz
StartedAt: 2021-10-18 01:02:47 -0400 (Mon, 18 Oct 2021)
EndedAt: 2021-10-18 01:07:50 -0400 (Mon, 18 Oct 2021)
EllapsedTime: 303.5 seconds
RetCode: 0
Status:   OK  
CheckDir: BANDITS.Rcheck
Warnings: 0

Command output

##############################################################################
##############################################################################
###
### Running command:
###
###   /Library/Frameworks/R.framework/Resources/bin/R CMD check --install=check:BANDITS.install-out.txt --library=/Library/Frameworks/R.framework/Resources/library --no-vignettes --timings BANDITS_1.9.0.tar.gz
###
##############################################################################
##############################################################################


* using log directory ‘/Users/biocbuild/bbs-3.14-bioc/meat/BANDITS.Rcheck’
* using R version 4.1.1 Patched (2021-08-22 r80813)
* using platform: x86_64-apple-darwin17.0 (64-bit)
* using session charset: UTF-8
* using option ‘--no-vignettes’
* checking for file ‘BANDITS/DESCRIPTION’ ... OK
* checking extension type ... Package
* this is package ‘BANDITS’ version ‘1.9.0’
* checking package namespace information ... OK
* checking package dependencies ... OK
* checking if this is a source package ... OK
* checking if there is a namespace ... OK
* checking for hidden files and directories ... OK
* checking for portable file names ... NOTE
Found the following non-portable file paths:
  BANDITS/vignettes/BANDITS_cache/html/Bioconductor_installation_409f5013b2ed8b6621b0f5cabb6bb0f2.RData
  BANDITS/vignettes/BANDITS_cache/html/check_same_order_kallisto_0d7b77803b99d89a19a164d6e2adb17e.RData
  BANDITS/vignettes/BANDITS_cache/html/effective_transcript_length_f0dd83c51d28be6f32b6477011bc6758.RData
  BANDITS/vignettes/BANDITS_cache/html/effective_transcript_length_f0dd83c51d28be6f32b6477011bc6758.rdb
  BANDITS/vignettes/BANDITS_cache/html/effective_transcript_length_f0dd83c51d28be6f32b6477011bc6758.rdx
  BANDITS/vignettes/BANDITS_cache/html/filter_lowly_abundant_transcripts_4fbf247a7586a503defee9019cad5e51.RData
  BANDITS/vignettes/BANDITS_cache/html/filter_lowly_abundant_transcripts_4fbf247a7586a503defee9019cad5e51.rdb
  BANDITS/vignettes/BANDITS_cache/html/filter_lowly_abundant_transcripts_4fbf247a7586a503defee9019cad5e51.rdx
  BANDITS/vignettes/BANDITS_cache/html/gene-transcript_from_fasta_1317f8b51ea9c5e25a7ea9620c461a6b.RData
  BANDITS/vignettes/BANDITS_cache/html/plot_proportions_3_groups_66f63f7cfbf49a9d6de62ee64f896662.RData
  BANDITS/vignettes/BANDITS_cache/html/specify_quantification_path_297b1303f8d92ae0a4219eb0b3db48be.RData
  BANDITS/vignettes/BANDITS_cache/html/specify_quantification_path_297b1303f8d92ae0a4219eb0b3db48be.rdb
  BANDITS/vignettes/BANDITS_cache/html/specify_quantification_path_297b1303f8d92ae0a4219eb0b3db48be.rdx

Tarballs are only required to store paths of up to 100 bytes and cannot
store those of more than 256 bytes, with restrictions including to 100
bytes for the final component.
See section ‘Package structure’ in the ‘Writing R Extensions’ manual.
* checking for sufficient/correct file permissions ... OK
* checking whether package ‘BANDITS’ can be installed ... OK
* checking installed package size ... OK
* checking package directory ... OK
* checking ‘build’ directory ... OK
* checking DESCRIPTION meta-information ... OK
* checking top-level files ... OK
* checking for left-over files ... OK
* checking index information ... OK
* checking package subdirectories ... OK
* checking R files for non-ASCII characters ... OK
* checking R files for syntax errors ... OK
* checking whether the package can be loaded ... OK
* checking whether the package can be loaded with stated dependencies ... OK
* checking whether the package can be unloaded cleanly ... OK
* checking whether the namespace can be loaded with stated dependencies ... OK
* checking whether the namespace can be unloaded cleanly ... OK
* checking dependencies in R code ... NOTE
Namespace in Imports field not imported from: ‘R.utils’
  All declared Imports should be used.
* checking S3 generic/method consistency ... OK
* checking replacement functions ... OK
* checking foreign function calls ... OK
* checking R code for possible problems ... NOTE
infer_one_group: no visible binding for global variable ‘p’
plot_precision: no visible binding for global variable ‘x’
test_DTU: no visible binding for global variable ‘p’
test_DTU_multi_group: no visible binding for global variable ‘p’
Undefined global functions or variables:
  p x
* checking Rd files ... OK
* checking Rd metadata ... OK
* checking Rd cross-references ... OK
* checking for missing documentation entries ... OK
* checking for code/documentation mismatches ... OK
* checking Rd \usage sections ... OK
* checking Rd contents ... OK
* checking for unstated dependencies in examples ... OK
* checking contents of ‘data’ directory ... OK
* checking data for non-ASCII characters ... OK
* checking data for ASCII and uncompressed saves ... OK
* checking line endings in C/C++/Fortran sources/headers ... OK
* checking line endings in Makefiles ... OK
* checking compilation flags in Makevars ... OK
* checking for GNU extensions in Makefiles ... OK
* checking for portable use of $(BLAS_LIBS) and $(LAPACK_LIBS) ... OK
* checking use of PKG_*FLAGS in Makefiles ... OK
* checking compiled code ... NOTE
Note: information on .o files is not available
* checking files in ‘vignettes’ ... OK
* checking examples ... OK
Examples with CPU (user + system) or elapsed time > 5s
                  user system elapsed
prior_precision 84.812 58.093  72.397
create_data      1.309  0.093  17.829
test_DTU         0.215  0.054  17.651
* checking for unstated dependencies in ‘tests’ ... OK
* checking tests ...
  Running ‘testthat.R’
 OK
* checking for unstated dependencies in vignettes ... OK
* checking package vignettes in ‘inst/doc’ ... OK
* checking running R code from vignettes ... SKIPPED
* checking re-building of vignette outputs ... SKIPPED
* checking PDF version of manual ... OK
* DONE

Status: 4 NOTEs
See
  ‘/Users/biocbuild/bbs-3.14-bioc/meat/BANDITS.Rcheck/00check.log’
for details.



Installation output

BANDITS.Rcheck/00install.out

##############################################################################
##############################################################################
###
### Running command:
###
###   /Library/Frameworks/R.framework/Resources/bin/R CMD INSTALL BANDITS
###
##############################################################################
##############################################################################


* installing to library ‘/Library/Frameworks/R.framework/Versions/4.1/Resources/library’
* installing *source* package ‘BANDITS’ ...
** using staged installation
** libs
clang++ -mmacosx-version-min=10.13 -std=gnu++11 -I"/Library/Frameworks/R.framework/Resources/include" -DNDEBUG  -I'/Library/Frameworks/R.framework/Versions/4.1/Resources/library/Rcpp/include' -I'/Library/Frameworks/R.framework/Versions/4.1/Resources/library/RcppArmadillo/include' -I/usr/local/include   -fPIC  -Wall -g -O2  -c RcppExports.cpp -o RcppExports.o
clang++ -mmacosx-version-min=10.13 -std=gnu++11 -I"/Library/Frameworks/R.framework/Resources/include" -DNDEBUG  -I'/Library/Frameworks/R.framework/Versions/4.1/Resources/library/Rcpp/include' -I'/Library/Frameworks/R.framework/Versions/4.1/Resources/library/RcppArmadillo/include' -I/usr/local/include   -fPIC  -Wall -g -O2  -c Rcpp_Together.cpp -o Rcpp_Together.o
clang++ -mmacosx-version-min=10.13 -std=gnu++11 -I"/Library/Frameworks/R.framework/Resources/include" -DNDEBUG  -I'/Library/Frameworks/R.framework/Versions/4.1/Resources/library/Rcpp/include' -I'/Library/Frameworks/R.framework/Versions/4.1/Resources/library/RcppArmadillo/include' -I/usr/local/include   -fPIC  -Wall -g -O2  -c Rcpp_Together_MultiGroup.cpp -o Rcpp_Together_MultiGroup.o
clang++ -mmacosx-version-min=10.13 -std=gnu++11 -I"/Library/Frameworks/R.framework/Resources/include" -DNDEBUG  -I'/Library/Frameworks/R.framework/Versions/4.1/Resources/library/Rcpp/include' -I'/Library/Frameworks/R.framework/Versions/4.1/Resources/library/RcppArmadillo/include' -I/usr/local/include   -fPIC  -Wall -g -O2  -c Rcpp_Unique.cpp -o Rcpp_Unique.o
clang++ -mmacosx-version-min=10.13 -std=gnu++11 -I"/Library/Frameworks/R.framework/Resources/include" -DNDEBUG  -I'/Library/Frameworks/R.framework/Versions/4.1/Resources/library/Rcpp/include' -I'/Library/Frameworks/R.framework/Versions/4.1/Resources/library/RcppArmadillo/include' -I/usr/local/include   -fPIC  -Wall -g -O2  -c Rcpp_Unique_MultiGroup.cpp -o Rcpp_Unique_MultiGroup.o
clang++ -mmacosx-version-min=10.13 -std=gnu++11 -dynamiclib -Wl,-headerpad_max_install_names -undefined dynamic_lookup -single_module -multiply_defined suppress -L/Library/Frameworks/R.framework/Resources/lib -L/usr/local/lib -o BANDITS.so RcppExports.o Rcpp_Together.o Rcpp_Together_MultiGroup.o Rcpp_Unique.o Rcpp_Unique_MultiGroup.o -L/Library/Frameworks/R.framework/Resources/lib -lRlapack -L/Library/Frameworks/R.framework/Resources/lib -lRblas -L/usr/local/gfortran/lib/gcc/x86_64-apple-darwin18/8.2.0 -L/usr/local/gfortran/lib -lgfortran -lquadmath -lm -F/Library/Frameworks/R.framework/.. -framework R -Wl,-framework -Wl,CoreFoundation
installing to /Library/Frameworks/R.framework/Versions/4.1/Resources/library/00LOCK-BANDITS/00new/BANDITS/libs
** R
** data
** inst
** byte-compile and prepare package for lazy loading
** help
*** installing help indices
** building package indices
** installing vignettes
** testing if installed package can be loaded from temporary location
** checking absolute paths in shared objects and dynamic libraries
** testing if installed package can be loaded from final location
** testing if installed package keeps a record of temporary installation path
* DONE (BANDITS)

Tests output

BANDITS.Rcheck/tests/testthat.Rout


R version 4.1.1 Patched (2021-08-22 r80813) -- "Kick Things"
Copyright (C) 2021 The R Foundation for Statistical Computing
Platform: x86_64-apple-darwin17.0 (64-bit)

R is free software and comes with ABSOLUTELY NO WARRANTY.
You are welcome to redistribute it under certain conditions.
Type 'license()' or 'licence()' for distribution details.

R is a collaborative project with many contributors.
Type 'contributors()' for more information and
'citation()' on how to cite R or R packages in publications.

Type 'demo()' for some demos, 'help()' for on-line help, or
'help.start()' for an HTML browser interface to help.
Type 'q()' to quit R.

> library(testthat)
> library(BANDITS)
> test_check("BANDITS")
[ FAIL 0 | WARN 2 | SKIP 0 | PASS 34 ]
> 
> proc.time()
   user  system elapsed 
 14.535  11.296  28.116 

Example timings

BANDITS.Rcheck/BANDITS-Ex.timings

nameusersystemelapsed
BANDITS_data-class0.0060.0010.007
BANDITS_test-class0.5010.0110.512
create_data 1.309 0.09317.829
eff_len_compute0.2000.0170.212
filter_genes0.0120.0000.012
filter_transcripts0.5800.0170.592
gene_tr_id0.0050.0010.006
input_data0.0040.0010.004
plot_precision0.0080.0080.014
precision0.0020.0000.002
prior_precision84.81258.09372.397
results0.0030.0010.004
test_DTU 0.215 0.05417.651